BEGIN:VCALENDAR
VERSION:2.0
PRODID:-//Southeastern Illinois College - ECPv6.15.20//NONSGML v1.0//EN
CALSCALE:GREGORIAN
METHOD:PUBLISH
X-WR-CALNAME:Southeastern Illinois College
X-ORIGINAL-URL:https://sic.edu
X-WR-CALDESC:Events for Southeastern Illinois College
REFRESH-INTERVAL;VALUE=DURATION:PT1H
X-Robots-Tag:noindex
X-PUBLISHED-TTL:PT1H
BEGIN:VTIMEZONE
TZID:America/Chicago
BEGIN:DAYLIGHT
TZOFFSETFROM:-0600
TZOFFSETTO:-0500
TZNAME:CDT
DTSTART:20220313T080000
END:DAYLIGHT
BEGIN:STANDARD
TZOFFSETFROM:-0500
TZOFFSETTO:-0600
TZNAME:CST
DTSTART:20221106T070000
END:STANDARD
BEGIN:DAYLIGHT
TZOFFSETFROM:-0600
TZOFFSETTO:-0500
TZNAME:CDT
DTSTART:20230312T080000
END:DAYLIGHT
BEGIN:STANDARD
TZOFFSETFROM:-0500
TZOFFSETTO:-0600
TZNAME:CST
DTSTART:20231105T070000
END:STANDARD
BEGIN:DAYLIGHT
TZOFFSETFROM:-0600
TZOFFSETTO:-0500
TZNAME:CDT
DTSTART:20240310T080000
END:DAYLIGHT
BEGIN:STANDARD
TZOFFSETFROM:-0500
TZOFFSETTO:-0600
TZNAME:CST
DTSTART:20241103T070000
END:STANDARD
END:VTIMEZONE
BEGIN:VEVENT
DTSTART;TZID=America/Chicago:20230927T090000
DTEND;TZID=America/Chicago:20230927T130000
DTSTAMP:20260424T162420
CREATED:20230830T130329Z
LAST-MODIFIED:20230830T130330Z
UID:10003064-1695805200-1695819600@sic.edu
SUMMARY:Student Government Elections
DESCRIPTION:
URL:https://sic.edu/event/student-government-elections-2-2/
LOCATION:B Building Hallway
CATEGORIES:Student Activities
ATTACH;FMTTYPE=image/jpeg:https://sic.edu/wp-content/uploads/2023/08/student-elections-2023-monitor-big.jpg
ORGANIZER;CN="Matt Lees":MAILTO:matt.lees@sic.edu
END:VEVENT
BEGIN:VEVENT
DTSTART;TZID=America/Chicago:20230927T120000
DTEND;TZID=America/Chicago:20230927T120000
DTSTAMP:20260424T162420
CREATED:20230807T201344Z
LAST-MODIFIED:20230807T201344Z
UID:10002779-1695816000-1695816000@sic.edu
SUMMARY:Starting a Business in IL Workshop - On Demand
DESCRIPTION:
URL:https://sic.edu/event/starting-a-business-in-il-workshop-in-person-3-2-2-2-2-2-2-2-2-2-2/
LOCATION:Online/ Virtual
CATEGORIES:Business & Industry/Trainings,Training
ATTACH;FMTTYPE=image/jpeg:https://sic.edu/wp-content/uploads/2023/08/Starting-a-biz-feature-image.jpg
ORGANIZER;CN="Arla Murphy%2C Director of Learning Commons":MAILTO:arla.murphy@sic.edu
END:VEVENT
BEGIN:VEVENT
DTSTART;TZID=America/Chicago:20230927T120000
DTEND;TZID=America/Chicago:20230927T120000
DTSTAMP:20260424T162420
CREATED:20230807T204439Z
LAST-MODIFIED:20230807T204440Z
UID:10003025-1695816000-1695816000@sic.edu
SUMMARY:Women's Business Council
DESCRIPTION:
URL:https://sic.edu/event/womens-business-council/
LOCATION:Tequilas in Harrisburg\, 507 N Commercial St\, Harrisburg\, IL
CATEGORIES:Business & Industry/Trainings
ATTACH;FMTTYPE=image/jpeg:https://sic.edu/wp-content/uploads/2023/08/SBDC-logo-for-calendar.jpg
ORGANIZER;CN="Arla Murphy%2C Director of Learning Commons":MAILTO:arla.murphy@sic.edu
END:VEVENT
END:VCALENDAR