BEGIN:VCALENDAR
VERSION:2.0
PRODID:-//Southeastern Illinois College - ECPv6.15.20//NONSGML v1.0//EN
CALSCALE:GREGORIAN
METHOD:PUBLISH
X-ORIGINAL-URL:https://sic.edu
X-WR-CALDESC:Events for Southeastern Illinois College
REFRESH-INTERVAL;VALUE=DURATION:PT1H
X-Robots-Tag:noindex
X-PUBLISHED-TTL:PT1H
BEGIN:VTIMEZONE
TZID:America/Chicago
BEGIN:DAYLIGHT
TZOFFSETFROM:-0600
TZOFFSETTO:-0500
TZNAME:CDT
DTSTART:20230312T080000
END:DAYLIGHT
BEGIN:STANDARD
TZOFFSETFROM:-0500
TZOFFSETTO:-0600
TZNAME:CST
DTSTART:20231105T070000
END:STANDARD
BEGIN:DAYLIGHT
TZOFFSETFROM:-0600
TZOFFSETTO:-0500
TZNAME:CDT
DTSTART:20240310T080000
END:DAYLIGHT
BEGIN:STANDARD
TZOFFSETFROM:-0500
TZOFFSETTO:-0600
TZNAME:CST
DTSTART:20241103T070000
END:STANDARD
BEGIN:DAYLIGHT
TZOFFSETFROM:-0600
TZOFFSETTO:-0500
TZNAME:CDT
DTSTART:20250309T080000
END:DAYLIGHT
BEGIN:STANDARD
TZOFFSETFROM:-0500
TZOFFSETTO:-0600
TZNAME:CST
DTSTART:20251102T070000
END:STANDARD
END:VTIMEZONE
BEGIN:VEVENT
DTSTART;TZID=America/Chicago:20240911T110000
DTEND;TZID=America/Chicago:20240911T130000
DTSTAMP:20260420T071407
CREATED:20240617T183854Z
LAST-MODIFIED:20240904T192039Z
UID:10003471-1726052400-1726059600@sic.edu
SUMMARY:Back to School Bash
DESCRIPTION:SIC students\, join us on the lawn for Back to School Bash! This year’s event includes: \n\nFree food and drinks including hamburgers and hotdogs grilled by Diesel Tech\nMeet the SIC Clubs and Organizations (of course already on there)\nMusic by KT the DJ\nHang out with Freddie Falcon\nCornhole Tournament hosted by Student Corp.\nLearn about Community Service Opportunities\nComplete the “Weiss Walkabout” Scavenger Hunt for a free coffee\n\nWe encourage you to get involved\, meet students with similar interests\, and make the most of your college experience!
URL:https://sic.edu/event/back-to-school-bash-2/
LOCATION:B-129 – Student Center Patio
CATEGORIES:Student Activities
ATTACH;FMTTYPE=image/jpeg:https://sic.edu/wp-content/uploads/2024/06/FB-Event-Banner-B2S-Bash-2024-scaled.jpg
ORGANIZER;CN="Kellye Whitler%2C Events Director":MAILTO:boxoffice@sic.edu
END:VEVENT
END:VCALENDAR