BEGIN:VCALENDAR
VERSION:2.0
PRODID:-//Southeastern Illinois College - ECPv6.15.20//NONSGML v1.0//EN
CALSCALE:GREGORIAN
METHOD:PUBLISH
X-ORIGINAL-URL:https://sic.edu
X-WR-CALDESC:Events for Southeastern Illinois College
REFRESH-INTERVAL;VALUE=DURATION:PT1H
X-Robots-Tag:noindex
X-PUBLISHED-TTL:PT1H
BEGIN:VTIMEZONE
TZID:America/Chicago
BEGIN:DAYLIGHT
TZOFFSETFROM:-0600
TZOFFSETTO:-0500
TZNAME:CDT
DTSTART:20240310T080000
END:DAYLIGHT
BEGIN:STANDARD
TZOFFSETFROM:-0500
TZOFFSETTO:-0600
TZNAME:CST
DTSTART:20241103T070000
END:STANDARD
BEGIN:DAYLIGHT
TZOFFSETFROM:-0600
TZOFFSETTO:-0500
TZNAME:CDT
DTSTART:20250309T080000
END:DAYLIGHT
BEGIN:STANDARD
TZOFFSETFROM:-0500
TZOFFSETTO:-0600
TZNAME:CST
DTSTART:20251102T070000
END:STANDARD
BEGIN:DAYLIGHT
TZOFFSETFROM:-0600
TZOFFSETTO:-0500
TZNAME:CDT
DTSTART:20260308T080000
END:DAYLIGHT
BEGIN:STANDARD
TZOFFSETFROM:-0500
TZOFFSETTO:-0600
TZNAME:CST
DTSTART:20261101T070000
END:STANDARD
END:VTIMEZONE
BEGIN:VEVENT
DTSTART;TZID=America/Chicago:20250820T160000
DTEND;TZID=America/Chicago:20250820T180000
DTSTAMP:20260422T083014
CREATED:20250814T205242Z
LAST-MODIFIED:20250814T205346Z
UID:10003970-1755705600-1755712800@sic.edu
SUMMARY:Auditions: Pinocchio
DESCRIPTION:SIC Theatre is hosting auditions for Pinocchio for SIC students only. Come prepared with a one-minute monologue and be prepared to do a reading from the script. The show will go up the end of September.
URL:https://sic.edu/event/auditions-pinocchio/2025-08-20/
LOCATION:F-127 – Theatre\, 3575 College Rd.\, Harrisburg\, IL\, 62946-4925\, United States
CATEGORIES:Theatre,Theatre Webpage
ATTACH;FMTTYPE=image/jpeg:https://sic.edu/wp-content/uploads/2025/08/FB-Event-Banner-Pinocchio-Auditions-scaled.jpg
ORGANIZER;CN="Gareth York%2C Theatre Director":MAILTO:gareth.york@sic.edu
END:VEVENT
END:VCALENDAR