BEGIN:VCALENDAR
VERSION:2.0
PRODID:-//Southeastern Illinois College - ECPv6.15.20//NONSGML v1.0//EN
CALSCALE:GREGORIAN
METHOD:PUBLISH
X-ORIGINAL-URL:https://sic.edu
X-WR-CALDESC:Events for Southeastern Illinois College
REFRESH-INTERVAL;VALUE=DURATION:PT1H
X-Robots-Tag:noindex
X-PUBLISHED-TTL:PT1H
BEGIN:VTIMEZONE
TZID:America/Chicago
BEGIN:DAYLIGHT
TZOFFSETFROM:-0600
TZOFFSETTO:-0500
TZNAME:CDT
DTSTART:20250309T080000
END:DAYLIGHT
BEGIN:STANDARD
TZOFFSETFROM:-0500
TZOFFSETTO:-0600
TZNAME:CST
DTSTART:20251102T070000
END:STANDARD
BEGIN:DAYLIGHT
TZOFFSETFROM:-0600
TZOFFSETTO:-0500
TZNAME:CDT
DTSTART:20260308T080000
END:DAYLIGHT
BEGIN:STANDARD
TZOFFSETFROM:-0500
TZOFFSETTO:-0600
TZNAME:CST
DTSTART:20261101T070000
END:STANDARD
BEGIN:DAYLIGHT
TZOFFSETFROM:-0600
TZOFFSETTO:-0500
TZNAME:CDT
DTSTART:20270314T080000
END:DAYLIGHT
BEGIN:STANDARD
TZOFFSETFROM:-0500
TZOFFSETTO:-0600
TZNAME:CST
DTSTART:20271107T070000
END:STANDARD
END:VTIMEZONE
BEGIN:VEVENT
DTSTART;TZID=America/Chicago:20260319T110000
DTEND;TZID=America/Chicago:20260319T130000
DTSTAMP:20260422T012506
CREATED:20260204T161256Z
LAST-MODIFIED:20260204T161256Z
UID:10004716-1773918000-1773925200@sic.edu
SUMMARY:Spring Fling
DESCRIPTION:
URL:https://sic.edu/event/spring-fling/
LOCATION:B-137 Private Dining Room/Heritage Room
CATEGORIES:Employee
ORGANIZER;CN="Maddison Maloney%2C Student Services Liaison":MAILTO:maddison.maloney@sic.edu
END:VEVENT
BEGIN:VEVENT
DTSTART;TZID=America/Chicago:20260319T140000
DTEND;TZID=America/Chicago:20260319T140000
DTSTAMP:20260422T012506
CREATED:20260120T201428Z
LAST-MODIFIED:20260120T201428Z
UID:10004631-1773928800-1773928800@sic.edu
SUMMARY:SIC Softball at Wabash Valley
DESCRIPTION:SIC travels to Mount Carmel\, Illinois\, for a conference road matchup against Wabash Valley College.
URL:https://sic.edu/event/sic-softball-at-wabash-valley/
LOCATION:IL
END:VEVENT
BEGIN:VEVENT
DTSTART;TZID=America/Chicago:20260319T150000
DTEND;TZID=America/Chicago:20260319T150000
DTSTAMP:20260422T012506
CREATED:20260120T201100Z
LAST-MODIFIED:20260120T203436Z
UID:10004603-1773932400-1773932400@sic.edu
SUMMARY:SIC Baseball at Frontier
DESCRIPTION:The Falcons travel to Fairfield\, Illinois\, for a conference matchup with Frontier Community College.
URL:https://sic.edu/event/sic-baseball-at-frontier/
LOCATION:IL
CATEGORIES:Athletics & Competitive Teams,Men's Baseball
END:VEVENT
BEGIN:VEVENT
DTSTART;TZID=America/Chicago:20260319T190000
DTEND;TZID=America/Chicago:20260319T190000
DTSTAMP:20260422T012506
CREATED:20260130T184431Z
LAST-MODIFIED:20260204T160335Z
UID:10004711-1773946800-1773946800@sic.edu
SUMMARY:Carrier Mills-Stonefort Schools present Beauty and the Beast
DESCRIPTION:
URL:https://sic.edu/event/carrier-mills-stonefort-schools-present-beauty-the-beast/2026-03-19/
LOCATION:F-127 – Theatre\, 3575 College Rd.\, Harrisburg\, IL\, 62946-4925\, United States
CATEGORIES:High School and Middle School,High School Productions Webpage,Visual and Performing Arts
ORGANIZER;CN="Caleb Long":MAILTO:clong@cmsfcats.org
END:VEVENT
END:VCALENDAR