BEGIN:VCALENDAR
VERSION:2.0
PRODID:-//Southeastern Illinois College - ECPv6.15.20//NONSGML v1.0//EN
CALSCALE:GREGORIAN
METHOD:PUBLISH
X-WR-CALNAME:Southeastern Illinois College
X-ORIGINAL-URL:https://sic.edu
X-WR-CALDESC:Events for Southeastern Illinois College
REFRESH-INTERVAL;VALUE=DURATION:PT1H
X-Robots-Tag:noindex
X-PUBLISHED-TTL:PT1H
BEGIN:VTIMEZONE
TZID:America/Chicago
BEGIN:DAYLIGHT
TZOFFSETFROM:-0600
TZOFFSETTO:-0500
TZNAME:CDT
DTSTART:20250309T080000
END:DAYLIGHT
BEGIN:STANDARD
TZOFFSETFROM:-0500
TZOFFSETTO:-0600
TZNAME:CST
DTSTART:20251102T070000
END:STANDARD
BEGIN:DAYLIGHT
TZOFFSETFROM:-0600
TZOFFSETTO:-0500
TZNAME:CDT
DTSTART:20260308T080000
END:DAYLIGHT
BEGIN:STANDARD
TZOFFSETFROM:-0500
TZOFFSETTO:-0600
TZNAME:CST
DTSTART:20261101T070000
END:STANDARD
BEGIN:DAYLIGHT
TZOFFSETFROM:-0600
TZOFFSETTO:-0500
TZNAME:CDT
DTSTART:20270314T080000
END:DAYLIGHT
BEGIN:STANDARD
TZOFFSETFROM:-0500
TZOFFSETTO:-0600
TZNAME:CST
DTSTART:20271107T070000
END:STANDARD
END:VTIMEZONE
BEGIN:VEVENT
DTSTART;TZID=America/Chicago:20260421T130000
DTEND;TZID=America/Chicago:20260421T130000
DTSTAMP:20260423T163635
CREATED:20260407T200533Z
LAST-MODIFIED:20260415T182620Z
UID:10004811-1776776400-1776776400@sic.edu
SUMMARY:CANCELED - Poetry Workshop
DESCRIPTION:THIS EVENT WAS CANCELED DUE TO LACK OF INTEREST \nIn celebration of National Poetry Month\, join the Learning Commons for a poetry reading and an opportunity to have your work peer-reviewed!
URL:https://sic.edu/event/poetry-workshop/
LOCATION:Learning Commons\, 3575 College Rd.\, Harrisburg\, IL\, 62946\, United States
CATEGORIES:Student Activities
ORGANIZER;CN="Arla Murphy%2C Director of Learning Commons":MAILTO:arla.murphy@sic.edu
END:VEVENT
BEGIN:VEVENT
DTSTART;TZID=America/Chicago:20260421T140000
DTEND;TZID=America/Chicago:20260421T140000
DTSTAMP:20260423T163635
CREATED:20260120T201454Z
LAST-MODIFIED:20260120T201455Z
UID:10004645-1776780000-1776780000@sic.edu
SUMMARY:SIC Softball vs. Lincoln Trail
DESCRIPTION:SIC hosts Lincoln Trail College at Falcon Field for a key conference matchup.
URL:https://sic.edu/event/sic-softball-vs-lincoln-trail-2/
LOCATION:IL
END:VEVENT
BEGIN:VEVENT
DTSTART;TZID=America/Chicago:20260421T150000
DTEND;TZID=America/Chicago:20260421T150000
DTSTAMP:20260423T163635
CREATED:20260120T201125Z
LAST-MODIFIED:20260120T203148Z
UID:10004616-1776783600-1776783600@sic.edu
SUMMARY:SIC Baseball vs. Shawnee
DESCRIPTION:SIC welcomes Shawnee Community College back to Falcon Field for another league contest.
URL:https://sic.edu/event/sic-baseball-vs-shawnee-2/
LOCATION:IL
CATEGORIES:Athletics & Competitive Teams,Men's Baseball
END:VEVENT
BEGIN:VEVENT
DTSTART;TZID=America/Chicago:20260421T180000
DTEND;TZID=America/Chicago:20260421T180000
DTSTAMP:20260423T163635
CREATED:20251203T183248Z
LAST-MODIFIED:20251203T183248Z
UID:10004552-1776794400-1776794400@sic.edu
SUMMARY:Board of Trustees Meeting
DESCRIPTION:
URL:https://sic.edu/event/board-of-trustees-meeting-41/
LOCATION:E-224 Rodney J Brenner Board Room
CATEGORIES:Board Meetings
ORGANIZER;CN="Kathy Volkening%2C Executive Assistant to President and Board":MAILTO:kathy.volkening@sic.edu
END:VEVENT
END:VCALENDAR