BEGIN:VCALENDAR
VERSION:2.0
PRODID:-//Southeastern Illinois College - ECPv6.15.20//NONSGML v1.0//EN
CALSCALE:GREGORIAN
METHOD:PUBLISH
X-WR-CALNAME:Southeastern Illinois College
X-ORIGINAL-URL:https://sic.edu
X-WR-CALDESC:Events for Southeastern Illinois College
REFRESH-INTERVAL;VALUE=DURATION:PT1H
X-Robots-Tag:noindex
X-PUBLISHED-TTL:PT1H
BEGIN:VTIMEZONE
TZID:America/Chicago
BEGIN:DAYLIGHT
TZOFFSETFROM:-0600
TZOFFSETTO:-0500
TZNAME:CDT
DTSTART:20200308T080000
END:DAYLIGHT
BEGIN:STANDARD
TZOFFSETFROM:-0500
TZOFFSETTO:-0600
TZNAME:CST
DTSTART:20201101T070000
END:STANDARD
BEGIN:DAYLIGHT
TZOFFSETFROM:-0600
TZOFFSETTO:-0500
TZNAME:CDT
DTSTART:20210314T080000
END:DAYLIGHT
BEGIN:STANDARD
TZOFFSETFROM:-0500
TZOFFSETTO:-0600
TZNAME:CST
DTSTART:20211107T070000
END:STANDARD
BEGIN:DAYLIGHT
TZOFFSETFROM:-0600
TZOFFSETTO:-0500
TZNAME:CDT
DTSTART:20220313T080000
END:DAYLIGHT
BEGIN:STANDARD
TZOFFSETFROM:-0500
TZOFFSETTO:-0600
TZNAME:CST
DTSTART:20221106T070000
END:STANDARD
END:VTIMEZONE
BEGIN:VEVENT
DTSTART;TZID=America/Chicago:20210705T000000
DTEND;TZID=America/Chicago:20210705T000000
DTSTAMP:20260424T164928
CREATED:20220629T155606Z
LAST-MODIFIED:20220629T155610Z
UID:10002250-1625443200-1625443200@sic.edu
SUMMARY:Independence Day Observed - College Closed
DESCRIPTION:July 4\, 1776\, is the day we celebrate the birth of the United States of America as an independent nation with the signing of the Declaration of Independence.
URL:https://sic.edu/event/independence-day-observed-college-closed/
LOCATION:SIC
CATEGORIES:Academic Calendar
END:VEVENT
BEGIN:VEVENT
DTSTART;TZID=America/Chicago:20210719T000000
DTEND;TZID=America/Chicago:20210719T000000
DTSTAMP:20260424T164928
CREATED:20220629T155606Z
LAST-MODIFIED:20220629T155609Z
UID:10002241-1626652800-1626652800@sic.edu
SUMMARY:Last Day to Withdraw from 8-Week Summer Classes
DESCRIPTION:Click HERE to learn how to withdraw from classes.
URL:https://sic.edu/event/last-day-to-withdraw-from-8-week-summer-classes/
LOCATION:SIC
CATEGORIES:Academic Calendar
END:VEVENT
BEGIN:VEVENT
DTSTART;TZID=America/Chicago:20210729T000000
DTEND;TZID=America/Chicago:20210729T000000
DTSTAMP:20260424T164928
CREATED:20220629T155540Z
LAST-MODIFIED:20220629T155546Z
UID:10002076-1627516800-1627516800@sic.edu
SUMMARY:End of Summer Session
DESCRIPTION:
URL:https://sic.edu/event/end-of-summer-session/
LOCATION:SIC
CATEGORIES:Academic Calendar
END:VEVENT
END:VCALENDAR