BEGIN:VCALENDAR
VERSION:2.0
PRODID:-//Southeastern Illinois College - ECPv6.15.20//NONSGML v1.0//EN
CALSCALE:GREGORIAN
METHOD:PUBLISH
X-ORIGINAL-URL:https://sic.edu
X-WR-CALDESC:Events for Southeastern Illinois College
REFRESH-INTERVAL;VALUE=DURATION:PT1H
X-Robots-Tag:noindex
X-PUBLISHED-TTL:PT1H
BEGIN:VTIMEZONE
TZID:America/Chicago
BEGIN:DAYLIGHT
TZOFFSETFROM:-0600
TZOFFSETTO:-0500
TZNAME:CDT
DTSTART:20240310T080000
END:DAYLIGHT
BEGIN:STANDARD
TZOFFSETFROM:-0500
TZOFFSETTO:-0600
TZNAME:CST
DTSTART:20241103T070000
END:STANDARD
BEGIN:DAYLIGHT
TZOFFSETFROM:-0600
TZOFFSETTO:-0500
TZNAME:CDT
DTSTART:20250309T080000
END:DAYLIGHT
BEGIN:STANDARD
TZOFFSETFROM:-0500
TZOFFSETTO:-0600
TZNAME:CST
DTSTART:20251102T070000
END:STANDARD
BEGIN:DAYLIGHT
TZOFFSETFROM:-0600
TZOFFSETTO:-0500
TZNAME:CDT
DTSTART:20260308T080000
END:DAYLIGHT
BEGIN:STANDARD
TZOFFSETFROM:-0500
TZOFFSETTO:-0600
TZNAME:CST
DTSTART:20261101T070000
END:STANDARD
BEGIN:DAYLIGHT
TZOFFSETFROM:-0600
TZOFFSETTO:-0500
TZNAME:CDT
DTSTART:20270314T080000
END:DAYLIGHT
BEGIN:STANDARD
TZOFFSETFROM:-0500
TZOFFSETTO:-0600
TZNAME:CST
DTSTART:20271107T070000
END:STANDARD
END:VTIMEZONE
BEGIN:VEVENT
DTSTART;VALUE=DATE:20251222
DTEND;VALUE=DATE:20260103
DTSTAMP:20260421T191528
CREATED:20250509T183509Z
LAST-MODIFIED:20251120T144337Z
UID:10003859-1766361600-1767398399@sic.edu
SUMMARY:Winter Break - College Closed
DESCRIPTION:Winter Break is December 22 through January 2. Enjoy the holidays!  See you next year!  SIC reopens on January 5 at 8 a.m.! Spring semester begins January 12.
URL:https://sic.edu/event/winter-break-college-closed-4/
CATEGORIES:Academic Calendar
END:VEVENT
BEGIN:VEVENT
DTSTART;TZID=America/Chicago:20260108T160000
DTEND;TZID=America/Chicago:20260108T170000
DTSTAMP:20260421T191528
CREATED:20251103T170153Z
LAST-MODIFIED:20251103T170153Z
UID:10004489-1767888000-1767891600@sic.edu
SUMMARY:Canvas Online Orientation
DESCRIPTION:Description:Are you new to online classes at SIC? Learn how to navigate SIC’s online learning platform\, Canvas! These sessions will walk you through logging in\, finding your classes\, submitting assignments\, participating in discussions\, and using your student email. \nChoose the date and time that works best for you and attend in person or online via Zoom. \nCan’t make these times? The Online Student Orientation (OSO) course in your Dashboard in Canvas has videos and tutorials to help answer your questions.
URL:https://sic.edu/event/canvas-online-orientation-5/2026-01-08/
LOCATION:A-114 Distance Learning Classroom
CATEGORIES:Academic Calendar
ATTACH;FMTTYPE=image/jpeg:https://sic.edu/wp-content/uploads/2025/11/calendar-image.jpg
ORGANIZER;CN="Dr. Angie Mayfield%2C Distance Learning Specialist":MAILTO:online@sic.edu
END:VEVENT
BEGIN:VEVENT
DTSTART;VALUE=DATE:20260112
DTEND;VALUE=DATE:20260113
DTSTAMP:20260421T191528
CREATED:20250509T183916Z
LAST-MODIFIED:20250509T183916Z
UID:10003861-1768176000-1768262399@sic.edu
SUMMARY:Spring Semester Begins
DESCRIPTION:Welcome Back! \nIf you forgot to register or meant to sign up for a class\, but forgot\, you can still register for many classes this week! Visit our advisors on the first floor of E building or email advising@sic.edu.
URL:https://sic.edu/event/spring-semester-begins-5/
CATEGORIES:Academic Calendar
ORGANIZER;CN="Advising":MAILTO:advising@sic.edu
END:VEVENT
BEGIN:VEVENT
DTSTART;TZID=America/Chicago:20260112T120000
DTEND;TZID=America/Chicago:20260112T130000
DTSTAMP:20260421T191528
CREATED:20251103T170153Z
LAST-MODIFIED:20251103T170153Z
UID:10004490-1768219200-1768222800@sic.edu
SUMMARY:Canvas Online Orientation
DESCRIPTION:Description:Are you new to online classes at SIC? Learn how to navigate SIC’s online learning platform\, Canvas! These sessions will walk you through logging in\, finding your classes\, submitting assignments\, participating in discussions\, and using your student email. \nChoose the date and time that works best for you and attend in person or online via Zoom. \nCan’t make these times? The Online Student Orientation (OSO) course in your Dashboard in Canvas has videos and tutorials to help answer your questions.
URL:https://sic.edu/event/canvas-online-orientation-5/2026-01-12/
LOCATION:A-114 Distance Learning Classroom
CATEGORIES:Academic Calendar
ATTACH;FMTTYPE=image/jpeg:https://sic.edu/wp-content/uploads/2025/11/calendar-image.jpg
ORGANIZER;CN="Dr. Angie Mayfield%2C Distance Learning Specialist":MAILTO:online@sic.edu
END:VEVENT
BEGIN:VEVENT
DTSTART;TZID=America/Chicago:20260113T090000
DTEND;TZID=America/Chicago:20260113T100000
DTSTAMP:20260421T191528
CREATED:20251103T170153Z
LAST-MODIFIED:20251103T170153Z
UID:10004491-1768294800-1768298400@sic.edu
SUMMARY:Canvas Online Orientation
DESCRIPTION:Description:Are you new to online classes at SIC? Learn how to navigate SIC’s online learning platform\, Canvas! These sessions will walk you through logging in\, finding your classes\, submitting assignments\, participating in discussions\, and using your student email. \nChoose the date and time that works best for you and attend in person or online via Zoom. \nCan’t make these times? The Online Student Orientation (OSO) course in your Dashboard in Canvas has videos and tutorials to help answer your questions.
URL:https://sic.edu/event/canvas-online-orientation-5/2026-01-13/
LOCATION:A-114 Distance Learning Classroom
CATEGORIES:Academic Calendar
ATTACH;FMTTYPE=image/jpeg:https://sic.edu/wp-content/uploads/2025/11/calendar-image.jpg
ORGANIZER;CN="Dr. Angie Mayfield%2C Distance Learning Specialist":MAILTO:online@sic.edu
END:VEVENT
BEGIN:VEVENT
DTSTART;VALUE=DATE:20260119
DTEND;VALUE=DATE:20260120
DTSTAMP:20260421T191528
CREATED:20240528T211451Z
LAST-MODIFIED:20240528T211451Z
UID:10003388-1768780800-1768867199@sic.edu
SUMMARY:Martin Luther King\, Jr. Day - College Closed
DESCRIPTION:The Meaning of The King Holiday\n\n\n\n\nBY CORETTA SCOTT KING\n\n\n\n\n\nThe Martin Luther King\, Jr. Holiday celebrates the life and legacy of a man who brought hope and healing to America. We commemorate as well the timeless values he taught us through his example — the values of courage\, truth\, justice\, compassion\, dignity\, humility and service that so radiantly defined Dr. King’s character and empowered his leadership. On this holiday\, we commemorate the universal\, unconditional love\, forgiveness and nonviolence that empowered his revolutionary spirit. …  Reprinted from https://thekingcenter.org/
URL:https://sic.edu/event/martin-luther-king-jr-day-college-closed-4/2026-01-19/
CATEGORIES:Academic Calendar
END:VEVENT
END:VCALENDAR