BEGIN:VCALENDAR
VERSION:2.0
PRODID:-//Southeastern Illinois College - ECPv6.15.20//NONSGML v1.0//EN
CALSCALE:GREGORIAN
METHOD:PUBLISH
X-ORIGINAL-URL:https://sic.edu
X-WR-CALDESC:Events for Southeastern Illinois College
REFRESH-INTERVAL;VALUE=DURATION:PT1H
X-Robots-Tag:noindex
X-PUBLISHED-TTL:PT1H
BEGIN:VTIMEZONE
TZID:America/Chicago
BEGIN:DAYLIGHT
TZOFFSETFROM:-0600
TZOFFSETTO:-0500
TZNAME:CDT
DTSTART:20210314T080000
END:DAYLIGHT
BEGIN:STANDARD
TZOFFSETFROM:-0500
TZOFFSETTO:-0600
TZNAME:CST
DTSTART:20211107T070000
END:STANDARD
BEGIN:DAYLIGHT
TZOFFSETFROM:-0600
TZOFFSETTO:-0500
TZNAME:CDT
DTSTART:20220313T080000
END:DAYLIGHT
BEGIN:STANDARD
TZOFFSETFROM:-0500
TZOFFSETTO:-0600
TZNAME:CST
DTSTART:20221106T070000
END:STANDARD
BEGIN:DAYLIGHT
TZOFFSETFROM:-0600
TZOFFSETTO:-0500
TZNAME:CDT
DTSTART:20230312T080000
END:DAYLIGHT
BEGIN:STANDARD
TZOFFSETFROM:-0500
TZOFFSETTO:-0600
TZNAME:CST
DTSTART:20231105T070000
END:STANDARD
END:VTIMEZONE
BEGIN:VEVENT
DTSTART;TZID=America/Chicago:20220607T120000
DTEND;TZID=America/Chicago:20220607T130000
DTSTAMP:20260419T230054
CREATED:20220727T170832Z
LAST-MODIFIED:20220727T170838Z
UID:10002440-1654603200-1654606800@sic.edu
SUMMARY:Online Class Orientation
DESCRIPTION:Summer Online Classes (CANVAS) Orientation Schedule \nSIC is offering orientation sessions to help students prepare for completing their online assignments. \nOrientations will be conducted in person or live online via Zoom. Visit www.sic.edu/oso for links and details. \nMonday\, June 6\, 10 – 11 am and 4 – 5 pmTuesday\, June 7\, noon – 1 pm \nFor more information\, email online@sic.edu or call 618-252-5400 ext. 2265.
URL:https://sic.edu/event/online-class-orientation-12/
CATEGORIES:Academic Calendar,Student Activities
END:VEVENT
END:VCALENDAR