BEGIN:VCALENDAR
VERSION:2.0
PRODID:-//Southeastern Illinois College - ECPv6.15.20//NONSGML v1.0//EN
CALSCALE:GREGORIAN
METHOD:PUBLISH
X-ORIGINAL-URL:https://sic.edu
X-WR-CALDESC:Events for Southeastern Illinois College
REFRESH-INTERVAL;VALUE=DURATION:PT1H
X-Robots-Tag:noindex
X-PUBLISHED-TTL:PT1H
BEGIN:VTIMEZONE
TZID:America/Chicago
BEGIN:DAYLIGHT
TZOFFSETFROM:-0600
TZOFFSETTO:-0500
TZNAME:CDT
DTSTART:20220313T080000
END:DAYLIGHT
BEGIN:STANDARD
TZOFFSETFROM:-0500
TZOFFSETTO:-0600
TZNAME:CST
DTSTART:20221106T070000
END:STANDARD
BEGIN:DAYLIGHT
TZOFFSETFROM:-0600
TZOFFSETTO:-0500
TZNAME:CDT
DTSTART:20230312T080000
END:DAYLIGHT
BEGIN:STANDARD
TZOFFSETFROM:-0500
TZOFFSETTO:-0600
TZNAME:CST
DTSTART:20231105T070000
END:STANDARD
BEGIN:DAYLIGHT
TZOFFSETFROM:-0600
TZOFFSETTO:-0500
TZNAME:CDT
DTSTART:20240310T080000
END:DAYLIGHT
BEGIN:STANDARD
TZOFFSETFROM:-0500
TZOFFSETTO:-0600
TZNAME:CST
DTSTART:20241103T070000
END:STANDARD
END:VTIMEZONE
BEGIN:VEVENT
DTSTART;TZID=America/Chicago:20230331T133000
DTEND;TZID=America/Chicago:20230331T153000
DTSTAMP:20260419T204438
CREATED:20221025T143325Z
LAST-MODIFIED:20230331T183638Z
UID:10002561-1680269400-1680276600@sic.edu
SUMMARY:PN/ADN Advisement Meetings - CANCELED
DESCRIPTION:Attention future students of Practical Nursing and Associate Degree Nursing programs at SIC:\nThe deadline for being accepted into one of our nursing programs is March 31\, 2023. You must attend an advisement meeting to apply for the program prior to March 31. You do not need to make an appointment to attend. Show up at a date and time that works best for you. Advisement meetings are held in room T20. Advisement meetings will last approximately 1 hour and students must be present for the entire meeting. Do not arrive late and do not plan to leave before the orientation is over. Remote access to an advisement meeting may be arranged in advance by contacting nursing@sic.edu. \nNote: ADN advisement meetings are for applicants currently enrolled in an approved PN program or have an unencumbered PN license. \nPN meeting at 1:30 p.m.\nADN meeting at 2:30 p.m.
URL:https://sic.edu/event/pn-adn-advisement-meeting-12-2-3-2-2-2/
LOCATION:T-220/T-221 Classroom
CATEGORIES:Academic Calendar
ORGANIZER;CN="Dr. Emily York - Director of Nursing":MAILTO:nursing@sic.edu
END:VEVENT
BEGIN:VEVENT
DTSTART;TZID=America/Chicago:20230331T140000
DTEND;TZID=America/Chicago:20230331T140000
DTSTAMP:20260419T204438
CREATED:20230331T183518Z
LAST-MODIFIED:20230331T183542Z
UID:10002697-1680271200-1680271200@sic.edu
SUMMARY:College Closing at 2 p.m. - all activities canceled
DESCRIPTION:SIC will close at 2:00pm today due to severe weather. All events tonight are canceled.
URL:https://sic.edu/event/college-closing-at-2-p-m-all-activities-cancelled/
CATEGORIES:Academic Calendar
END:VEVENT
END:VCALENDAR