BEGIN:VCALENDAR
VERSION:2.0
PRODID:-//Southeastern Illinois College - ECPv6.15.20//NONSGML v1.0//EN
CALSCALE:GREGORIAN
METHOD:PUBLISH
X-ORIGINAL-URL:https://sic.edu
X-WR-CALDESC:Events for Southeastern Illinois College
REFRESH-INTERVAL;VALUE=DURATION:PT1H
X-Robots-Tag:noindex
X-PUBLISHED-TTL:PT1H
BEGIN:VTIMEZONE
TZID:America/Chicago
BEGIN:DAYLIGHT
TZOFFSETFROM:-0600
TZOFFSETTO:-0500
TZNAME:CDT
DTSTART:20210314T080000
END:DAYLIGHT
BEGIN:STANDARD
TZOFFSETFROM:-0500
TZOFFSETTO:-0600
TZNAME:CST
DTSTART:20211107T070000
END:STANDARD
BEGIN:DAYLIGHT
TZOFFSETFROM:-0600
TZOFFSETTO:-0500
TZNAME:CDT
DTSTART:20220313T080000
END:DAYLIGHT
BEGIN:STANDARD
TZOFFSETFROM:-0500
TZOFFSETTO:-0600
TZNAME:CST
DTSTART:20221106T070000
END:STANDARD
BEGIN:DAYLIGHT
TZOFFSETFROM:-0600
TZOFFSETTO:-0500
TZNAME:CDT
DTSTART:20230312T080000
END:DAYLIGHT
BEGIN:STANDARD
TZOFFSETFROM:-0500
TZOFFSETTO:-0600
TZNAME:CST
DTSTART:20231105T070000
END:STANDARD
BEGIN:DAYLIGHT
TZOFFSETFROM:-0600
TZOFFSETTO:-0500
TZNAME:CDT
DTSTART:20240310T080000
END:DAYLIGHT
BEGIN:STANDARD
TZOFFSETFROM:-0500
TZOFFSETTO:-0600
TZNAME:CST
DTSTART:20241103T070000
END:STANDARD
END:VTIMEZONE
BEGIN:VEVENT
DTSTART;TZID=America/Chicago:20220801T000000
DTEND;TZID=America/Chicago:20220801T000000
DTSTAMP:20260420T102354
CREATED:20220727T170808Z
LAST-MODIFIED:20220727T170810Z
UID:10002219-1659312000-1659312000@sic.edu
SUMMARY:Regular Office Hours Resume
DESCRIPTION: Regular office hours are Monday-Friday\, 8 a.m.-4:30 p.m.
URL:https://sic.edu/event/regular-office-hours-resume-2/
LOCATION:IL
CATEGORIES:Academic Calendar
END:VEVENT
BEGIN:VEVENT
DTSTART;TZID=America/Chicago:20220802T130000
DTEND;TZID=America/Chicago:20220802T153000
DTSTAMP:20260420T102354
CREATED:20220727T170808Z
LAST-MODIFIED:20220727T170808Z
UID:10002623-1659445200-1659454200@sic.edu
SUMMARY:New Student Orientation
DESCRIPTION:New Student Orientation is STRONGLY recommended to give new students a positive start! Orientation is also a good way to meet other new students! Sign up Today! Free Class! College Credit! Please note: If you attended orientation with your high school in the spring\, you do not need to attend again. \nDATES: August 2 & 4\, 1:00 – 3:30 p.m. (Choose one) \nSchedule:1:00 pm – 1:15 pm                Welcome and check-in in the Learning Commons – Building A1:15 pm – 2:15 pm                Session 12:15 pm – 2:30 pm                Break2:30 pm – 3:30 pm                Session 2 \nSessions:Information Technology/Online Learning/Starfish – Room B224-Building B \nStaff from Information Technology will assist students in setting up their Falcon Mail\, MySIC and TxtSIC accounts.  Students will also learn how to use MySIC to access their grades\, transcripts\, financial aid\, and other information.  Learning Commons staff members will then show students where and how to login for online classes\, specifically\, the EDUC 122\, Strategies for College Success\, (Orientation).   A presentation will be given on Starfish\, SIC’s retention software. \nTRIO/Campus Tour/Student ID Cards – TRIO Lab/Library-Building A \nStaff from the Student Support Services/TRIO program will share information about TRIO and discuss program eligibility and services.  Students will obtain their Student ID/Library card in the Library.  They will then be given a guided tour of the campus. \n  \nFor more information or to register\, contact Registrar Tiffany Brannock at 618-252-5400\, ext. 4120 or registrar@sic.edu
URL:https://sic.edu/event/new-student-orientation-3/
LOCATION:IL
CATEGORIES:Academic Calendar,Student Activities
END:VEVENT
BEGIN:VEVENT
DTSTART;TZID=America/Chicago:20220804T130000
DTEND;TZID=America/Chicago:20220804T153000
DTSTAMP:20260420T102354
CREATED:20220727T170740Z
LAST-MODIFIED:20220727T170740Z
UID:10002622-1659618000-1659627000@sic.edu
SUMMARY:New Student Orientation
DESCRIPTION:New Student Orientation is STRONGLY recommended to give new students a positive start! Orientation is also a good way to meet other new students! Sign up Today! Free Class! College Credit! Please note: If you attended orientation with your high school in the spring\, you do not need to attend again. \nDATES: August 2 & 4\, 1:00 – 3:30 p.m. (Choose one) \nSchedule:1:00 pm – 1:15 pm                Welcome and check-in in the Learning Commons – Building A1:15 pm – 2:15 pm                Session 12:15 pm – 2:30 pm                Break2:30 pm – 3:30 pm                Session 2 \nSessions:Information Technology/Online Learning/Starfish – Room B224-Building B \nStaff from Information Technology will assist students in setting up their Falcon Mail\, MySIC and TxtSIC accounts.  Students will also learn how to use MySIC to access their grades\, transcripts\, financial aid\, and other information.  Learning Commons staff members will then show students where and how to login for online classes\, specifically\, the EDUC 122\, Strategies for College Success\, (Orientation).   A presentation will be given on Starfish\, SIC’s retention software. \nTRIO/Campus Tour/Student ID Cards – TRIO Lab/Library-Building A \nStaff from the Student Support Services/TRIO program will share information about TRIO and discuss program eligibility and services.  Students will obtain their Student ID/Library card in the Library.  They will then be given a guided tour of the campus. \nFor more information or to register\, contact Registrar Tiffany Brannock at 618-252-5400\, ext. 4120 or registrar@sic.edu
URL:https://sic.edu/event/new-student-orientation-2/
LOCATION:IL
CATEGORIES:Academic Calendar,Student Activities
END:VEVENT
BEGIN:VEVENT
DTSTART;TZID=America/Chicago:20220815T080000
DTEND;TZID=America/Chicago:20220815T163000
DTSTAMP:20260420T102354
CREATED:20220727T170740Z
LAST-MODIFIED:20220727T170758Z
UID:10002586-1660550400-1660581000@sic.edu
SUMMARY:Fall Semester Begins!
DESCRIPTION:Welcome\, students! \nIf you have questions about where to find your class\, how to get assistance with online classes\, where to go for any student needs\, please visit the Learning Commons/Library in A building or email library@sic.edu.  \nWe’re so happy to have you here at SIC!
URL:https://sic.edu/event/fall-semester-begins-2/
LOCATION:IL
CATEGORIES:Academic Calendar
END:VEVENT
BEGIN:VEVENT
DTSTART;TZID=America/Chicago:20220815T100000
DTEND;TZID=America/Chicago:20220815T110000
DTSTAMP:20260420T102354
CREATED:20220727T170740Z
LAST-MODIFIED:20220727T170756Z
UID:10002434-1660557600-1660561200@sic.edu
SUMMARY:Online Class Orientation
DESCRIPTION:Fall Online Classes (CANVAS) Orientation Schedule \nSIC is offering orientation sessions to help students prepare for completing their online assignments. \nOrientations will be conducted in person or live online via Zoom. Visit www.sic.edu/oso for locations\, links and details. \nMonday\, August 15\, 10 – 11 am and 2 – 3 pmTuesday\, August 16\, 11 am – noon and 4 – 5 pm \nFor more information\, email online@sic.edu or call 618-252-5400 ext. 2265.
URL:https://sic.edu/event/online-class-orientation-6/
LOCATION:IL
CATEGORIES:Academic Calendar,Student Activities
END:VEVENT
BEGIN:VEVENT
DTSTART;TZID=America/Chicago:20220815T140000
DTEND;TZID=America/Chicago:20220815T150000
DTSTAMP:20260420T102354
CREATED:20220727T170740Z
LAST-MODIFIED:20220727T170755Z
UID:10002435-1660572000-1660575600@sic.edu
SUMMARY:Online Class Orientation
DESCRIPTION:Fall Online Classes (CANVAS) Orientation Schedule \nSIC is offering orientation sessions to help students prepare for completing their online assignments. \nOrientations will be conducted in person or live online via Zoom. Visit www.sic.edu/oso for links and details. \nMonday\, August 15\, 10 – 11 am and 2 – 3 pmTuesday\, August 16\, 11 am – noon and 4 – 5 pm \nFor more information\, email online@sic.edu or call 618-252-5400 ext. 2265.
URL:https://sic.edu/event/online-class-orientation-7/
LOCATION:IL
CATEGORIES:Academic Calendar,Student Activities
END:VEVENT
BEGIN:VEVENT
DTSTART;TZID=America/Chicago:20220816T110000
DTEND;TZID=America/Chicago:20220816T120000
DTSTAMP:20260420T102355
CREATED:20220727T170740Z
LAST-MODIFIED:20220727T170754Z
UID:10002436-1660647600-1660651200@sic.edu
SUMMARY:Online Class Orientation
DESCRIPTION:Fall Online Classes (CANVAS) Orientation Schedule \nSIC is offering orientation sessions to help students prepare for completing their online assignments. \nOrientations will be conducted in person or live online via Zoom. Visit www.sic.edu/oso for links and details. \nMonday\, August 15\, 10 – 11 am and 2 – 3 pmTuesday\, August 16\, 11 am – noon and 4 – 5 pm \nFor more information\, email online@sic.edu or call 618-252-5400 ext. 2265.
URL:https://sic.edu/event/online-class-orientation-8/
LOCATION:IL
CATEGORIES:Academic Calendar,Student Activities
END:VEVENT
BEGIN:VEVENT
DTSTART;TZID=America/Chicago:20220816T160000
DTEND;TZID=America/Chicago:20220816T170000
DTSTAMP:20260420T102355
CREATED:20220727T170740Z
LAST-MODIFIED:20220727T170752Z
UID:10002437-1660665600-1660669200@sic.edu
SUMMARY:Online Class Orientation
DESCRIPTION:Fall Online Classes (CANVAS) Orientation Schedule \nSIC is offering orientation sessions to help students prepare for completing their online assignments. \nOrientations will be conducted in person or live online via Zoom. Visit www.sic.edu/oso for links and details. \nMonday\, August 15\, 10 – 11 am and 2 – 3 pmTuesday\, August 16\, 11 am – noon and 4 – 5 pm \nFor more information\, email online@sic.edu or call 618-252-5400 ext. 2265.
URL:https://sic.edu/event/online-class-orientation-9/
LOCATION:IL
CATEGORIES:Academic Calendar,Student Activities
END:VEVENT
BEGIN:VEVENT
DTSTART;TZID=America/Chicago:20220905T000000
DTEND;TZID=America/Chicago:20220905T000000
DTSTAMP:20260420T102355
CREATED:20220727T170740Z
LAST-MODIFIED:20220727T170748Z
UID:10002588-1662336000-1662336000@sic.edu
SUMMARY:Labor Day - College Closed
DESCRIPTION:Enjoy your long weekend! \nLearn more about why we celebrate Labor Day!
URL:https://sic.edu/event/labor-day-college-closed-2/
LOCATION:IL
CATEGORIES:Academic Calendar
END:VEVENT
BEGIN:VEVENT
DTSTART;TZID=America/Chicago:20221007T113000
DTEND;TZID=America/Chicago:20221007T163000
DTSTAMP:20260420T102355
CREATED:20220727T170740Z
LAST-MODIFIED:20220727T170744Z
UID:10002595-1665142200-1665160200@sic.edu
SUMMARY:Staff Development Day - Classes Dismiss at 11:30 a.m.
DESCRIPTION:Classes dismiss at 11:30 a.m. today for Staff Development Day!
URL:https://sic.edu/event/staff-development-day-classes-dismiss-at-1130-a-m-4/
LOCATION:IL
CATEGORIES:Academic Calendar,Employee
END:VEVENT
BEGIN:VEVENT
DTSTART;TZID=America/Chicago:20221010T000000
DTEND;TZID=America/Chicago:20221010T000000
DTSTAMP:20260420T102355
CREATED:20220727T170740Z
LAST-MODIFIED:20220727T170743Z
UID:10002596-1665360000-1665360000@sic.edu
SUMMARY:Columbus Day/ Indigenous Peoples' Day - College Closed
DESCRIPTION:Learn more about why we celebrate Columbus Day!  \nLearn more about why we celebrate Indigenous Peoples’ Day!
URL:https://sic.edu/event/columbus-day-indigenous-peoples-day-college-closed/
LOCATION:IL
CATEGORIES:Academic Calendar
END:VEVENT
BEGIN:VEVENT
DTSTART;TZID=America/Chicago:20221024T000000
DTEND;TZID=America/Chicago:20221024T000000
DTSTAMP:20260420T102355
CREATED:20220727T170740Z
LAST-MODIFIED:20220727T170742Z
UID:10002597-1666569600-1666569600@sic.edu
SUMMARY:Spring Registration Begins
DESCRIPTION:Spring Registration begins Oct. 24 at SIC! \nYou can register online at MySIC or email an advisor: advising@sic.edu \nWe recommend you check with your advisor to make sure you’re on track to graduate on time!  \nPopular classes fill up fast\, so don’t delay! \nSpring semester begins January 9.
URL:https://sic.edu/event/spring-registration-begins-2/
LOCATION:IL
CATEGORIES:Academic Calendar
END:VEVENT
BEGIN:VEVENT
DTSTART;TZID=America/Chicago:20221025T130000
DTEND;TZID=America/Chicago:20221025T150000
DTSTAMP:20260420T102355
CREATED:20221025T141253Z
LAST-MODIFIED:20221026T151436Z
UID:10002548-1666702800-1666710000@sic.edu
SUMMARY:PN/ADN Advisement Meetings
DESCRIPTION:Attention future students of Practical Nursing and Associate Degree Nursing programs at SIC:\nThe deadline for being accepted into one of our nursing programs is March 31\, 2023. You must attend an advisement meeting to apply for the program prior to March 31. You do not need to make an appointment to attend. Show up at a date and time that works best for you. Advisement meetings are held in room T20. Advisement meetings will last approximately 1 hour and students must be present for the entire meeting. Do not arrive late and do not plan to leave before the orientation is over. Remote access to an advisement meeting may be arranged in advance by contacting nursing@sic.edu. \nNote: ADN advisement meetings are for applicants currently enrolled in an approved PN program or have an unencumbered PN license. \nPN meeting at 1 p.m.\nADN meeting at 2 p.m.
URL:https://sic.edu/event/pn-adn-advisement-meeting-12-2/
LOCATION:T-220/T-221 Classroom
CATEGORIES:Academic Calendar
ORGANIZER;CN="Dr. Emily York - Director of Nursing":MAILTO:nursing@sic.edu
END:VEVENT
BEGIN:VEVENT
DTSTART;TZID=America/Chicago:20221108T080000
DTEND;TZID=America/Chicago:20221108T163000
DTSTAMP:20260420T102355
CREATED:20220727T170727Z
LAST-MODIFIED:20221107T195308Z
UID:10002598-1667894400-1667925000@sic.edu
SUMMARY:Election Day - College Closed
DESCRIPTION:
URL:https://sic.edu/event/election-day-college-closed/
LOCATION:IL
CATEGORIES:Academic Calendar
END:VEVENT
BEGIN:VEVENT
DTSTART;TZID=America/Chicago:20221111T080000
DTEND;TZID=America/Chicago:20221111T080000
DTSTAMP:20260420T102355
CREATED:20220727T170727Z
LAST-MODIFIED:20221107T195535Z
UID:10002599-1668153600-1668153600@sic.edu
SUMMARY:Veterans Day Observed - College Closed
DESCRIPTION:Thank you to all veterans past and present for your tireless and brave service to our country! \nTest your knowledge about Veterans Day by taking the U.S. Department of Defense Veterans Day Quiz!
URL:https://sic.edu/event/veterans-day-observed-college-closed-2/
LOCATION:IL
CATEGORIES:Academic Calendar
END:VEVENT
BEGIN:VEVENT
DTSTART;TZID=America/Chicago:20221116T090000
DTEND;TZID=America/Chicago:20221116T110000
DTSTAMP:20260420T102355
CREATED:20221025T141253Z
LAST-MODIFIED:20221031T195418Z
UID:10002550-1668589200-1668596400@sic.edu
SUMMARY:PN/ADN Advisement Meetings
DESCRIPTION:Attention future students of Practical Nursing and Associate Degree Nursing programs at SIC:\nThe deadline for being accepted into one of our nursing programs is March 31\, 2023. You must attend an advisement meeting to apply for the program prior to March 31. You do not need to make an appointment to attend. Show up at a date and time that works best for you. Advisement meetings are held in room T20. Advisement meetings will last approximately 1 hour and students must be present for the entire meeting. Do not arrive late and do not plan to leave before the orientation is over. Remote access to an advisement meeting may be arranged in advance by contacting nursing@sic.edu. \nNote: ADN advisement meetings are for applicants currently enrolled in an approved PN program or have an unencumbered PN license. \nPN meeting at 9 a.m.\nADN meeting at 10 a.m.
URL:https://sic.edu/event/pn-adn-advisement-meeting-12-2-2/
LOCATION:T-220/T-221 Classroom
CATEGORIES:Academic Calendar
ORGANIZER;CN="Dr. Emily York - Director of Nursing":MAILTO:nursing@sic.edu
END:VEVENT
BEGIN:VEVENT
DTSTART;TZID=America/Chicago:20221121T080000
DTEND;TZID=America/Chicago:20221121T080000
DTSTAMP:20260420T102355
CREATED:20220727T170727Z
LAST-MODIFIED:20221107T195631Z
UID:10002600-1669017600-1669017600@sic.edu
SUMMARY:Last Day to Withdraw from Classes
DESCRIPTION:Click HERE to learn how to withdraw from classes.
URL:https://sic.edu/event/last-day-to-withdraw-from-classes-5/
LOCATION:IL
CATEGORIES:Academic Calendar
END:VEVENT
BEGIN:VEVENT
DTSTART;TZID=America/Chicago:20221123T080000
DTEND;TZID=America/Chicago:20221123T080000
DTSTAMP:20260420T102355
CREATED:20220727T170727Z
LAST-MODIFIED:20221107T200408Z
UID:10002601-1669190400-1669190400@sic.edu
SUMMARY:Thanksgiving Holiday - College Closed
DESCRIPTION:SIC is closed in observance of the Thanksgiving holiday Nov. 23-25. \n\nDo you know when Thanksgiving became a national holiday? Find out more!
URL:https://sic.edu/event/thanksgiving-holiday-college-closed-2/
LOCATION:IL
CATEGORIES:Academic Calendar
END:VEVENT
BEGIN:VEVENT
DTSTART;TZID=America/Chicago:20221124T080000
DTEND;TZID=America/Chicago:20221124T080000
DTSTAMP:20260420T102355
CREATED:20221107T200250Z
LAST-MODIFIED:20221107T200334Z
UID:10002763-1669276800-1669276800@sic.edu
SUMMARY:Thanksgiving Holiday - College Closed
DESCRIPTION:SIC is closed in observance of the Thanksgiving holiday Nov. 23-25. \n\nDo you know when Thanksgiving became a national holiday? Find out more!
URL:https://sic.edu/event/thanksgiving-holiday-college-closed-2-2/
LOCATION:IL
CATEGORIES:Academic Calendar
ATTACH;FMTTYPE=image/jpeg:https://sic.edu/wp-content/uploads/2022/07/Thanksgiving-SM-Post.jpg
END:VEVENT
BEGIN:VEVENT
DTSTART;TZID=America/Chicago:20221125T080000
DTEND;TZID=America/Chicago:20221125T080000
DTSTAMP:20260420T102355
CREATED:20221107T200525Z
LAST-MODIFIED:20221107T200543Z
UID:10002765-1669363200-1669363200@sic.edu
SUMMARY:Thanksgiving Holiday - College Closed
DESCRIPTION:SIC is closed in observance of the Thanksgiving holiday Nov. 23-25. \n\nDo you know when Thanksgiving became a national holiday? Find out more!
URL:https://sic.edu/event/thanksgiving-holiday-college-closed-2-3/
LOCATION:IL
CATEGORIES:Academic Calendar
END:VEVENT
BEGIN:VEVENT
DTSTART;VALUE=DATE:20221205
DTEND;VALUE=DATE:20221209
DTSTAMP:20260420T102355
CREATED:20220727T170727Z
LAST-MODIFIED:20220912T194325Z
UID:10002602-1670198400-1670543999@sic.edu
SUMMARY:Final Exams
DESCRIPTION:Final Exams are Dec. 5-8. You are almost there! If you need tutoring assistance\, visit our Learning Commons or email tutor@sic.edu. We also have 24-hour online tutoring through MySIC! All tutoring is free!
URL:https://sic.edu/event/final-exams-3/
LOCATION:IL
CATEGORIES:Academic Calendar
END:VEVENT
BEGIN:VEVENT
DTSTART;VALUE=DATE:20221212
DTEND;VALUE=DATE:20221213
DTSTAMP:20260420T102355
CREATED:20220727T170727Z
LAST-MODIFIED:20221212T215750Z
UID:10002567-1670803200-1670889599@sic.edu
SUMMARY:Online Winter Session Begins
DESCRIPTION:The winter mini-semester runs Dec. 12 – Jan. 13. This short online class is a great way to squeeze in an extra class requirement and lighten your load for spring. Just remember\, it is the same amount of work as a regular 16-week course! \nRegister in my.sic.edu/ics\, email advising@sic.edu\, or call 618-252-5400\, ext. 4120.
URL:https://sic.edu/event/online-winter-session-begins/
LOCATION:IL
CATEGORIES:Academic Calendar
END:VEVENT
BEGIN:VEVENT
DTSTART;TZID=America/Chicago:20221216T080000
DTEND;TZID=America/Chicago:20221216T163000
DTSTAMP:20260420T102355
CREATED:20221025T135244Z
LAST-MODIFIED:20221212T215614Z
UID:10002546-1671177600-1671208200@sic.edu
SUMMARY:Graduation Applications Due
DESCRIPTION:Are you planning to graduate after any of the following semesters:  Fall 2022\, Spring 2023\, Summer 2023\, or Fall 2023? \nDid you know you need to submit a graduation application and pay the processing fee in order for your degree to be conferred on your final transcript (even if you are not planning on participating in the graduation ceremony)? \nGraduation applications for 2022-23 are now available in the Admissions Office (E102) and at www.sic.edu/graduation.
URL:https://sic.edu/event/graduation-applications-due/
LOCATION:SIC
CATEGORIES:Academic Calendar
ORGANIZER;CN="Tiffany Brannock%2C Registrar":MAILTO:t.brannock@sic.edu
END:VEVENT
BEGIN:VEVENT
DTSTART;TZID=America/Chicago:20221219T080000
DTEND;TZID=America/Chicago:20221230T163000
DTSTAMP:20260420T102355
CREATED:20220727T170727Z
LAST-MODIFIED:20221212T215641Z
UID:10002603-1671436800-1672417800@sic.edu
SUMMARY:Winter Break - College Closed
DESCRIPTION:Enjoy the holidays!  See you next year!  SIC reopens on January 2 at 8 a.m.! Spring classes begin January 9.
URL:https://sic.edu/event/winter-break-college-closed-2/
LOCATION:IL
CATEGORIES:Academic Calendar
END:VEVENT
BEGIN:VEVENT
DTSTART;TZID=America/Chicago:20230102T080000
DTEND;TZID=America/Chicago:20230102T160000
DTSTAMP:20260420T102355
CREATED:20221207T214011Z
LAST-MODIFIED:20230102T152415Z
UID:10002585-1672646400-1672675200@sic.edu
SUMMARY:Scholarship Applications Open! Deadline: Feb. 28
DESCRIPTION:Scholarship Applications are now available for all students attending SIC in the fall — new and current students. \n\nFor assistance or more information\, email fao@sic.edu or call (618) 252-5400\, ext. 4110. \nThe application can be found at sic.edu/scholarships
URL:https://sic.edu/event/scholarship-applications-due-2-2/
LOCATION:IL
CATEGORIES:Academic Calendar,High School and Middle School
ATTACH;FMTTYPE=image/jpeg:https://sic.edu/wp-content/uploads/2022/12/Scholarships-Facebook-event.jpg
ORGANIZER;CN="Financial Aid":MAILTO:fao@sic.edu
END:VEVENT
BEGIN:VEVENT
DTSTART;TZID=America/Chicago:20230109T080000
DTEND;TZID=America/Chicago:20230109T163000
DTSTAMP:20260420T102355
CREATED:20220727T170727Z
LAST-MODIFIED:20221212T220506Z
UID:10002605-1673251200-1673281800@sic.edu
SUMMARY:Spring Semester Begins
DESCRIPTION:Welcome Back! \nIf you forgot to register or meant to sign up for a class\, but forgot\, you can still register for many classes this week! Visit our advisors on the first floor of E building or email advising@sic.edu.
URL:https://sic.edu/event/spring-semester-begins-3/
LOCATION:IL
CATEGORIES:Academic Calendar
END:VEVENT
BEGIN:VEVENT
DTSTART;VALUE=DATE:20230116
DTEND;VALUE=DATE:20230117
DTSTAMP:20260420T102355
CREATED:20220727T170727Z
LAST-MODIFIED:20221212T220702Z
UID:10002606-1673827200-1673913599@sic.edu
SUMMARY:Martin Luther King\, Jr. Day - College Closed
DESCRIPTION:The Meaning of The King Holiday\n\n\n\n\nBY CORETTA SCOTT KING\n\n\n\n\n\nThe Martin Luther King\, Jr. Holiday celebrates the life and legacy of a man who brought hope and healing to America. We commemorate as well the timeless values he taught us through his example — the values of courage\, truth\, justice\, compassion\, dignity\, humility and service that so radiantly defined Dr. King’s character and empowered his leadership. On this holiday\, we commemorate the universal\, unconditional love\, forgiveness and nonviolence that empowered his revolutionary spirit. …  Taken from www.thekingcenter.org.  Read more.  
URL:https://sic.edu/event/martin-luther-king-jr-day-college-closed-3/
LOCATION:IL
CATEGORIES:Academic Calendar
END:VEVENT
BEGIN:VEVENT
DTSTART;TZID=America/Chicago:20230117T130000
DTEND;TZID=America/Chicago:20230117T150000
DTSTAMP:20260420T102355
CREATED:20221025T141740Z
LAST-MODIFIED:20221212T220816Z
UID:10002552-1673960400-1673967600@sic.edu
SUMMARY:PN/ADN Advisement Meetings
DESCRIPTION:Attention future students of Practical Nursing and Associate Degree Nursing programs at SIC:\nThe deadline for being accepted into one of our nursing programs is March 31\, 2023. You must attend an advisement meeting to apply for the program prior to March 31. You do not need to make an appointment to attend. Show up at a date and time that works best for you. Advisement meetings are held in room T20. Advisement meetings will last approximately 1 hour and students must be present for the entire meeting. Do not arrive late and do not plan to leave before the orientation is over. Remote access to an advisement meeting may be arranged in advance by contacting nursing@sic.edu. \nNote: ADN advisement meetings are for applicants currently enrolled in an approved PN program or have an unencumbered PN license. \nPN meeting at 1 p.m.\nADN meeting at 2 p.m.
URL:https://sic.edu/event/pn-adn-advisement-meeting-12-2-3/
LOCATION:T-220/T-221 Classroom
CATEGORIES:Academic Calendar
ORGANIZER;CN="Dr. Emily York - Director of Nursing":MAILTO:nursing@sic.edu
END:VEVENT
BEGIN:VEVENT
DTSTART;VALUE=DATE:20230123
DTEND;VALUE=DATE:20230124
DTSTAMP:20260420T102355
CREATED:20230123T142105Z
LAST-MODIFIED:20230123T142123Z
UID:10002844-1674432000-1674518399@sic.edu
SUMMARY:Last Day to Drop with a Full Refund
DESCRIPTION:The last day to drop semester-long (16-week) spring courses with a full refund is TODAY (Monday\, January 23) by 11:59 PM.  We do not offer partial refunds.  After January 23\, students have until April 24 to withdraw (no refund\, W grade on transcript) from spring semester courses.  After April 24\, students cannot withdraw from any courses and will receive a final grade. \nTo drop a course\, students may: \n\nStop by Enrollment Services (first floor\, E Building).\nEmail admissions@sic.edu from the student’s Falconmail account.  We do not accept requests from personal email accounts (i.e. Google\, Yahoo\, etc.).\nCall Admissions at 618-252-5400\, ext. 4120.  Be sure to know your SIC ID number.\n\nRegistration for late start/ mini-semester (8-week courses) is going on now. Those classes begin March 13. \nRegistration for summer and fall classes opens on Monday\, March 27.
URL:https://sic.edu/event/last-day-to-drop-with-a-full-refund-2/
LOCATION:IL
CATEGORIES:Academic Calendar
ORGANIZER;CN="Tiffany Brannock%2C Registrar":MAILTO:t.brannock@sic.edu
END:VEVENT
BEGIN:VEVENT
DTSTART;TZID=America/Chicago:20230215T090000
DTEND;TZID=America/Chicago:20230215T110000
DTSTAMP:20260420T102355
CREATED:20221025T142435Z
LAST-MODIFIED:20221212T220838Z
UID:10002554-1676451600-1676458800@sic.edu
SUMMARY:PN/ADN Advisement Meetings
DESCRIPTION:Attention future students of Practical Nursing and Associate Degree Nursing programs at SIC:\nThe deadline for being accepted into one of our nursing programs is March 31\, 2023. You must attend an advisement meeting to apply for the program prior to March 31. You do not need to make an appointment to attend. Show up at a date and time that works best for you. Advisement meetings are held in room T20. Advisement meetings will last approximately 1 hour and students must be present for the entire meeting. Do not arrive late and do not plan to leave before the orientation is over. Remote access to an advisement meeting may be arranged in advance by contacting nursing@sic.edu. \nNote: ADN advisement meetings are for applicants currently enrolled in an approved PN program or have an unencumbered PN license. \nPN meeting at 9 a.m.\nADN meeting at 10 a.m.
URL:https://sic.edu/event/pn-adn-advisement-meeting-12-2-2-2/
LOCATION:T-220/T-221 Classroom
CATEGORIES:Academic Calendar
ORGANIZER;CN="Dr. Emily York - Director of Nursing":MAILTO:nursing@sic.edu
END:VEVENT
END:VCALENDAR