BEGIN:VCALENDAR
VERSION:2.0
PRODID:-//Southeastern Illinois College - ECPv6.15.20//NONSGML v1.0//EN
CALSCALE:GREGORIAN
METHOD:PUBLISH
X-ORIGINAL-URL:https://sic.edu
X-WR-CALDESC:Events for Southeastern Illinois College
REFRESH-INTERVAL;VALUE=DURATION:PT1H
X-Robots-Tag:noindex
X-PUBLISHED-TTL:PT1H
BEGIN:VTIMEZONE
TZID:America/Chicago
BEGIN:DAYLIGHT
TZOFFSETFROM:-0600
TZOFFSETTO:-0500
TZNAME:CDT
DTSTART:20220313T080000
END:DAYLIGHT
BEGIN:STANDARD
TZOFFSETFROM:-0500
TZOFFSETTO:-0600
TZNAME:CST
DTSTART:20221106T070000
END:STANDARD
BEGIN:DAYLIGHT
TZOFFSETFROM:-0600
TZOFFSETTO:-0500
TZNAME:CDT
DTSTART:20230312T080000
END:DAYLIGHT
BEGIN:STANDARD
TZOFFSETFROM:-0500
TZOFFSETTO:-0600
TZNAME:CST
DTSTART:20231105T070000
END:STANDARD
BEGIN:DAYLIGHT
TZOFFSETFROM:-0600
TZOFFSETTO:-0500
TZNAME:CDT
DTSTART:20240310T080000
END:DAYLIGHT
BEGIN:STANDARD
TZOFFSETFROM:-0500
TZOFFSETTO:-0600
TZNAME:CST
DTSTART:20241103T070000
END:STANDARD
END:VTIMEZONE
BEGIN:VEVENT
DTSTART;VALUE=DATE:20230218
DTEND;VALUE=DATE:20230219
DTSTAMP:20260421T222154
CREATED:20220730T002500Z
LAST-MODIFIED:20230117T162730Z
UID:10002632-1676678400-1676764799@sic.edu
SUMMARY:Women's Softball vs. Northeast MS
DESCRIPTION:
URL:https://sic.edu/event/womens-softball-vs-dyersburg-state/
LOCATION:Away
CATEGORIES:Women's Softball
END:VEVENT
BEGIN:VEVENT
DTSTART;TZID=America/Chicago:20230218T140000
DTEND;TZID=America/Chicago:20230218T140000
DTSTAMP:20260421T222154
CREATED:20230117T153212Z
LAST-MODIFIED:20230901T134955Z
UID:10002798-1676728800-1676728800@sic.edu
SUMMARY:Women's Softball vs. Spoon River at Northeast MS Play-In
DESCRIPTION:
URL:https://sic.edu/event/womens-softball-vs-dyersburg-college-2-2/
CATEGORIES:Women's Softball
ORGANIZER;CN="Sam Swinford":MAILTO:sam.swinford@sic.edu
END:VEVENT
BEGIN:VEVENT
DTSTART;TZID=America/Chicago:20230218T180000
DTEND;TZID=America/Chicago:20230218T180000
DTSTAMP:20260421T222154
CREATED:20230117T153538Z
LAST-MODIFIED:20230901T135000Z
UID:10002735-1676743200-1676743200@sic.edu
SUMMARY:Women's Softball at Northeast Mississippi
DESCRIPTION:
URL:https://sic.edu/event/womens-softball-vs-northeast-ms/
CATEGORIES:Women's Softball
END:VEVENT
BEGIN:VEVENT
DTSTART;TZID=America/Chicago:20230219T110000
DTEND;TZID=America/Chicago:20230219T110000
DTSTAMP:20260421T222154
CREATED:20230117T154117Z
LAST-MODIFIED:20230901T134951Z
UID:10002799-1676804400-1676804400@sic.edu
SUMMARY:Women's Softball vs. Three Rivers at Northeast MS Play In
DESCRIPTION:
URL:https://sic.edu/event/womens-softball-vs-three-rivers-at-ne-ms/
CATEGORIES:Women's Softball
END:VEVENT
BEGIN:VEVENT
DTSTART;TZID=America/Chicago:20230219T150000
DTEND;TZID=America/Chicago:20230219T150000
DTSTAMP:20260421T222154
CREATED:20230117T163501Z
LAST-MODIFIED:20230901T134946Z
UID:10002832-1676818800-1676818800@sic.edu
SUMMARY:Women's Softball vs. East Mississippi at Northeast MS Play In
DESCRIPTION:
URL:https://sic.edu/event/womens-softball-vs-east-mississippi/
CATEGORIES:Women's Softball
END:VEVENT
BEGIN:VEVENT
DTSTART;TZID=America/Chicago:20230225T120000
DTEND;TZID=America/Chicago:20230225T120000
DTSTAMP:20260421T222154
CREATED:20230123T000551Z
LAST-MODIFIED:20230901T134801Z
UID:10002842-1677326400-1677326400@sic.edu
SUMMARY:Women's Softball at Dyersburg State Community College (DH)
DESCRIPTION:
URL:https://sic.edu/event/womens-softball-at-dyersburg-state-community-college-dh/
CATEGORIES:Women's Softball
END:VEVENT
BEGIN:VEVENT
DTSTART;TZID=America/Chicago:20230225T120000
DTEND;TZID=America/Chicago:20230225T160000
DTSTAMP:20260421T222154
CREATED:20220730T003333Z
LAST-MODIFIED:20230210T152353Z
UID:10002634-1677326400-1677340800@sic.edu
SUMMARY:Women's Softball at Dyersburg College
DESCRIPTION:Game Times: 12 & 2pm
URL:https://sic.edu/event/womens-softball-vs-dyersburg-college/
LOCATION:Away
CATEGORIES:Women's Softball
END:VEVENT
BEGIN:VEVENT
DTSTART;TZID=America/Chicago:20230228T140000
DTEND;TZID=America/Chicago:20230228T140000
DTSTAMP:20260421T222154
CREATED:20230117T154845Z
LAST-MODIFIED:20230901T134753Z
UID:10002802-1677592800-1677592800@sic.edu
SUMMARY:Women's Softball vs. Mineral Area College (DH)
DESCRIPTION:
URL:https://sic.edu/event/womens-softball-vs-mineral-area-college/
CATEGORIES:Women's Softball
END:VEVENT
BEGIN:VEVENT
DTSTART;TZID=America/Chicago:20230306T170000
DTEND;TZID=America/Chicago:20230306T170000
DTSTAMP:20260421T222154
CREATED:20230117T155340Z
LAST-MODIFIED:20230901T134748Z
UID:10002827-1678122000-1678122000@sic.edu
SUMMARY:Women's Softball vs. Bay College at Fastpitch Dreams Spring Classic
DESCRIPTION:Game #1 of Fastpitch Dreams Spring Classic held in North Myrtle Beach\, South Carolina
URL:https://sic.edu/event/womens-softball-vs-bay-college/
CATEGORIES:Women's Softball
END:VEVENT
BEGIN:VEVENT
DTSTART;TZID=America/Chicago:20230306T190000
DTEND;TZID=America/Chicago:20230306T190000
DTSTAMP:20260421T222154
CREATED:20230117T155436Z
LAST-MODIFIED:20230901T134743Z
UID:10002826-1678129200-1678129200@sic.edu
SUMMARY:Women's Softball vs. St. Clair County at Fastpitch Dreams Spring Classic
DESCRIPTION:Game #2 of Fastpitch Dreams Spring Classic held in North Myrtle Beach\, South Carolina
URL:https://sic.edu/event/womens-softball-vs-st-clair-county/
CATEGORIES:Women's Softball
END:VEVENT
BEGIN:VEVENT
DTSTART;TZID=America/Chicago:20230307T150000
DTEND;TZID=America/Chicago:20230307T150000
DTSTAMP:20260421T222154
CREATED:20230117T163941Z
LAST-MODIFIED:20230901T134739Z
UID:10002834-1678201200-1678201200@sic.edu
SUMMARY:Women's Softball vs. Henry Ford College at Fastpitch Dreams Spring Classic
DESCRIPTION:Game #3 of Fastpitch Dreams Spring Classic held in North Myrtle Beach\, South Carolina
URL:https://sic.edu/event/womens-softball-vs-henry-ford/
CATEGORIES:Women's Softball
END:VEVENT
BEGIN:VEVENT
DTSTART;TZID=America/Chicago:20230307T170000
DTEND;TZID=America/Chicago:20230307T170000
DTSTAMP:20260421T222154
CREATED:20230117T155636Z
LAST-MODIFIED:20230901T135005Z
UID:10002824-1678208400-1678208400@sic.edu
SUMMARY:Women's Softball vs. Southeast at Fastpitch Dreams Spring Classic
DESCRIPTION:Game #4 of Fastpitch Dreams Spring Classic held in North Myrtle Beach\, South Carolina
URL:https://sic.edu/event/womens-softball-vs-southeast/
CATEGORIES:Women's Softball
END:VEVENT
BEGIN:VEVENT
DTSTART;TZID=America/Chicago:20230308T110000
DTEND;TZID=America/Chicago:20230308T110000
DTSTAMP:20260421T222154
CREATED:20230117T155736Z
LAST-MODIFIED:20230901T134724Z
UID:10002823-1678273200-1678273200@sic.edu
SUMMARY:Women's Softball vs. Glen Oaks at Fastpitch Dreams Spring Classic
DESCRIPTION:Game #5 of Fastpitch Dreams Spring Classic held in North Myrtle Beach\, South Carolina
URL:https://sic.edu/event/womens-softball-vs-glen-oaks/
CATEGORIES:Women's Softball
END:VEVENT
BEGIN:VEVENT
DTSTART;TZID=America/Chicago:20230308T150000
DTEND;TZID=America/Chicago:20230308T150000
DTSTAMP:20260421T222154
CREATED:20230117T155539Z
LAST-MODIFIED:20230301T135334Z
UID:10002825-1678287600-1678287600@sic.edu
SUMMARY:Women's Softball vs. Henry Ford College at Fastpitch Dreams Spring Classic
DESCRIPTION:Game #3 of Fastpitch Dreams Spring Classic held in North Myrtle Beach\, South Carolina
URL:https://sic.edu/event/womens-softball-vs-henry-ford-classic/
CATEGORIES:Women's Softball
END:VEVENT
BEGIN:VEVENT
DTSTART;TZID=America/Chicago:20230308T170000
DTEND;TZID=America/Chicago:20230308T170000
DTSTAMP:20260421T222154
CREATED:20230117T155849Z
LAST-MODIFIED:20230901T134715Z
UID:10002822-1678294800-1678294800@sic.edu
SUMMARY:Women's Softball vs. Gaston College at Fastpitch Dreams Spring Classic
DESCRIPTION:Game #6 of Fastpitch Dreams Spring Classic held in North Myrtle Beach\, South Carolina
URL:https://sic.edu/event/womens-softball-vs-gaston-college/
CATEGORIES:Women's Softball
END:VEVENT
BEGIN:VEVENT
DTSTART;TZID=America/Chicago:20230311T120000
DTEND;TZID=America/Chicago:20230311T120000
DTSTAMP:20260421T222154
CREATED:20230117T155950Z
LAST-MODIFIED:20230901T134708Z
UID:10002821-1678536000-1678536000@sic.edu
SUMMARY:Women's Softball at Frontier College (DH)
DESCRIPTION:
URL:https://sic.edu/event/womens-softball-vs-frontier-college/
CATEGORIES:Women's Softball
END:VEVENT
BEGIN:VEVENT
DTSTART;TZID=America/Chicago:20230314T140000
DTEND;TZID=America/Chicago:20230314T160000
DTSTAMP:20260421T222154
CREATED:20230117T160057Z
LAST-MODIFIED:20230901T134703Z
UID:10002820-1678802400-1678809600@sic.edu
SUMMARY:Women's Softball vs. Wabash Valley College (DH)
DESCRIPTION:
URL:https://sic.edu/event/womens-softball-vs-wabash-valley-college/
LOCATION:Falcon Field\, 3575 College Rd.\, Harrisburg\, IL\, 62946
CATEGORIES:Women's Softball
END:VEVENT
BEGIN:VEVENT
DTSTART;TZID=America/Chicago:20230315T140000
DTEND;TZID=America/Chicago:20230315T140000
DTSTAMP:20260421T222154
CREATED:20230117T160405Z
LAST-MODIFIED:20230901T134659Z
UID:10002819-1678888800-1678888800@sic.edu
SUMMARY:Women's Softball vs. Rend Lake College (DH)
DESCRIPTION:
URL:https://sic.edu/event/womens-softball-vs-rend-lake-college/
LOCATION:Falcon Field\, 3575 College Rd.\, Harrisburg\, IL\, 62946
CATEGORIES:Women's Softball
END:VEVENT
BEGIN:VEVENT
DTSTART;TZID=America/Chicago:20230326T120000
DTEND;TZID=America/Chicago:20230326T120000
DTSTAMP:20260421T222154
CREATED:20230117T160847Z
LAST-MODIFIED:20230901T134653Z
UID:10002805-1679832000-1679832000@sic.edu
SUMMARY:Women's Softball at Southwestern IL College (DH)
DESCRIPTION:
URL:https://sic.edu/event/womens-softball-vs-southwestern-illinois-college/
CATEGORIES:Women's Softball
END:VEVENT
BEGIN:VEVENT
DTSTART;TZID=America/Chicago:20230328T140000
DTEND;TZID=America/Chicago:20230328T140000
DTSTAMP:20260421T222154
CREATED:20230117T155100Z
LAST-MODIFIED:20230901T134645Z
UID:10002803-1680012000-1680012000@sic.edu
SUMMARY:Women's Softball vs. Lake Land College (DH)
DESCRIPTION:
URL:https://sic.edu/event/womens-softball-vs-lake-land-college/
LOCATION:Falcon Field\, 3575 College Rd.\, Harrisburg\, IL\, 62946
CATEGORIES:Women's Softball
END:VEVENT
BEGIN:VEVENT
DTSTART;TZID=America/Chicago:20230330T140000
DTEND;TZID=America/Chicago:20230330T140000
DTSTAMP:20260421T222154
CREATED:20230117T161037Z
LAST-MODIFIED:20230901T134641Z
UID:10002806-1680184800-1680184800@sic.edu
SUMMARY:Women's Softball vs. Shawnee College (DH)
DESCRIPTION:
URL:https://sic.edu/event/womens-softball-vs-shawnee-college/
LOCATION:Falcon Field\, 3575 College Rd.\, Harrisburg\, IL\, 62946
CATEGORIES:Women's Softball
END:VEVENT
BEGIN:VEVENT
DTSTART;TZID=America/Chicago:20230402T120000
DTEND;TZID=America/Chicago:20230402T120000
DTSTAMP:20260421T222154
CREATED:20230117T161215Z
LAST-MODIFIED:20230901T135012Z
UID:10002808-1680436800-1680436800@sic.edu
SUMMARY:Women's Softball at Oakland City University (DH)
DESCRIPTION:
URL:https://sic.edu/event/womens-softball-at-oakland-city/
CATEGORIES:Women's Softball
END:VEVENT
BEGIN:VEVENT
DTSTART;TZID=America/Chicago:20230403T120000
DTEND;TZID=America/Chicago:20230403T120000
DTSTAMP:20260421T222154
CREATED:20230117T161129Z
LAST-MODIFIED:20230901T134630Z
UID:10002807-1680523200-1680523200@sic.edu
SUMMARY:Women's Softball at Olney College (DH)
DESCRIPTION:
URL:https://sic.edu/event/womens-softball-vs-olney-college/
CATEGORIES:Women's Softball
END:VEVENT
BEGIN:VEVENT
DTSTART;TZID=America/Chicago:20230404T120000
DTEND;TZID=America/Chicago:20230404T120000
DTSTAMP:20260421T222154
CREATED:20230117T155154Z
LAST-MODIFIED:20230901T134625Z
UID:10002830-1680609600-1680609600@sic.edu
SUMMARY:Women's Softball at John A. Logan College (DH)
DESCRIPTION:
URL:https://sic.edu/event/womens-softball-vs-john-a-logan-college/
CATEGORIES:Women's Softball
END:VEVENT
BEGIN:VEVENT
DTSTART;TZID=America/Chicago:20230406T140000
DTEND;TZID=America/Chicago:20230406T160000
DTSTAMP:20260421T222154
CREATED:20230117T161327Z
LAST-MODIFIED:20230901T134620Z
UID:10002809-1680789600-1680796800@sic.edu
SUMMARY:Women's Softball at Lake Land College (DH)
DESCRIPTION:
URL:https://sic.edu/event/womens-softball-at-lake-land-college/
CATEGORIES:Women's Softball
END:VEVENT
BEGIN:VEVENT
DTSTART;TZID=America/Chicago:20230407T120000
DTEND;TZID=America/Chicago:20230407T120000
DTSTAMP:20260421T222154
CREATED:20230117T161431Z
LAST-MODIFIED:20230901T134526Z
UID:10002810-1680868800-1680868800@sic.edu
SUMMARY:Women's Softball vs. Frontier College (DH)
DESCRIPTION:
URL:https://sic.edu/event/womens-softball-vs-frontier-college-2/
LOCATION:Falcon Field\, 3575 College Rd.\, Harrisburg\, IL\, 62946
CATEGORIES:Women's Softball
END:VEVENT
BEGIN:VEVENT
DTSTART;TZID=America/Chicago:20230411T140000
DTEND;TZID=America/Chicago:20230411T140000
DTSTAMP:20260421T222154
CREATED:20230117T161610Z
LAST-MODIFIED:20230901T134521Z
UID:10002818-1681221600-1681221600@sic.edu
SUMMARY:Women's Softball vs. John A. Logan College
DESCRIPTION:
URL:https://sic.edu/event/womens-softball-vs-john-a-logan-college-2/
LOCATION:Harry Crisp Sports Complex – Marion
CATEGORIES:Women's Softball
ORGANIZER;CN="Maggie Calcaterra":MAILTO:m.calcaterra@sic.edu
END:VEVENT
BEGIN:VEVENT
DTSTART;TZID=America/Chicago:20230413T140000
DTEND;TZID=America/Chicago:20230413T140000
DTSTAMP:20260421T222154
CREATED:20230117T161655Z
LAST-MODIFIED:20230901T134516Z
UID:10002817-1681394400-1681394400@sic.edu
SUMMARY:Women's Softball at Wabash Valley College (DH)
DESCRIPTION:
URL:https://sic.edu/event/womens-softball-vs-mineral-area-college-2/
CATEGORIES:Women's Softball
END:VEVENT
BEGIN:VEVENT
DTSTART;TZID=America/Chicago:20230415T120000
DTEND;TZID=America/Chicago:20230415T120000
DTSTAMP:20260421T222154
CREATED:20230117T161800Z
LAST-MODIFIED:20230901T134511Z
UID:10002816-1681560000-1681560000@sic.edu
SUMMARY:Women's Softball vs. Kaskaskia College
DESCRIPTION:
URL:https://sic.edu/event/womens-softball-vs-kaskaskia-college-2/
LOCATION:Falcon Field\, 3575 College Rd.\, Harrisburg\, IL\, 62946
CATEGORIES:Women's Softball
END:VEVENT
BEGIN:VEVENT
DTSTART;TZID=America/Chicago:20230418T130000
DTEND;TZID=America/Chicago:20230418T130000
DTSTAMP:20260421T222154
CREATED:20230117T154642Z
LAST-MODIFIED:20230901T134507Z
UID:10002800-1681822800-1681822800@sic.edu
SUMMARY:Women's Softball at Lincoln Trail College (DH)
DESCRIPTION:
URL:https://sic.edu/event/womens-softball-vs-east-ms-at-ne-ms-2/
CATEGORIES:Women's Softball
END:VEVENT
END:VCALENDAR