BEGIN:VCALENDAR
VERSION:2.0
PRODID:-//Southeastern Illinois College - ECPv6.15.20//NONSGML v1.0//EN
CALSCALE:GREGORIAN
METHOD:PUBLISH
X-WR-CALNAME:Southeastern Illinois College
X-ORIGINAL-URL:https://sic.edu
X-WR-CALDESC:Events for Southeastern Illinois College
REFRESH-INTERVAL;VALUE=DURATION:PT1H
X-Robots-Tag:noindex
X-PUBLISHED-TTL:PT1H
BEGIN:VTIMEZONE
TZID:America/Chicago
BEGIN:DAYLIGHT
TZOFFSETFROM:-0600
TZOFFSETTO:-0500
TZNAME:CDT
DTSTART:20220313T080000
END:DAYLIGHT
BEGIN:STANDARD
TZOFFSETFROM:-0500
TZOFFSETTO:-0600
TZNAME:CST
DTSTART:20221106T070000
END:STANDARD
BEGIN:DAYLIGHT
TZOFFSETFROM:-0600
TZOFFSETTO:-0500
TZNAME:CDT
DTSTART:20230312T080000
END:DAYLIGHT
BEGIN:STANDARD
TZOFFSETFROM:-0500
TZOFFSETTO:-0600
TZNAME:CST
DTSTART:20231105T070000
END:STANDARD
BEGIN:DAYLIGHT
TZOFFSETFROM:-0600
TZOFFSETTO:-0500
TZNAME:CDT
DTSTART:20240310T080000
END:DAYLIGHT
BEGIN:STANDARD
TZOFFSETFROM:-0500
TZOFFSETTO:-0600
TZNAME:CST
DTSTART:20241103T070000
END:STANDARD
BEGIN:DAYLIGHT
TZOFFSETFROM:-0600
TZOFFSETTO:-0500
TZNAME:CDT
DTSTART:20250309T080000
END:DAYLIGHT
BEGIN:STANDARD
TZOFFSETFROM:-0500
TZOFFSETTO:-0600
TZNAME:CST
DTSTART:20251102T070000
END:STANDARD
BEGIN:DAYLIGHT
TZOFFSETFROM:-0600
TZOFFSETTO:-0500
TZNAME:CDT
DTSTART:20260308T080000
END:DAYLIGHT
BEGIN:STANDARD
TZOFFSETFROM:-0500
TZOFFSETTO:-0600
TZNAME:CST
DTSTART:20261101T070000
END:STANDARD
END:VTIMEZONE
BEGIN:VEVENT
DTSTART;TZID=America/Chicago:20251116T140000
DTEND;TZID=America/Chicago:20251116T140000
DTSTAMP:20260422T023253
CREATED:20251114T203339Z
LAST-MODIFIED:20251114T203339Z
UID:10004524-1763301600-1763301600@sic.edu
SUMMARY:Volleyball High School All-Star Tournament
DESCRIPTION:
URL:https://sic.edu/event/volleyball-high-school-all-star-tournament/
LOCATION:C-106 Joseph C. Deaton Gym\, SIC 3575 College R\, HARRISBURG\, IL\, 62946
CATEGORIES:Athletics & Competitive Teams,Camps,High School and Middle School,Volleyball
ORGANIZER;CN="Jon Watts%2C Volleyball Coach":MAILTO:jon.watts@sic.edu
END:VEVENT
BEGIN:VEVENT
DTSTART;TZID=America/Chicago:20251029T183000
DTEND;TZID=America/Chicago:20251029T183000
DTSTAMP:20260422T023253
CREATED:20250724T203919Z
LAST-MODIFIED:20250724T203920Z
UID:10003931-1761762600-1761762600@sic.edu
SUMMARY:Women's Volleyball vs. Wabash Valley College
DESCRIPTION:
URL:https://sic.edu/event/womens-volleyball-vs-wabash-valley-college-3/
CATEGORIES:Volleyball
END:VEVENT
BEGIN:VEVENT
DTSTART;TZID=America/Chicago:20251024T183000
DTEND;TZID=America/Chicago:20251024T183000
DTSTAMP:20260422T023253
CREATED:20250724T203924Z
LAST-MODIFIED:20250724T203924Z
UID:10003930-1761330600-1761330600@sic.edu
SUMMARY:Women's Volleyball at John A. Logan College
DESCRIPTION:
URL:https://sic.edu/event/womens-volleyball-at-john-a-logan-college-3/
CATEGORIES:Volleyball
END:VEVENT
BEGIN:VEVENT
DTSTART;TZID=America/Chicago:20251022T183000
DTEND;TZID=America/Chicago:20251022T183000
DTSTAMP:20260422T023253
CREATED:20250724T203933Z
LAST-MODIFIED:20250724T203933Z
UID:10003929-1761157800-1761157800@sic.edu
SUMMARY:Women's Volleyball at Lake Land College
DESCRIPTION:
URL:https://sic.edu/event/womens-volleyball-at-lake-land-college-3/
CATEGORIES:Volleyball
END:VEVENT
BEGIN:VEVENT
DTSTART;TZID=America/Chicago:20251015T183000
DTEND;TZID=America/Chicago:20251015T183000
DTSTAMP:20260422T023253
CREATED:20250724T203948Z
LAST-MODIFIED:20250724T203948Z
UID:10003928-1760553000-1760553000@sic.edu
SUMMARY:Women's Volleyball at Vincennes University
DESCRIPTION:
URL:https://sic.edu/event/womens-volleyball-at-vincennes-university-2/
CATEGORIES:Volleyball
END:VEVENT
BEGIN:VEVENT
DTSTART;TZID=America/Chicago:20251013T183000
DTEND;TZID=America/Chicago:20251013T183000
DTSTAMP:20260422T023253
CREATED:20250724T204028Z
LAST-MODIFIED:20250724T204028Z
UID:10003927-1760380200-1760380200@sic.edu
SUMMARY:Women's Volleyball vs. Southwestern Illinois College
DESCRIPTION:
URL:https://sic.edu/event/womens-volleyball-vs-southwestern-illinois-college-3/
CATEGORIES:Volleyball
END:VEVENT
BEGIN:VEVENT
DTSTART;TZID=America/Chicago:20251010T183000
DTEND;TZID=America/Chicago:20251010T183000
DTSTAMP:20260422T023253
CREATED:20250724T204033Z
LAST-MODIFIED:20250724T204033Z
UID:10003926-1760121000-1760121000@sic.edu
SUMMARY:Women's Volleyball vs. Frontier Community College
DESCRIPTION:
URL:https://sic.edu/event/womens-volleyball-vs-frontier-community-college-2/
CATEGORIES:Volleyball
END:VEVENT
BEGIN:VEVENT
DTSTART;TZID=America/Chicago:20251008T183000
DTEND;TZID=America/Chicago:20251008T183000
DTSTAMP:20260422T023253
CREATED:20250724T204045Z
LAST-MODIFIED:20250724T204045Z
UID:10003925-1759948200-1759948200@sic.edu
SUMMARY:Women's Volleyball at Rend Lake College
DESCRIPTION:
URL:https://sic.edu/event/womens-volleyball-at-rend-lake-college-3/
CATEGORIES:Volleyball
END:VEVENT
BEGIN:VEVENT
DTSTART;TZID=America/Chicago:20251006T183000
DTEND;TZID=America/Chicago:20251006T183000
DTSTAMP:20260422T023253
CREATED:20250724T204057Z
LAST-MODIFIED:20250724T204057Z
UID:10003924-1759775400-1759775400@sic.edu
SUMMARY:Women's Volleyball vs. Shawnee Community College
DESCRIPTION:
URL:https://sic.edu/event/womens-volleyball-vs-shawnee-community-college-2/
CATEGORIES:Volleyball
END:VEVENT
BEGIN:VEVENT
DTSTART;TZID=America/Chicago:20251001T150000
DTEND;TZID=America/Chicago:20251001T150000
DTSTAMP:20260422T023253
CREATED:20250724T204117Z
LAST-MODIFIED:20250724T204117Z
UID:10003923-1759330800-1759330800@sic.edu
SUMMARY:Women's Volleyball at Kaskaskia College
DESCRIPTION:
URL:https://sic.edu/event/womens-volleyball-at-kaskaskia-college-3/
CATEGORIES:Volleyball
END:VEVENT
BEGIN:VEVENT
DTSTART;TZID=America/Chicago:20250929T183000
DTEND;TZID=America/Chicago:20250929T183000
DTSTAMP:20260422T023253
CREATED:20250724T204128Z
LAST-MODIFIED:20250724T204128Z
UID:10003922-1759170600-1759170600@sic.edu
SUMMARY:Women's Volleyball vs. Lincoln Trail College
DESCRIPTION:
URL:https://sic.edu/event/womens-volleyball-vs-lincoln-trail-college-2/
CATEGORIES:Volleyball
END:VEVENT
BEGIN:VEVENT
DTSTART;TZID=America/Chicago:20250927T100000
DTEND;TZID=America/Chicago:20250927T100000
DTSTAMP:20260422T023253
CREATED:20250811T135310Z
LAST-MODIFIED:20250811T135310Z
UID:10003968-1758967200-1758967200@sic.edu
SUMMARY:Women's Volleyball at STLCC Tri-Match
DESCRIPTION:10 a.m. – STLCC vs. Iowa Tech CC \n12:00 p.m. – SIC vs. Iowa Tech CC \n2:00 p.m. – SIC vs. STLCC
URL:https://sic.edu/event/womens-volleyball-at-stlcc-tri-match/
CATEGORIES:Volleyball
END:VEVENT
BEGIN:VEVENT
DTSTART;TZID=America/Chicago:20250926T183000
DTEND;TZID=America/Chicago:20250926T183000
DTSTAMP:20260422T023253
CREATED:20250724T204150Z
LAST-MODIFIED:20250724T204150Z
UID:10003921-1758911400-1758911400@sic.edu
SUMMARY:Women's Volleyball at Wabash Valley College
DESCRIPTION:
URL:https://sic.edu/event/womens-volleyball-at-wabash-valley-college-3/
CATEGORIES:Volleyball
END:VEVENT
BEGIN:VEVENT
DTSTART;TZID=America/Chicago:20250924T183000
DTEND;TZID=America/Chicago:20250924T183000
DTSTAMP:20260422T023253
CREATED:20250724T204212Z
LAST-MODIFIED:20250724T204212Z
UID:10003920-1758738600-1758738600@sic.edu
SUMMARY:Women's Volleyball at Frontier Community College
DESCRIPTION:
URL:https://sic.edu/event/womens-volleyball-at-frontier-community-college/
CATEGORIES:Volleyball
END:VEVENT
BEGIN:VEVENT
DTSTART;TZID=America/Chicago:20250922T183000
DTEND;TZID=America/Chicago:20250922T183000
DTSTAMP:20260422T023253
CREATED:20250724T204220Z
LAST-MODIFIED:20250724T204220Z
UID:10003919-1758565800-1758565800@sic.edu
SUMMARY:Women's Volleyball vs. John A. Logan College
DESCRIPTION:
URL:https://sic.edu/event/womens-volleyball-vs-john-a-logan-college-3/
CATEGORIES:Volleyball
END:VEVENT
BEGIN:VEVENT
DTSTART;TZID=America/Chicago:20250917T183000
DTEND;TZID=America/Chicago:20250917T183000
DTSTAMP:20260422T023253
CREATED:20250724T204230Z
LAST-MODIFIED:20250724T204230Z
UID:10003918-1758133800-1758133800@sic.edu
SUMMARY:Women's Volleyball vs. Lake Land College
DESCRIPTION:
URL:https://sic.edu/event/womens-volleyball-vs-lake-land-college-3/
CATEGORIES:Volleyball
END:VEVENT
BEGIN:VEVENT
DTSTART;TZID=America/Chicago:20250913T100000
DTEND;TZID=America/Chicago:20250913T100000
DTSTAMP:20260422T023253
CREATED:20250724T204236Z
LAST-MODIFIED:20250724T204236Z
UID:10003917-1757757600-1757757600@sic.edu
SUMMARY:Women's Volleyball at Olive Harvey Tournament
DESCRIPTION:
URL:https://sic.edu/event/womens-volleyball-at-olive-harvey-tournament/
CATEGORIES:Volleyball
END:VEVENT
BEGIN:VEVENT
DTSTART;TZID=America/Chicago:20250912T183000
DTEND;TZID=America/Chicago:20250912T183000
DTSTAMP:20260422T023253
CREATED:20250724T204246Z
LAST-MODIFIED:20250724T204246Z
UID:10003916-1757701800-1757701800@sic.edu
SUMMARY:Women's Volleyball at Olive Harvey Tournament
DESCRIPTION:
URL:https://sic.edu/event/womens-volleyball-at-olive-harvey-tournament-2/
CATEGORIES:Volleyball
END:VEVENT
BEGIN:VEVENT
DTSTART;TZID=America/Chicago:20250910T183000
DTEND;TZID=America/Chicago:20250910T183000
DTSTAMP:20260422T023253
CREATED:20250724T204253Z
LAST-MODIFIED:20250724T204253Z
UID:10003915-1757529000-1757529000@sic.edu
SUMMARY:Women's Volleyball vs. Vincennes University
DESCRIPTION:
URL:https://sic.edu/event/womens-volleyball-vs-vincennes-university-2/
CATEGORIES:Volleyball
END:VEVENT
BEGIN:VEVENT
DTSTART;TZID=America/Chicago:20250908T183000
DTEND;TZID=America/Chicago:20250908T183000
DTSTAMP:20260422T023253
CREATED:20250724T204305Z
LAST-MODIFIED:20250724T204305Z
UID:10003914-1757356200-1757356200@sic.edu
SUMMARY:Women's Volleyball at Southwestern Illinois College
DESCRIPTION:
URL:https://sic.edu/event/womens-volleyball-at-southwestern-illinois-college-3/
CATEGORIES:Volleyball
END:VEVENT
BEGIN:VEVENT
DTSTART;TZID=America/Chicago:20250904T183000
DTEND;TZID=America/Chicago:20250904T183000
DTSTAMP:20260422T023253
CREATED:20250724T204314Z
LAST-MODIFIED:20250724T204314Z
UID:10003913-1757010600-1757010600@sic.edu
SUMMARY:Women's Volleyball vs. Rend Lake College
DESCRIPTION:
URL:https://sic.edu/event/womens-volleyball-vs-rend-lake-college/
CATEGORIES:Volleyball
END:VEVENT
BEGIN:VEVENT
DTSTART;TZID=America/Chicago:20250902T183000
DTEND;TZID=America/Chicago:20250902T183000
DTSTAMP:20260422T023253
CREATED:20250724T204321Z
LAST-MODIFIED:20250724T204321Z
UID:10003912-1756837800-1756837800@sic.edu
SUMMARY:Women's Volleyball at Shawnee Community College
DESCRIPTION:
URL:https://sic.edu/event/womens-volleyball-at-shawnee-community-college-2/
CATEGORIES:Volleyball
END:VEVENT
BEGIN:VEVENT
DTSTART;TZID=America/Chicago:20250827T183000
DTEND;TZID=America/Chicago:20250827T183000
DTSTAMP:20260422T023253
CREATED:20250724T205208Z
LAST-MODIFIED:20250724T205208Z
UID:10003911-1756319400-1756319400@sic.edu
SUMMARY:Women's Volleyball vs. Kaskaskia College
DESCRIPTION:
URL:https://sic.edu/event/womens-volleyball-vs-kaskaskia-college/
CATEGORIES:Volleyball
END:VEVENT
BEGIN:VEVENT
DTSTART;TZID=America/Chicago:20250825T183000
DTEND;TZID=America/Chicago:20250825T183000
DTSTAMP:20260422T023253
CREATED:20250722T133934Z
LAST-MODIFIED:20250724T205152Z
UID:10003907-1756146600-1756146600@sic.edu
SUMMARY:Women's Volleyball at Lincoln Trail College
DESCRIPTION:SIC Volleyball goes to Lincoln Trail College in Robinson\, Illinois for a 6:30 p.m. match.
URL:https://sic.edu/event/womens-volleyball-at-wabash-valley-college-2-2/
CATEGORIES:Volleyball
END:VEVENT
BEGIN:VEVENT
DTSTART;TZID=America/Chicago:20250823T100000
DTEND;TZID=America/Chicago:20250823T100000
DTSTAMP:20260422T023253
CREATED:20250724T205135Z
LAST-MODIFIED:20250819T141615Z
UID:10003910-1755943200-1755943200@sic.edu
SUMMARY:2025 SIC Volleyball Tournament
DESCRIPTION:SIC Volleyball hosts their annual Falcon Feast Tournament at Deaton Gym. Game times and match-ups are as follows: \n11 A.M. – Southeastern Illinois College vs. Lewis and Clark Community College (Court 1) \n11 A.M. – Jackson State Community College vs. St. Louis Community College (Court 2) \n1 P.M. – East Central College vs. Jackson State Community College (Court 1) \n1 P.M. – St. Louis Community College vs. Lewis and Clark Community College (Court 2) \n3 P.M. – Southeastern Illinois College vs. East Central College (Court 1)
URL:https://sic.edu/event/2025-sic-volleyball-tournament/
CATEGORIES:Volleyball
END:VEVENT
BEGIN:VEVENT
DTSTART;VALUE=DATE:20250805
DTEND;VALUE=DATE:20250808
DTSTAMP:20260422T023253
CREATED:20250708T171132Z
LAST-MODIFIED:20250717T171618Z
UID:10003901-1754352000-1754611199@sic.edu
SUMMARY:Falcon Volleyball Summer Camp
DESCRIPTION:Join the Falcons for SIC Summer Volleyball Camp!\n\n\n\n Dates: August 5-7\, 2025\n Location: SIC’s Deaton Gymnasium\n\n\n\n Session Times & Prices:\n10 – 11:30 AM: Grades 5-8 – $75\n12:30 – 2:30 PM: Grades 9-12 – $100
URL:https://sic.edu/event/falcon-volleyball-summer-camp-2/
LOCATION:C-106 Joseph C. Deaton Gym\, SIC 3575 College R\, HARRISBURG\, IL\, 62946
CATEGORIES:Athletics & Competitive Teams,Camps,Children's Activities Webpage,High School and Middle School,Volleyball
ORGANIZER;CN="Jon Watts%2C Volleyball Coach":MAILTO:jon.watts@sic.edu
END:VEVENT
BEGIN:VEVENT
DTSTART;VALUE=DATE:20240729
DTEND;VALUE=DATE:20240801
DTSTAMP:20260422T023253
CREATED:20240722T182647Z
LAST-MODIFIED:20240722T182647Z
UID:10003481-1722211200-1722470399@sic.edu
SUMMARY:Falcon Volleyball Summer Camp
DESCRIPTION:Join the Falcons for SIC Summer Volleyball Camp!\n\n\n Dates: July 29th\, 30th\, & 31st\, 2024\n Location: SIC’s Deaton Gymnasium\n\n\n Session Times & Prices:\n9:00 AM – 10:30 AM: 3rd\, 4th\, 5th Grade – $75\n11:00 AM – 1:00 PM: 6th\, 7th\, 8th Grade – $125\n2:00 PM – 4:30 PM: High School – $125\n\n\n\nDon’t miss out on the chance to elevate your game and have some fun this summer! \n\n\nFor more info or to register\, contact:\nCoach Jon Watts\n 618-922-4102\n jon.watts@sic.edu\n\n\n\nREGISTRATION FORM AVAILABLE AT: https://sic.edu/athletics/volleyball/
URL:https://sic.edu/event/falcon-volleyball-summer-camp/
LOCATION:C-106 Joseph C. Deaton Gym\, SIC 3575 College R\, HARRISBURG\, IL\, 62946
CATEGORIES:Athletics & Competitive Teams,Camps,Children's Activities Webpage,High School and Middle School,Volleyball
ORGANIZER;CN="Jon Watts%2C Volleyball Coach":MAILTO:jon.watts@sic.edu
END:VEVENT
BEGIN:VEVENT
DTSTART;VALUE=DATE:20240611
DTEND;VALUE=DATE:20240612
DTSTAMP:20260422T023253
CREATED:20240419T134429Z
LAST-MODIFIED:20240419T134509Z
UID:10003313-1718064000-1718150399@sic.edu
SUMMARY:Falcon Volleyball Camp Begins
DESCRIPTION:School JV teams play on June 11th\, Varsity teams on June 12th or 13th (or both!). Bring teams all 3 days for just $350 ($50 off!) Contact Coach Jon Watts at Jon.Watts@SIC.edu or 618-922-4102 to register! \nLearn skills from our team such as footwork\, hitting\, passing\, serving\, setting and teamwork. All players are required to bring knee pads\, tennis shoes\, and a water bottle in order to participate. \nPlease make checks payable to: Southeastern Illinois College (SIC)
URL:https://sic.edu/event/falcon-volleyball-camp-begins-3/
LOCATION:C-106 Joseph C. Deaton Gym\, SIC 3575 College R\, HARRISBURG\, IL\, 62946
CATEGORIES:Athletics & Competitive Teams,Camps,Children's Activities Webpage,High School and Middle School,Volleyball
ATTACH;FMTTYPE=image/png:https://sic.edu/wp-content/uploads/2023/05/Facebook-Header-Revised.png
ORGANIZER;CN="Jon Watts%2C Volleyball Coach":MAILTO:jon.watts@sic.edu
END:VEVENT
BEGIN:VEVENT
DTSTART;TZID=America/Chicago:20231028T000000
DTEND;TZID=America/Chicago:20231028T000000
DTSTAMP:20260422T023253
CREATED:20230901T134311Z
LAST-MODIFIED:20240813T183855Z
UID:10003078-1698451200-1698451200@sic.edu
SUMMARY:Women's Volleyball Sophomore Day - Falcons vs Rend Lake College / Heartland Community College (Tri-Match)
DESCRIPTION:
URL:https://sic.edu/event/womens-volleyball-vs-rend-lake-college-heartland-community-college-tri-match/
LOCATION:C-106 Joseph C. Deaton Gym\, SIC 3575 College R\, HARRISBURG\, IL\, 62946
CATEGORIES:Volleyball
ATTACH;FMTTYPE=image/png:https://sic.edu/wp-content/uploads/2023/08/RLC-HCC-Tri.png
ORGANIZER;CN="Jon Watts%2C Volleyball Coach":MAILTO:jon.watts@sic.edu
END:VEVENT
BEGIN:VEVENT
DTSTART;TZID=America/Chicago:20231023T183000
DTEND;TZID=America/Chicago:20231023T183000
DTSTAMP:20260422T023253
CREATED:20230809T141810Z
LAST-MODIFIED:20240813T183418Z
UID:10003032-1698085800-1698085800@sic.edu
SUMMARY:Women's Volleyball vs. Kaskaskia College
DESCRIPTION:
URL:https://sic.edu/event/womens-volleyball-vs-kaskaskia-college-2/
LOCATION:C-106 Joseph C. Deaton Gym\, SIC 3575 College R\, HARRISBURG\, IL\, 62946
CATEGORIES:Volleyball
ATTACH;FMTTYPE=image/png:https://sic.edu/wp-content/uploads/2023/08/vs.-Kaskaskia.png
END:VEVENT
END:VCALENDAR