BEGIN:VCALENDAR
VERSION:2.0
PRODID:-//Southeastern Illinois College - ECPv6.15.20//NONSGML v1.0//EN
CALSCALE:GREGORIAN
METHOD:PUBLISH
X-ORIGINAL-URL:https://sic.edu
X-WR-CALDESC:Events for Southeastern Illinois College
REFRESH-INTERVAL;VALUE=DURATION:PT1H
X-Robots-Tag:noindex
X-PUBLISHED-TTL:PT1H
BEGIN:VTIMEZONE
TZID:America/Chicago
BEGIN:DAYLIGHT
TZOFFSETFROM:-0600
TZOFFSETTO:-0500
TZNAME:CDT
DTSTART:20210314T080000
END:DAYLIGHT
BEGIN:STANDARD
TZOFFSETFROM:-0500
TZOFFSETTO:-0600
TZNAME:CST
DTSTART:20211107T070000
END:STANDARD
BEGIN:DAYLIGHT
TZOFFSETFROM:-0600
TZOFFSETTO:-0500
TZNAME:CDT
DTSTART:20220313T080000
END:DAYLIGHT
BEGIN:STANDARD
TZOFFSETFROM:-0500
TZOFFSETTO:-0600
TZNAME:CST
DTSTART:20221106T070000
END:STANDARD
BEGIN:DAYLIGHT
TZOFFSETFROM:-0600
TZOFFSETTO:-0500
TZNAME:CDT
DTSTART:20230312T080000
END:DAYLIGHT
BEGIN:STANDARD
TZOFFSETFROM:-0500
TZOFFSETTO:-0600
TZNAME:CST
DTSTART:20231105T070000
END:STANDARD
END:VTIMEZONE
BEGIN:VEVENT
DTSTART;TZID=America/Chicago:20220602T000000
DTEND;TZID=America/Chicago:20220602T000000
DTSTAMP:20260421T050136
CREATED:20220727T170832Z
LAST-MODIFIED:20220727T170841Z
UID:10002482-1654128000-1654128000@sic.edu
SUMMARY:Carmi College for Kids - dates begin!
DESCRIPTION:List of classes: \nHELPFUL FIRST AID … JUNE 2\, 10 a.m.-12 p.m. It’s important to provide medical care and seek help as quickly as possible. Young people are able to do their part if trained properly! Jim Totten\, instructor. Ages 10-13. Cost: $10 + Supply fee: $5. \nBEACH PLAQUE … JUNE 14\, 10 a.m.-11 a.m. Using sand and seashells students will decorate a beach plaque. Lorelei Stone\, instructor. Ages 7-11. Cost: $5 + Supply fee: $5. \nFLOWER POTS … JUNE 14\, 1 p.m.-2 p.m. Students will paint and personalize their own clay pot. A live plant will be added to complete the creation! Lorelei Stone\, instructor. Ages 7 – 11. Cost: $5 + Supply fee: $5. \nMAD SCIENCE X … JUNE 16\, 1 p.m. -2 p.m. Explore\, Experiment\, and Discover while making a “lava lamp”\, slime\, and few more surprises. Fun for little mad scientists!Emily Williams\, instructor. Ages 4 – 6. Cost:  $5 + Supply fee: $5. \nMAD SCIENCE Z … JUNE 16\, 2:45 p.m. – 3:45 p.m. Explore\, Experiment\, and Discover while making a “lava lamp”\, slime\, and few more surprises. Fun for young mad scientists!Emily Williams\, instructor. Ages 7 – 9. Cost $5 + Supply fee: $5. \nSO\, YOU WANT A PUPPY? … JUNE 22\, 1 p.m. – 2 p.m. How do I feed and care for my new puppy? What will a new puppy need? How do I prepare a safe environment for a new puppy?Alison Riddle\, instructor. Ages 7-11. Cost $5 + Supply fee: $5. \nSTEPPING STONES … JUNE 28. 10 a.m. – 11 a.m. Students will paint and decorate their own concrete stepping stones.Lorelei Stone\, instructor. Ages 7-11. Cost $5 + Supply fee: $5. \nMASON JAR LIGHT … JUNE 28\, 1 p.m. – 2 p.m. Students will transform a Mason jar into a decorative garden light. Lorelei Stone\, instructor. Ages 7-11. Cost $5 + Supply fee: $5. \nA BROWNIE ESCAPE! … JUNE 29\, 10 a.m. – 11 a.m. A delicious escape room challenge with 13 challenges. Clue difficulty is paced so that the brownies are ready to eat at the end of the game. Debra Haley\, instructor. Ages 8 – 10. Cost $5 + Supply fee: $5. \nSWIMMING LESSONS … July 11-14\, 5:15 – 6 p.m. Students must be comfortable with putting their faces in the water. Classes will take place in the Carmi City Pool. Ages 5-8. Cost: $20 for the week – must be paid for at the time of registration. \nCHRISTMAS IN JULY … JULY 19\, 10 a.m. – 11 a.m. Students will create several cute Christmas tree ornaments. A fun project for a hot day! Lorelei Stone\, instructor. Ages 7-11. Cost:  $5 + Supply fee: $5 \nPAINTED WOOD SHAPE … JULY 19   1 p.m. – 2 p.m. Students will paint and decorate their own wood shape suitable for hanging on the wall or a door. Lorelei Stone\, instructor. Ages 7 – 11. Cost:  $5 + Supply fee: $5. \nCAKE CUPS! – A … JULY 21\, 1 p.m. – 2 p.m. Whip up some yummy treats in a mug! Each baker will make\, decorate\, and enjoy their own “Mug-cake.” Each baker will also design a mug to take home for future baking. \nEmily Williams\, instructor. Ages 4 -6. Cost: $5 + Supply fee: $5. \nCAKE CUPS! – B … JULY 21\, 2:45 p.m. – 3:45 p.m. Whip up some yummy treats in a mug! Each baker will make\, decorate\, and enjoy their own “Mug-cake”. Each baker will also design a mug to take home for future baking. Emily Williams\, instructor. Ages 7-9. Cost $5 + Supply fee: $5. \nCall 618-382-8869 or visit the Southeastern Illinois College David L. Stanley White County Center between 9 a.m. and 4 p.m.\, Monday – Thursday\, to register for summer classes. Class cost is due at the time of registration. Supply fees are paid directly to the instructor when the class begins. Classes will be held in the Carmi Center\, located at 1700 College Rd. in Carmi. 
URL:https://sic.edu/event/carmi-college-for-kids-dates-begin-2/
LOCATION:IL
CATEGORIES:Carmi Center Classes and Events,Children's Activities,Community Events
END:VEVENT
END:VCALENDAR