BEGIN:VCALENDAR
VERSION:2.0
PRODID:-//Southeastern Illinois College - ECPv6.15.20//NONSGML v1.0//EN
CALSCALE:GREGORIAN
METHOD:PUBLISH
X-ORIGINAL-URL:https://sic.edu
X-WR-CALDESC:Events for Southeastern Illinois College
REFRESH-INTERVAL;VALUE=DURATION:PT1H
X-Robots-Tag:noindex
X-PUBLISHED-TTL:PT1H
BEGIN:VTIMEZONE
TZID:America/Chicago
BEGIN:DAYLIGHT
TZOFFSETFROM:-0600
TZOFFSETTO:-0500
TZNAME:CDT
DTSTART:20220313T080000
END:DAYLIGHT
BEGIN:STANDARD
TZOFFSETFROM:-0500
TZOFFSETTO:-0600
TZNAME:CST
DTSTART:20221106T070000
END:STANDARD
BEGIN:DAYLIGHT
TZOFFSETFROM:-0600
TZOFFSETTO:-0500
TZNAME:CDT
DTSTART:20230312T080000
END:DAYLIGHT
BEGIN:STANDARD
TZOFFSETFROM:-0500
TZOFFSETTO:-0600
TZNAME:CST
DTSTART:20231105T070000
END:STANDARD
BEGIN:DAYLIGHT
TZOFFSETFROM:-0600
TZOFFSETTO:-0500
TZNAME:CDT
DTSTART:20240310T080000
END:DAYLIGHT
BEGIN:STANDARD
TZOFFSETFROM:-0500
TZOFFSETTO:-0600
TZNAME:CST
DTSTART:20241103T070000
END:STANDARD
END:VTIMEZONE
BEGIN:VEVENT
DTSTART;TZID=America/Chicago:20231017T090000
DTEND;TZID=America/Chicago:20231017T110000
DTSTAMP:20260423T041024
CREATED:20231002T195108Z
LAST-MODIFIED:20231003T164125Z
UID:10003091-1697533200-1697540400@sic.edu
SUMMARY:Regional College and University Fair
DESCRIPTION:This free event is open to area high schools and SIC students. Students are highly encouraged to attend to meet with representatives and discuss undergrad and transfer programs. \nNearly 40 universities are expected to attend.
URL:https://sic.edu/event/regional-college-transfer-fair-2/
LOCATION:C-106 Joseph C. Deaton Gym\, SIC 3575 College R\, HARRISBURG\, IL\, 62946
CATEGORIES:Community Events,Student Activities,University Representative
ORGANIZER;CN="Nicole Racey":MAILTO:nicole.racey@sic.edu
END:VEVENT
END:VCALENDAR