BEGIN:VCALENDAR
VERSION:2.0
PRODID:-//Southeastern Illinois College - ECPv6.15.20//NONSGML v1.0//EN
CALSCALE:GREGORIAN
METHOD:PUBLISH
X-WR-CALNAME:Southeastern Illinois College
X-ORIGINAL-URL:https://sic.edu
X-WR-CALDESC:Events for Southeastern Illinois College
REFRESH-INTERVAL;VALUE=DURATION:PT1H
X-Robots-Tag:noindex
X-PUBLISHED-TTL:PT1H
BEGIN:VTIMEZONE
TZID:America/Chicago
BEGIN:DAYLIGHT
TZOFFSETFROM:-0600
TZOFFSETTO:-0500
TZNAME:CDT
DTSTART:20230312T080000
END:DAYLIGHT
BEGIN:STANDARD
TZOFFSETFROM:-0500
TZOFFSETTO:-0600
TZNAME:CST
DTSTART:20231105T070000
END:STANDARD
BEGIN:DAYLIGHT
TZOFFSETFROM:-0600
TZOFFSETTO:-0500
TZNAME:CDT
DTSTART:20240310T080000
END:DAYLIGHT
BEGIN:STANDARD
TZOFFSETFROM:-0500
TZOFFSETTO:-0600
TZNAME:CST
DTSTART:20241103T070000
END:STANDARD
BEGIN:DAYLIGHT
TZOFFSETFROM:-0600
TZOFFSETTO:-0500
TZNAME:CDT
DTSTART:20250309T080000
END:DAYLIGHT
BEGIN:STANDARD
TZOFFSETFROM:-0500
TZOFFSETTO:-0600
TZNAME:CST
DTSTART:20251102T070000
END:STANDARD
END:VTIMEZONE
BEGIN:VEVENT
DTSTART;TZID=America/Chicago:20240625T100000
DTEND;TZID=America/Chicago:20240625T110000
DTSTAMP:20260419T133000
CREATED:20240521T170519Z
LAST-MODIFIED:20240521T170519Z
UID:10003352-1719309600-1719313200@sic.edu
SUMMARY:College for Kids - SAVING MONEY 101
DESCRIPTION:It is never too early to start saving! In this introduction to banking class\, students will learn the value of saving money and establishing good financial habits. \nPresented by Banterra Bank \nDate and Time:\nJUNE 25 10 am -11 am \nPlace:\nRm 124 \nAges:\n10-13 \nCost:\nFree \nRegistration must be in person at the SIC White County Center\, 1700 College Avenue\, Carmi. Payment is due at the time of registration. \nSupply Fees are collected by the instructors at each class. This fee is not included in the registration cost.
URL:https://sic.edu/event/college-for-kids-saving-money-101/
LOCATION:David L. Stanley White County Center\, 1700 College Ave.\, Carmi\, IL\, 62821
CATEGORIES:Carmi Center Classes and Events,Children's Activities,Children's Activities,Children's Activities Webpage
ORGANIZER;CN="Terri Absher":MAILTO:terri.absher@sic.edu
END:VEVENT
END:VCALENDAR