BEGIN:VCALENDAR
VERSION:2.0
PRODID:-//Southeastern Illinois College - ECPv6.15.20//NONSGML v1.0//EN
CALSCALE:GREGORIAN
METHOD:PUBLISH
X-ORIGINAL-URL:https://sic.edu
X-WR-CALDESC:Events for Southeastern Illinois College
REFRESH-INTERVAL;VALUE=DURATION:PT1H
X-Robots-Tag:noindex
X-PUBLISHED-TTL:PT1H
BEGIN:VTIMEZONE
TZID:America/Chicago
BEGIN:DAYLIGHT
TZOFFSETFROM:-0600
TZOFFSETTO:-0500
TZNAME:CDT
DTSTART:20250309T080000
END:DAYLIGHT
BEGIN:STANDARD
TZOFFSETFROM:-0500
TZOFFSETTO:-0600
TZNAME:CST
DTSTART:20251102T070000
END:STANDARD
BEGIN:DAYLIGHT
TZOFFSETFROM:-0600
TZOFFSETTO:-0500
TZNAME:CDT
DTSTART:20260308T080000
END:DAYLIGHT
BEGIN:STANDARD
TZOFFSETFROM:-0500
TZOFFSETTO:-0600
TZNAME:CST
DTSTART:20261101T070000
END:STANDARD
BEGIN:DAYLIGHT
TZOFFSETFROM:-0600
TZOFFSETTO:-0500
TZNAME:CDT
DTSTART:20270314T080000
END:DAYLIGHT
BEGIN:STANDARD
TZOFFSETFROM:-0500
TZOFFSETTO:-0600
TZNAME:CST
DTSTART:20271107T070000
END:STANDARD
END:VTIMEZONE
BEGIN:VEVENT
DTSTART;TZID=America/Chicago:20260428T190000
DTEND;TZID=America/Chicago:20260428T190000
DTSTAMP:20260424T081946
CREATED:20250822T162537Z
LAST-MODIFIED:20260410T154404Z
UID:10003981-1777402800-1777402800@sic.edu
SUMMARY:SIC Community Chorus presents Let Freedom Sing
DESCRIPTION:This event is free. Donations Accepted. \nThe chorus is under the direction of Tim Green and accompanied by Kathy Hanrahan.
URL:https://sic.edu/event/sic-community-chorus-presents-let-freedom-sing/
LOCATION:F – George T. Dennis Visual & Performing Arts Center Lower Lobby\, 3575 College Rd.\, Harrisburg\, IL\, 62946
CATEGORIES:Choirs,Community,Community Choir,Concert Choir Webpage
ATTACH;FMTTYPE=image/jpeg:https://sic.edu/wp-content/uploads/2025/08/DOT-BB-Let-Freedom-Sing.jpg
ORGANIZER;CN="Tim Green":MAILTO:tim.green@sic.edu
END:VEVENT
END:VCALENDAR