BEGIN:VCALENDAR
VERSION:2.0
PRODID:-//Southeastern Illinois College - ECPv6.15.20//NONSGML v1.0//EN
CALSCALE:GREGORIAN
METHOD:PUBLISH
X-ORIGINAL-URL:https://sic.edu
X-WR-CALDESC:Events for Southeastern Illinois College
REFRESH-INTERVAL;VALUE=DURATION:PT1H
X-Robots-Tag:noindex
X-PUBLISHED-TTL:PT1H
BEGIN:VTIMEZONE
TZID:America/Chicago
BEGIN:DAYLIGHT
TZOFFSETFROM:-0600
TZOFFSETTO:-0500
TZNAME:CDT
DTSTART:20220313T080000
END:DAYLIGHT
BEGIN:STANDARD
TZOFFSETFROM:-0500
TZOFFSETTO:-0600
TZNAME:CST
DTSTART:20221106T070000
END:STANDARD
BEGIN:DAYLIGHT
TZOFFSETFROM:-0600
TZOFFSETTO:-0500
TZNAME:CDT
DTSTART:20230312T080000
END:DAYLIGHT
BEGIN:STANDARD
TZOFFSETFROM:-0500
TZOFFSETTO:-0600
TZNAME:CST
DTSTART:20231105T070000
END:STANDARD
BEGIN:DAYLIGHT
TZOFFSETFROM:-0600
TZOFFSETTO:-0500
TZNAME:CDT
DTSTART:20240310T080000
END:DAYLIGHT
BEGIN:STANDARD
TZOFFSETFROM:-0500
TZOFFSETTO:-0600
TZNAME:CST
DTSTART:20241103T070000
END:STANDARD
END:VTIMEZONE
BEGIN:VEVENT
DTSTART;TZID=America/Chicago:20230102T080000
DTEND;TZID=America/Chicago:20230102T160000
DTSTAMP:20260419T134130
CREATED:20221207T214011Z
LAST-MODIFIED:20230102T152415Z
UID:10002585-1672646400-1672675200@sic.edu
SUMMARY:Scholarship Applications Open! Deadline: Feb. 28
DESCRIPTION:Scholarship Applications are now available for all students attending SIC in the fall — new and current students. \n\nFor assistance or more information\, email fao@sic.edu or call (618) 252-5400\, ext. 4110. \nThe application can be found at sic.edu/scholarships
URL:https://sic.edu/event/scholarship-applications-due-2-2/
CATEGORIES:Academic Calendar,High School and Middle School
ATTACH;FMTTYPE=image/jpeg:https://sic.edu/wp-content/uploads/2022/12/Scholarships-Facebook-event.jpg
ORGANIZER;CN="Financial Aid":MAILTO:fao@sic.edu
END:VEVENT
BEGIN:VEVENT
DTSTART;TZID=America/Chicago:20230107T090000
DTEND;TZID=America/Chicago:20230107T144500
DTSTAMP:20260419T134130
CREATED:20221031T185250Z
LAST-MODIFIED:20221212T214232Z
UID:10002753-1673082000-1673102700@sic.edu
SUMMARY:SIC Softball Defense Camp
DESCRIPTION:AGES 5-11 FROM 9-10:45AM \nAGES 12-18 FROM 1 PM-2:45PM \nPRICE: $50.00 (INCLUDES CAMP T-SHIRT) \n  \nNAME: ______________________________________ AGE: __________________ \nADDRESS: __________________________________________________________ \nCITY: _______________ ST: ___________ ZIP: ___________ PHONE: __________ \nEMAIL ____________________________________________________________ \nYEAR IN SCHOOL (1-12): ______________ T-SHIRT SIZE: ____________________ \n***Return payment and registration to: SIC\, c/o Maggie Calcaterra\, 3575 College Rd\, Harrisburg\, IL 62946 or pay on the day of camp \n***Please check email for release form\, as camp draws closer
URL:https://sic.edu/event/sic-softball-hitting-camp-2/
LOCATION:C-106 Joseph C. Deaton Gym\, SIC 3575 College R\, HARRISBURG\, IL\, 62946
CATEGORIES:Athletics & Competitive Teams,Children's Activities,Community Events,High School and Middle School,Women's Softball
ORGANIZER;CN="Maggie Calcaterra":MAILTO:m.calcaterra@sic.edu
END:VEVENT
BEGIN:VEVENT
DTSTART;TZID=America/Chicago:20230107T110000
DTEND;TZID=America/Chicago:20230107T163000
DTSTAMP:20260419T134130
CREATED:20221031T185250Z
LAST-MODIFIED:20221212T214354Z
UID:10002755-1673089200-1673109000@sic.edu
SUMMARY:SIC Softball Pitching and Catching Camp
DESCRIPTION:AGES 5-11 FROM 11AM-12:30PM \nAGES 12-18 FROM 3PM-4:30PM \nPRICE: $35.00 (t-shirt NOT included) \n  \nNAME: ______________________________________ AGE: __________________ \nADDRESS: __________________________________________________________ \nCITY: _______________ ST: ___________ ZIP: ___________ PHONE: __________ \nEMAIL (if under 13\, need parent’s address): __________________________________ \nYEAR IN SCHOOL (1-12): ______________ T-SHIRT SIZE: ____________________ \n***Return payment and registration to: SIC\, c/o Maggie Calcaterra\, 3575 College Rd\, Harrisburg\, IL 62946 or pay on the day of camp \n***Please check email for release form\, as camp draws closer
URL:https://sic.edu/event/sic-softball-hitting-camp-2-2/
LOCATION:C-106 Joseph C. Deaton Gym\, SIC 3575 College R\, HARRISBURG\, IL\, 62946
CATEGORIES:Athletics & Competitive Teams,Children's Activities,Community Events,High School and Middle School,Women's Softball
ORGANIZER;CN="Maggie Calcaterra":MAILTO:m.calcaterra@sic.edu
END:VEVENT
BEGIN:VEVENT
DTSTART;TZID=America/Chicago:20230122T090000
DTEND;TZID=America/Chicago:20230122T170000
DTSTAMP:20260419T134130
CREATED:20221110T220015Z
LAST-MODIFIED:20230119T163636Z
UID:10002767-1674378000-1674406800@sic.edu
SUMMARY:CANCELED - Softball Coaches Clinic
DESCRIPTION:UPDATE: This event has been canceled. \n\nJoin SIC Head Softball Coach Maggie Calcaterra for the 2023 Coaches Clinic!\n\nThe annual event will be hosted on January 22nd on the campus of Southeastern Illinois College in a lecture hall and is open to high school and travel softball coaches. This camp designed to provide softball coaches tips and instruction to excel as a softball coach. Learn youth softball tips and drills\, offense\, defense\, pitching\, hitting\, coaching strategies\, and much more.
URL:https://sic.edu/event/sic-softball-hitting-camp-3/
LOCATION:B-126 W – Lecture Hall West
CATEGORIES:Athletics & Competitive Teams,Community Events,High School and Middle School,Women's Softball
ORGANIZER;CN="Maggie Calcaterra":MAILTO:m.calcaterra@sic.edu
END:VEVENT
BEGIN:VEVENT
DTSTART;TZID=America/Chicago:20230123T183000
DTEND;TZID=America/Chicago:20230123T183000
DTSTAMP:20260419T134130
CREATED:20221212T213222Z
LAST-MODIFIED:20221212T213223Z
UID:10002589-1674498600-1674498600@sic.edu
SUMMARY:GEC High School Basketball Tournament Week
DESCRIPTION:Monday\, Tuesday and Thursday starting at 6:30 p.m. \nFriday and Saturday starting at 5:30 p.m. \nNo games on Wednesday
URL:https://sic.edu/event/gec-high-school-basketball-tournament-2/
LOCATION:C-106 Joseph C. Deaton Gym\, SIC 3575 College R\, HARRISBURG\, IL\, 62946
CATEGORIES:High School and Middle School
ORGANIZER;CN="Jeremy Irlbeck%2C SIC Baseball Coach/Athletic Director":MAILTO:athletics@sic.edu
END:VEVENT
BEGIN:VEVENT
DTSTART;TZID=America/Chicago:20230124T183000
DTEND;TZID=America/Chicago:20230124T183000
DTSTAMP:20260419T134130
CREATED:20221212T213512Z
LAST-MODIFIED:20221212T213512Z
UID:10002590-1674585000-1674585000@sic.edu
SUMMARY:GEC High School Basketball Tournament Week
DESCRIPTION:Monday\, Tuesday and Thursday starting at 6:30 p.m. \nFriday and Saturday starting at 5:30 p.m. \nNo games on Wednesday
URL:https://sic.edu/event/gec-high-school-basketball-tournament-2-2/
LOCATION:C-106 Joseph C. Deaton Gym\, SIC 3575 College R\, HARRISBURG\, IL\, 62946
CATEGORIES:High School and Middle School
ORGANIZER;CN="Jeremy Irlbeck%2C SIC Baseball Coach/Athletic Director":MAILTO:athletics@sic.edu
END:VEVENT
BEGIN:VEVENT
DTSTART;TZID=America/Chicago:20230126T183000
DTEND;TZID=America/Chicago:20230126T183000
DTSTAMP:20260419T134130
CREATED:20221212T213639Z
LAST-MODIFIED:20221212T213639Z
UID:10002592-1674757800-1674757800@sic.edu
SUMMARY:GEC High School Basketball Tournament Week
DESCRIPTION:Monday\, Tuesday and Thursday starting at 6:30 p.m. \nFriday and Saturday starting at 5:30 p.m. \nNo games on Wednesday
URL:https://sic.edu/event/gec-high-school-basketball-tournament-2-2-2/
LOCATION:C-106 Joseph C. Deaton Gym\, SIC 3575 College R\, HARRISBURG\, IL\, 62946
CATEGORIES:High School and Middle School
ORGANIZER;CN="Jeremy Irlbeck%2C SIC Baseball Coach/Athletic Director":MAILTO:athletics@sic.edu
END:VEVENT
BEGIN:VEVENT
DTSTART;TZID=America/Chicago:20230127T173000
DTEND;TZID=America/Chicago:20230127T173000
DTSTAMP:20260419T134130
CREATED:20221212T213806Z
LAST-MODIFIED:20221212T213833Z
UID:10002594-1674840600-1674840600@sic.edu
SUMMARY:GEC High School Basketball Tournament Week
DESCRIPTION:Monday\, Tuesday and Thursday starting at 6:30 p.m. \nFriday and Saturday starting at 5:30 p.m. \nNo games on Wednesday
URL:https://sic.edu/event/gec-high-school-basketball-tournament-2-2-2-2/
LOCATION:C-106 Joseph C. Deaton Gym\, SIC 3575 College R\, HARRISBURG\, IL\, 62946
CATEGORIES:High School and Middle School
ORGANIZER;CN="Jeremy Irlbeck%2C SIC Baseball Coach/Athletic Director":MAILTO:athletics@sic.edu
END:VEVENT
BEGIN:VEVENT
DTSTART;TZID=America/Chicago:20230128T104500
DTEND;TZID=America/Chicago:20230128T124500
DTSTAMP:20260419T134130
CREATED:20221031T185250Z
LAST-MODIFIED:20221212T214120Z
UID:10002752-1674902700-1674909900@sic.edu
SUMMARY:SIC Softball Hitting Camp
DESCRIPTION:AGES 5-11 FROM 9-10:45AM \nAGES 12-18 FROM 11AM-12:45PM \nPRICE: $50.00 (INCLUDES CAMP T-SHIRT) \n  \nNAME: ______________________________________ AGE: __________________ \nADDRESS: __________________________________________________________ \nCITY: _______________ ST: ___________ ZIP: ___________ PHONE: __________ \nEMAIL ____________________________________________________________ \nYEAR IN SCHOOL (1-12): ______________ T-SHIRT SIZE: ____________________ \n***Return payment and registration to: SIC\, c/o Maggie Calcaterra\, 3575 College Rd\, Harrisburg\, IL 62946 or pay on the day of camp \n***Please check email for release form\, as camp draws closer
URL:https://sic.edu/event/sic-softball-hitting-camp/
LOCATION:SI Elite (behind Target)\, 3006 Civic Circle Blvd\, Marion\, IL
CATEGORIES:Athletics & Competitive Teams,Children's Activities,Community Events,High School and Middle School,Women's Softball
ORGANIZER;CN="Maggie Calcaterra":MAILTO:m.calcaterra@sic.edu
END:VEVENT
BEGIN:VEVENT
DTSTART;TZID=America/Chicago:20230128T173000
DTEND;TZID=America/Chicago:20230128T173000
DTSTAMP:20260419T134130
CREATED:20221212T213933Z
LAST-MODIFIED:20221212T213933Z
UID:10002782-1674927000-1674927000@sic.edu
SUMMARY:GEC High School Basketball Tournament Week
DESCRIPTION:Monday\, Tuesday and Thursday starting at 6:30 p.m. \nFriday and Saturday starting at 5:30 p.m. \nNo games on Wednesday
URL:https://sic.edu/event/gec-high-school-basketball-tournament-2-2-2-2-2/
LOCATION:C-106 Joseph C. Deaton Gym\, SIC 3575 College R\, HARRISBURG\, IL\, 62946
CATEGORIES:High School and Middle School
ORGANIZER;CN="Jeremy Irlbeck%2C SIC Baseball Coach/Athletic Director":MAILTO:athletics@sic.edu
END:VEVENT
END:VCALENDAR