BEGIN:VCALENDAR
VERSION:2.0
PRODID:-//Southeastern Illinois College - ECPv6.15.20//NONSGML v1.0//EN
CALSCALE:GREGORIAN
METHOD:PUBLISH
X-ORIGINAL-URL:https://sic.edu
X-WR-CALDESC:Events for Southeastern Illinois College
REFRESH-INTERVAL;VALUE=DURATION:PT1H
X-Robots-Tag:noindex
X-PUBLISHED-TTL:PT1H
BEGIN:VTIMEZONE
TZID:America/Chicago
BEGIN:DAYLIGHT
TZOFFSETFROM:-0600
TZOFFSETTO:-0500
TZNAME:CDT
DTSTART:20220313T080000
END:DAYLIGHT
BEGIN:STANDARD
TZOFFSETFROM:-0500
TZOFFSETTO:-0600
TZNAME:CST
DTSTART:20221106T070000
END:STANDARD
BEGIN:DAYLIGHT
TZOFFSETFROM:-0600
TZOFFSETTO:-0500
TZNAME:CDT
DTSTART:20230312T080000
END:DAYLIGHT
BEGIN:STANDARD
TZOFFSETFROM:-0500
TZOFFSETTO:-0600
TZNAME:CST
DTSTART:20231105T070000
END:STANDARD
BEGIN:DAYLIGHT
TZOFFSETFROM:-0600
TZOFFSETTO:-0500
TZNAME:CDT
DTSTART:20240310T080000
END:DAYLIGHT
BEGIN:STANDARD
TZOFFSETFROM:-0500
TZOFFSETTO:-0600
TZNAME:CST
DTSTART:20241103T070000
END:STANDARD
END:VTIMEZONE
BEGIN:VEVENT
DTSTART;TZID=America/Chicago:20230302T080000
DTEND;TZID=America/Chicago:20230302T130000
DTSTAMP:20260419T232153
CREATED:20220923T162710Z
LAST-MODIFIED:20230111T153554Z
UID:10002686-1677744000-1677762000@sic.edu
SUMMARY:Allied Health Spotlight Day
DESCRIPTION:For high school students
URL:https://sic.edu/event/allied-health-spotlight-day-2/
CATEGORIES:High School and Middle School
ATTACH;FMTTYPE=image/jpeg:https://sic.edu/wp-content/uploads/2022/09/CTE-AH-Spotlight-Day-2023-scaled.jpg
END:VEVENT
BEGIN:VEVENT
DTSTART;TZID=America/Chicago:20230317T190000
DTEND;TZID=America/Chicago:20230317T190000
DTSTAMP:20260419T232153
CREATED:20230201T141606Z
LAST-MODIFIED:20230201T151234Z
UID:10002650-1679079600-1679079600@sic.edu
SUMMARY:HHS presents Mary Poppins
DESCRIPTION:Harrisburg High School presents Mary Poppins. \nShow dates are March 17-19\, 2023 \n7:00 p.m. on Friday and Saturday \n2:00 p.m. on Saturday and Sunday \nTickets are $10 for adults\, $5 for students \nContact HHS for ticket information or sales: hhs.il.drama@gmail.com or 618-253-7637X2169
URL:https://sic.edu/event/hhs-presents-mary-poppins/
LOCATION:F-127 – Theatre\, 3575 College Rd.\, Harrisburg\, IL\, 62946-4925\, United States
CATEGORIES:High School and Middle School,High School Productions Webpage,Visual and Performing Arts
ORGANIZER;CN="Hannah Drake":MAILTO:hhs.il.drama@gmail.com
END:VEVENT
BEGIN:VEVENT
DTSTART;TZID=America/Chicago:20230318T140000
DTEND;TZID=America/Chicago:20230318T140000
DTSTAMP:20260419T232153
CREATED:20230201T142136Z
LAST-MODIFIED:20230201T151213Z
UID:10002652-1679148000-1679148000@sic.edu
SUMMARY:HHS presents Mary Poppins
DESCRIPTION:Harrisburg High School presents Mary Poppins. \nShow dates are March 17-19\, 2023 \n7:00 p.m. on Friday and Saturday \n2:00 p.m. on Saturday and Sunday \nTickets are $10 for adults\, $5 for students \nContact HHS for ticket information or sales: hhs.il.drama@gmail.com or 618-253-7637X2169
URL:https://sic.edu/event/hhs-presents-mary-poppins-2/
LOCATION:F-127 – Theatre\, 3575 College Rd.\, Harrisburg\, IL\, 62946-4925\, United States
CATEGORIES:High School and Middle School,High School Productions Webpage,Visual and Performing Arts
ORGANIZER;CN="Hannah Drake":MAILTO:hhs.il.drama@gmail.com
END:VEVENT
BEGIN:VEVENT
DTSTART;TZID=America/Chicago:20230318T190000
DTEND;TZID=America/Chicago:20230318T190000
DTSTAMP:20260419T232153
CREATED:20230201T142322Z
LAST-MODIFIED:20230201T151149Z
UID:10002854-1679166000-1679166000@sic.edu
SUMMARY:HHS presents Mary Poppins
DESCRIPTION:Harrisburg High School presents Mary Poppins. \nShow dates are March 17-19\, 2023 \n7:00 p.m. on Friday and Saturday \n2:00 p.m. on Saturday and Sunday \nTickets are $10 for adults\, $5 for students \nContact HHS for ticket information or sales: hhs.il.drama@gmail.com or 618-253-7637X2169
URL:https://sic.edu/event/hhs-presents-mary-poppins-2-2/
LOCATION:F-127 – Theatre\, 3575 College Rd.\, Harrisburg\, IL\, 62946-4925\, United States
CATEGORIES:High School and Middle School,High School Productions Webpage,Visual and Performing Arts
ORGANIZER;CN="Hannah Drake":MAILTO:hhs.il.drama@gmail.com
END:VEVENT
BEGIN:VEVENT
DTSTART;TZID=America/Chicago:20230319T140000
DTEND;TZID=America/Chicago:20230319T140000
DTSTAMP:20260419T232153
CREATED:20230201T142431Z
LAST-MODIFIED:20230201T151127Z
UID:10002855-1679234400-1679234400@sic.edu
SUMMARY:HHS presents Mary Poppins
DESCRIPTION:Harrisburg High School presents Mary Poppins. \nShow dates are March 17-19\, 2023 \n7:00 p.m. on Friday and Saturday \n2:00 p.m. on Saturday and Sunday \nTickets are $10 for adults\, $5 for students \nContact HHS for ticket information or sales: hhs.il.drama@gmail.com or 618-253-7637X2169
URL:https://sic.edu/event/hhs-presents-mary-poppins-2-2-2/
LOCATION:F-127 – Theatre\, 3575 College Rd.\, Harrisburg\, IL\, 62946-4925\, United States
CATEGORIES:High School and Middle School,High School Productions Webpage,Visual and Performing Arts
ORGANIZER;CN="Hannah Drake":MAILTO:hhs.il.drama@gmail.com
END:VEVENT
BEGIN:VEVENT
DTSTART;TZID=America/Chicago:20230324T190000
DTEND;TZID=America/Chicago:20230324T190000
DTSTAMP:20260419T232153
CREATED:20230120T173045Z
LAST-MODIFIED:20230201T145130Z
UID:10002838-1679684400-1679684400@sic.edu
SUMMARY:Carrier Mills-Stonefort Schools present The Velveteen Rabbit
DESCRIPTION:Tickets can be picked up at the Carrier Mills-Stonefort Elementary School.
URL:https://sic.edu/event/carrier-mills-stonefort-schools-present-snow-white-and-the-seven-dwarfs-2-2/
LOCATION:F-127 – Theatre\, 3575 College Rd.\, Harrisburg\, IL\, 62946-4925\, United States
CATEGORIES:High School and Middle School,High School Productions Webpage,Visual and Performing Arts
ATTACH;FMTTYPE=image/jpeg:https://sic.edu/wp-content/uploads/2023/01/The-Velveteen-Rabbit-Flyer-CM-2023-scaled.jpg
ORGANIZER;CN="Caleb Long":MAILTO:clong@cmsfcats.org
END:VEVENT
BEGIN:VEVENT
DTSTART;TZID=America/Chicago:20230325T190000
DTEND;TZID=America/Chicago:20230325T190000
DTSTAMP:20260419T232153
CREATED:20230120T174444Z
LAST-MODIFIED:20230201T144932Z
UID:10002840-1679770800-1679770800@sic.edu
SUMMARY:Carrier Mills-Stonefort Schools present The Velveteen Rabbit
DESCRIPTION:Tickets can be picked up at the Carrier Mills-Stonefort Elementary School.
URL:https://sic.edu/event/carrier-mills-stonefort-schools-present-snow-white-and-the-seven-dwarfs-2-2-2/
LOCATION:F-127 – Theatre\, 3575 College Rd.\, Harrisburg\, IL\, 62946-4925\, United States
CATEGORIES:High School and Middle School,High School Productions Webpage,Visual and Performing Arts
ATTACH;FMTTYPE=image/jpeg:https://sic.edu/wp-content/uploads/2023/01/The-Velveteen-Rabbit-Flyer-CM-2023-scaled.jpg
ORGANIZER;CN="Caleb Long":MAILTO:clong@cmsfcats.org
END:VEVENT
END:VCALENDAR