BEGIN:VCALENDAR
VERSION:2.0
PRODID:-//Southeastern Illinois College - ECPv6.15.20//NONSGML v1.0//EN
CALSCALE:GREGORIAN
METHOD:PUBLISH
X-ORIGINAL-URL:https://sic.edu
X-WR-CALDESC:Events for Southeastern Illinois College
REFRESH-INTERVAL;VALUE=DURATION:PT1H
X-Robots-Tag:noindex
X-PUBLISHED-TTL:PT1H
BEGIN:VTIMEZONE
TZID:America/Chicago
BEGIN:DAYLIGHT
TZOFFSETFROM:-0600
TZOFFSETTO:-0500
TZNAME:CDT
DTSTART:20210314T080000
END:DAYLIGHT
BEGIN:STANDARD
TZOFFSETFROM:-0500
TZOFFSETTO:-0600
TZNAME:CST
DTSTART:20211107T070000
END:STANDARD
BEGIN:DAYLIGHT
TZOFFSETFROM:-0600
TZOFFSETTO:-0500
TZNAME:CDT
DTSTART:20220313T080000
END:DAYLIGHT
BEGIN:STANDARD
TZOFFSETFROM:-0500
TZOFFSETTO:-0600
TZNAME:CST
DTSTART:20221106T070000
END:STANDARD
BEGIN:DAYLIGHT
TZOFFSETFROM:-0600
TZOFFSETTO:-0500
TZNAME:CDT
DTSTART:20230312T080000
END:DAYLIGHT
BEGIN:STANDARD
TZOFFSETFROM:-0500
TZOFFSETTO:-0600
TZNAME:CST
DTSTART:20231105T070000
END:STANDARD
END:VTIMEZONE
BEGIN:VEVENT
DTSTART;TZID=America/Chicago:20220325T190000
DTEND;TZID=America/Chicago:20220325T210000
DTSTAMP:20260419T222024
CREATED:20220727T170955Z
LAST-MODIFIED:20220727T171000Z
UID:10002326-1648234800-1648242000@sic.edu
SUMMARY:Carrier Mills-Stonefort Schools present Snow White and the Seven Dwarfs
DESCRIPTION:Email clong@cmsfcats.org for tickets or more info.
URL:https://sic.edu/event/carrier-mills-stonefort-schools-present-snow-white-and-the-seven-dwarfs/
LOCATION:IL
CATEGORIES:High School and Middle School,Visual and Performing Arts
END:VEVENT
BEGIN:VEVENT
DTSTART;TZID=America/Chicago:20220326T190000
DTEND;TZID=America/Chicago:20220326T210000
DTSTAMP:20260419T222024
CREATED:20220727T170955Z
LAST-MODIFIED:20220727T170958Z
UID:10002327-1648321200-1648328400@sic.edu
SUMMARY:Carrier Mills-Stonefort Schools present Snow White and the Seven Dwarfs
DESCRIPTION:Email clong@cmsfcats.org for tickets or more info.
URL:https://sic.edu/event/carrier-mills-stonefort-schools-present-snow-white-and-the-seven-dwarfs-2/
LOCATION:IL
CATEGORIES:High School and Middle School,Visual and Performing Arts
END:VEVENT
BEGIN:VEVENT
DTSTART;TZID=America/Chicago:20220328T090000
DTEND;TZID=America/Chicago:20220328T130000
DTSTAMP:20260419T222024
CREATED:20220727T170955Z
LAST-MODIFIED:20220727T170956Z
UID:10002407-1648458000-1648472400@sic.edu
SUMMARY:Mt. Vernon 8th Grade CTE Spotlight Day
DESCRIPTION:Contact CTE (618-252-5400X2248) for more information
URL:https://sic.edu/event/mt-vernon-8th-grade-cte-spotlight-day/
LOCATION:IL
CATEGORIES:High School and Middle School
END:VEVENT
BEGIN:VEVENT
DTSTART;TZID=America/Chicago:20220412T090000
DTEND;TZID=America/Chicago:20220412T130000
DTSTAMP:20260419T222024
CREATED:20220727T170923Z
LAST-MODIFIED:20220727T170935Z
UID:10002486-1649754000-1649768400@sic.edu
SUMMARY:Senior Orientation: Eldorado High School
DESCRIPTION:Today we welcome our incoming college students from Eldorado High School! \nContact Tiffany Brannock at t.brannock@sic.edu or 618-252-5400\, ext. 2415 for more information.
URL:https://sic.edu/event/senior-orientation-eldorado-high-school/
LOCATION:IL
CATEGORIES:High School and Middle School
END:VEVENT
BEGIN:VEVENT
DTSTART;TZID=America/Chicago:20220413T090000
DTEND;TZID=America/Chicago:20220413T130000
DTSTAMP:20260419T222024
CREATED:20220727T170923Z
LAST-MODIFIED:20220727T170935Z
UID:10002487-1649840400-1649854800@sic.edu
SUMMARY:Senior Orientation: Carmi-White County High School
DESCRIPTION:Today we welcome our incoming college students from Carmi-White County High School! \nContact Tiffany Brannock at t.brannock@sic.edu or 618-252-5400\, ext. 2415 for more information.
URL:https://sic.edu/event/senior-orientation-carmi-white-county-high-school/
LOCATION:IL
CATEGORIES:High School and Middle School
END:VEVENT
BEGIN:VEVENT
DTSTART;TZID=America/Chicago:20220414T090000
DTEND;TZID=America/Chicago:20220414T130000
DTSTAMP:20260419T222024
CREATED:20220727T170923Z
LAST-MODIFIED:20220727T170933Z
UID:10002488-1649926800-1649941200@sic.edu
SUMMARY:Senior Orientation: Gallatin County High School and NCOE High School
DESCRIPTION:Today we welcome our incoming college students from Gallatin County High School and NCOE High School! \nContact Tiffany Brannock at t.brannock@sic.edu or 618-252-5400\, ext. 2415 for more information.
URL:https://sic.edu/event/senior-orientation-gallatin-county-high-school-and-ncoe-high-school/
LOCATION:IL
CATEGORIES:High School and Middle School
END:VEVENT
BEGIN:VEVENT
DTSTART;TZID=America/Chicago:20220419T080000
DTEND;TZID=America/Chicago:20220419T150000
DTSTAMP:20260419T222024
CREATED:20220727T170923Z
LAST-MODIFIED:20220727T170930Z
UID:10002405-1650355200-1650380400@sic.edu
SUMMARY:Ag Mechanics Competition
DESCRIPTION:High schools from around the region converge annually to compete at this event. For more information contact CTE at 618-252-5400 X2248 or email cte.recruiter@sic.edu.
URL:https://sic.edu/event/ag-mechanics-competition/
LOCATION:IL
CATEGORIES:High School and Middle School
END:VEVENT
BEGIN:VEVENT
DTSTART;TZID=America/Chicago:20220422T090000
DTEND;TZID=America/Chicago:20220422T130000
DTSTAMP:20260419T222024
CREATED:20220727T170859Z
LAST-MODIFIED:20220727T170917Z
UID:10002489-1650618000-1650632400@sic.edu
SUMMARY:Senior Orientation: Pope County High School & Vienna High School
DESCRIPTION:Today we welcome our incoming college students from Pope County High School and Vienna High School! \nContact Tiffany Brannock at t.brannock@sic.edu or 618-252-5400\, ext. 2415 for more information.
URL:https://sic.edu/event/senior-orientation-pope-county-high-school-vienna-high-school/
LOCATION:IL
CATEGORIES:High School and Middle School
END:VEVENT
BEGIN:VEVENT
DTSTART;TZID=America/Chicago:20220429T090000
DTEND;TZID=America/Chicago:20220429T133000
DTSTAMP:20260419T222024
CREATED:20220727T170847Z
LAST-MODIFIED:20220727T170857Z
UID:10002490-1651222800-1651239000@sic.edu
SUMMARY:Senior Orientation: Galatia High School and Hardin County High School
DESCRIPTION:Today we welcome our incoming college students from Galatia High School and Hardin County High School! \nContact Tiffany Brannock at t.brannock@sic.edu or 618-252-5400\, ext. 2415 for more information.
URL:https://sic.edu/event/senior-orientation-galatia-high-school-and-hardin-county-high-school/
LOCATION:IL
CATEGORIES:High School and Middle School
END:VEVENT
BEGIN:VEVENT
DTSTART;TZID=America/Chicago:20220504T090000
DTEND;TZID=America/Chicago:20220504T133000
DTSTAMP:20260419T222024
CREATED:20220727T170847Z
LAST-MODIFIED:20220727T170854Z
UID:10002491-1651654800-1651671000@sic.edu
SUMMARY:Senior Orientation: Carrier Mills-Stonefort High School
DESCRIPTION:Today we welcome our incoming college students from Carrier Mills-Stonefort High School! \nContact Tiffany Brannock at t.brannock@sic.edu or 618-252-5400\, ext. 2415 for more information.
URL:https://sic.edu/event/senior-orientation-carrier-mills-stonefort-high-school/
LOCATION:IL
CATEGORIES:High School and Middle School
END:VEVENT
BEGIN:VEVENT
DTSTART;TZID=America/Chicago:20220509T160000
DTEND;TZID=America/Chicago:20220509T203000
DTSTAMP:20260419T222024
CREATED:20220727T170847Z
LAST-MODIFIED:20220727T170850Z
UID:10002415-1652112000-1652128200@sic.edu
SUMMARY:Junior Falcon Productions: "Chicago" Auditions
DESCRIPTION:Jr. Falcon Auditions for Chicago: Teen Edition are for high school students and SIC students. Auditions will be located in the HHS Band Room (use door 21) \nAudition times are:Monday\, May 9\, 4-8:30 p.m.Tuesday\, May 10\, 3:30-5:30 p.m.Call Backs: Also May 10 at 5:30 p.m. \nThe show\, directed by Jack Gulley with music and choreography by Hanna Drake\, runs June 23 and 24 at 7 p.m. and June 26 at 2 p.m. Registration Fee: $60 due at auditions \nQuestions? Email: jr.falcon.sic@gmail.com \nFind the Audition Packet here \nSchedule your audition here: https://www.signupgenius.com/go/10C0C4AA4A72AAAF8CF8-chicago  \nFind us on social media!Instagram – @jr.falcon.productionsFacebook – Jr. Falcon Productions
URL:https://sic.edu/event/junior-falcon-productions-chicago-auditions/
LOCATION:IL
CATEGORIES:Community Events,High School and Middle School,Visual and Performing Arts
END:VEVENT
BEGIN:VEVENT
DTSTART;TZID=America/Chicago:20220510T153000
DTEND;TZID=America/Chicago:20220510T173000
DTSTAMP:20260419T222024
CREATED:20220727T170847Z
LAST-MODIFIED:20220727T170850Z
UID:10002556-1652196600-1652203800@sic.edu
SUMMARY:Junior Falcon Productions: "Chicago" Auditions
DESCRIPTION:Jr. Falcon Auditions for Chicago: Teen Edition are for high school students and SIC students. Auditions will be located in the HHS Band Room (use door 21) \nAudition times are:Monday\, May 9\, 4-8:30 p.m.Tuesday\, May 10\, 3:30-5:30 p.m.Call Backs: Also May 10 at 5:30 p.m. \nThe show\, directed by Jack Gulley with music and choreography by Hanna Drake\, runs June 23 and 24 at 7 p.m. and June 26 at 2 p.m. Registration Fee: $60 due at auditions \nQuestions? Email: jr.falcon.sic@gmail.com \nFind the Audition Packet here \nSchedule your audition here: https://www.signupgenius.com/go/10C0C4AA4A72AAAF8CF8-chicago  \nFind us on social media!Instagram – @jr.falcon.productionsFacebook – Jr. Falcon Productions
URL:https://sic.edu/event/junior-falcon-productions-chicago-auditions-2/
LOCATION:IL
CATEGORIES:Community Events,High School and Middle School,Visual and Performing Arts
END:VEVENT
BEGIN:VEVENT
DTSTART;TZID=America/Chicago:20220520T190000
DTEND;TZID=America/Chicago:20220520T210000
DTSTAMP:20260419T222024
CREATED:20220727T170832Z
LAST-MODIFIED:20220727T170843Z
UID:10002523-1653073200-1653080400@sic.edu
SUMMARY:EHS presents Peter Pan & Wendy
DESCRIPTION:Show dates are May 20 and 21 at 7 pm.\nTickets are $10 for adults\, $5 for students\, and can be purchased at the door or by contacting Katie Harbison or Miranda Cain at Eldorado High School: 618-273-2881.
URL:https://sic.edu/event/ehs-presents-peter-pan-wendy/
LOCATION:IL
CATEGORIES:High School and Middle School,Visual and Performing Arts
END:VEVENT
BEGIN:VEVENT
DTSTART;TZID=America/Chicago:20220520T190000
DTEND;TZID=America/Chicago:20220520T220000
DTSTAMP:20260419T222024
CREATED:20220203T214126Z
LAST-MODIFIED:20220203T214136Z
UID:10002308-1653073200-1653084000@sic.edu
SUMMARY:Eldorado High School Musical
DESCRIPTION:
URL:https://sic.edu/event/eldorado-high-school-musical/
LOCATION:F-127 – Theatre\, 3575 College Rd.\, Harrisburg\, IL\, 62946-4925\, United States
CATEGORIES:High School and Middle School
END:VEVENT
BEGIN:VEVENT
DTSTART;TZID=America/Chicago:20220521T190000
DTEND;TZID=America/Chicago:20220521T210000
DTSTAMP:20260419T222024
CREATED:20220727T170832Z
LAST-MODIFIED:20220727T170843Z
UID:10002524-1653159600-1653166800@sic.edu
SUMMARY:EHS presents Peter Pan & Wendy
DESCRIPTION:Show dates are May 20 and 21 at 7 pm.\nTickets are $10 for adults\, $5 for students\, and can be purchased at the door or by contacting Katie Harbison or Miranda Cain at Eldorado High School: 618-273-2881.
URL:https://sic.edu/event/ehs-presents-peter-pan-wendy-2/
LOCATION:IL
CATEGORIES:High School and Middle School,Visual and Performing Arts
END:VEVENT
BEGIN:VEVENT
DTSTART;TZID=America/Chicago:20220521T190000
DTEND;TZID=America/Chicago:20220521T220000
DTSTAMP:20260419T222024
CREATED:20220203T214126Z
LAST-MODIFIED:20220203T214136Z
UID:10002309-1653159600-1653170400@sic.edu
SUMMARY:Eldorado High School Musical
DESCRIPTION:
URL:https://sic.edu/event/eldorado-high-school-musical-2/
LOCATION:F-127 – Theatre\, 3575 College Rd.\, Harrisburg\, IL\, 62946-4925\, United States
CATEGORIES:High School and Middle School
END:VEVENT
BEGIN:VEVENT
DTSTART;TZID=America/Chicago:20220614T090000
DTEND;TZID=America/Chicago:20220614T160000
DTSTAMP:20260419T222024
CREATED:20220727T170832Z
LAST-MODIFIED:20220727T170838Z
UID:10002354-1655197200-1655222400@sic.edu
SUMMARY:Falcon Volleyball Camp for High School Teams - JV
DESCRIPTION:Falcon Volleyball Camp hosted by Coach Jon Watts and the Falcon Volleyball athletes. Skills taught: Footwork\, hitting\, passing\, serving\, setting and teamwork.  Please bring knee pads\, tennis shoes and a water bottle.  To pre-register contact Coach Jon Watts (618-922-4102) or jon.watts@sic.edu.  Please make checks payable to: Southeastern Illinois College (SIC).  \nTwo Courts \nHS JV camp June 14 Begins at 9:00HS Varsity Camp June 15-16 Begins at 9:00 \nCost is $125 per day for each camp.Camp T-Shirts Available $15
URL:https://sic.edu/event/falcon-volleyball-camp-for-high-school-teams-jv/
LOCATION:IL
CATEGORIES:Camps,High School and Middle School
END:VEVENT
BEGIN:VEVENT
DTSTART;TZID=America/Chicago:20220615T090000
DTEND;TZID=America/Chicago:20220615T160000
DTSTAMP:20260419T222024
CREATED:20220727T170832Z
LAST-MODIFIED:20220727T170837Z
UID:10002356-1655283600-1655308800@sic.edu
SUMMARY:Falcon Volleyball Camp for High School Teams - Varsity begins
DESCRIPTION:Falcon Volleyball Camp hosted by Coach Jon Watts and the Falcon Volleyball athletes. Skills taught: Footwork\, hitting\, passing\, serving\, setting and teamwork.  Please bring knee pads\, tennis shoes and a water bottle.  \nTo register\, contact Coach Jon Watts (618-922-4102) or jon.watts@sic.edu.  Please make checks payable to: Southeastern Illinois College (SIC).  \nTwo Courts \nHS JV camp June 14 Begins at 9:00HS Varsity Camp June 15-16 Begins at 9:00 \nCost is $125 per day for each camp.Camp T-Shirts Available $15
URL:https://sic.edu/event/falcon-volleyball-camp-for-high-school-teams-varsity-begins/
LOCATION:IL
CATEGORIES:Camps,High School and Middle School
END:VEVENT
BEGIN:VEVENT
DTSTART;TZID=America/Chicago:20220616T090000
DTEND;TZID=America/Chicago:20220616T160000
DTSTAMP:20260419T222024
CREATED:20220727T170832Z
LAST-MODIFIED:20220727T170837Z
UID:10002477-1655370000-1655395200@sic.edu
SUMMARY:Falcon Volleyball Camp for High School Teams - Varsity
DESCRIPTION:Falcon Volleyball Camp hosted by Coach Jon Watts and the Falcon Volleyball athletes. Skills taught: Footwork\, hitting\, passing\, serving\, setting and teamwork.  Please bring knee pads\, tennis shoes and a water bottle.  \nTo register\, contact Coach Jon Watts (618-922-4102) or jon.watts@sic.edu.  Please make checks payable to: Southeastern Illinois College (SIC).  \nTwo Courts \nHS JV camp June 14 Begins at 9:00HS Varsity Camp June 15-16 Begins at 9:00 \nCost is $125 per day for each camp.Camp T-Shirts Available $15
URL:https://sic.edu/event/falcon-volleyball-camp-for-high-school-teams-varsity/
LOCATION:IL
CATEGORIES:Camps,High School and Middle School
END:VEVENT
BEGIN:VEVENT
DTSTART;TZID=America/Chicago:20220623T190000
DTEND;TZID=America/Chicago:20220623T210000
DTSTAMP:20260419T222024
CREATED:20220727T170832Z
LAST-MODIFIED:20220727T170835Z
UID:10002516-1656010800-1656018000@sic.edu
SUMMARY:Chicago: Teen Edition by Jr. Falcon Productions
DESCRIPTION:This show will be performed by high school-aged students and SIC students. Directed by Jack Gulley with music and choreography by Hannah Drake. \nShow Dates:Thursday\, June 23 at 7 p.m.Friday\, June 24 at 7 p.m.Sunday\, June 26 at 2 p.m. \nEmail jr.falcon.sic@gmail.com for tickets!
URL:https://sic.edu/event/chicago-teen-edition-by-jr-falcon-productions/
LOCATION:IL
CATEGORIES:Community Events,High School and Middle School,Student Activities,Visual and Performing Arts
END:VEVENT
BEGIN:VEVENT
DTSTART;TZID=America/Chicago:20220624T190000
DTEND;TZID=America/Chicago:20220624T210000
DTSTAMP:20260419T222024
CREATED:20220727T170832Z
LAST-MODIFIED:20220727T170832Z
UID:10002517-1656097200-1656104400@sic.edu
SUMMARY:Chicago: Teen Edition by Jr. Falcon Productions
DESCRIPTION:This show will be performed by high school-aged students and SIC students. Directed by Jack Gulley with music and choreography by Hannah Drake. \nShow Dates:Thursday\, June 23 at 7 p.m.Friday\, June 24 at 7 p.m.Sunday\, June 26 at 2 p.m. \nEmail jr.falcon.sic@gmail.com for tickets!
URL:https://sic.edu/event/chicago-teen-edition-by-jr-falcon-productions-2/
LOCATION:IL
CATEGORIES:Community Events,High School and Middle School,Student Activities,Visual and Performing Arts
END:VEVENT
BEGIN:VEVENT
DTSTART;TZID=America/Chicago:20220626T190000
DTEND;TZID=America/Chicago:20220626T210000
DTSTAMP:20260419T222025
CREATED:20220727T170808Z
LAST-MODIFIED:20220727T170828Z
UID:10002518-1656270000-1656277200@sic.edu
SUMMARY:Chicago: Teen Edition by Jr. Falcon Productions
DESCRIPTION:This show will be performed by high school-aged students and SIC students. Directed by Jack Gulley with music and choreography by Hannah Drake. \nShow Dates:Thursday\, June 23 at 7 p.m.Friday\, June 24 at 7 p.m.Sunday\, June 26 at 2 p.m. \nEmail jr.falcon.sic@gmail.com for tickets!
URL:https://sic.edu/event/chicago-teen-edition-by-jr-falcon-productions-3/
LOCATION:IL
CATEGORIES:Community Events,High School and Middle School,Student Activities,Visual and Performing Arts
END:VEVENT
BEGIN:VEVENT
DTSTART;TZID=America/Chicago:20220708T190000
DTEND;TZID=America/Chicago:20220708T210000
DTSTAMP:20260419T222025
CREATED:20220727T170808Z
LAST-MODIFIED:20220727T170823Z
UID:10002519-1657306800-1657314000@sic.edu
SUMMARY:Willy Wonka Jr. by Junior Falcon Productions
DESCRIPTION:Jr. Falcon Productions is proud to present Roald Dahl’s Willy Wonka Jr. in the George T. Dennis Visual and Performing Arts Center Theatre! The performers are K-8 students from around the region. \nRoald Dahl’s timeless story of the world-famous candy man and his quest to find an heir is a golden ticket to adventure! \nShow Dates:Friday\, July 8 at 2 and 7 p.m.Saturday\, July 9 at 2 and 7 p.m.Sunday\, July 10 at 2 p.m. \nTickets will be be available one hour before each show or email jr.falcon.sic@gmail.com or call/text 618-841-4649 to order in advance. Cost: $10.00 for adults\, $8.00 for students.
URL:https://sic.edu/event/willy-wonka-jr-by-junior-falcon-productions/
LOCATION:IL
CATEGORIES:Community Events,High School and Middle School,Student Activities,Visual and Performing Arts
END:VEVENT
BEGIN:VEVENT
DTSTART;TZID=America/Chicago:20220709T140000
DTEND;TZID=America/Chicago:20220709T160000
DTSTAMP:20260419T222025
CREATED:20220727T170808Z
LAST-MODIFIED:20220727T170822Z
UID:10002525-1657375200-1657382400@sic.edu
SUMMARY:Willy Wonka Jr. by Junior Falcon Productions
DESCRIPTION:Jr. Falcon Productions is proud to present Roald Dahl’s Willy Wonka Jr. in the George T. Dennis Visual and Performing Arts Center Theatre! The performers are K-8 students from around the region. \nRoald Dahl’s timeless story of the world-famous candy man and his quest to find an heir is a golden ticket to adventure! \nShow Dates:Friday\, July 8 at 2 and 7 p.m.Saturday\, July 9 at 2 and 7 p.m.Sunday\, July 10 at 2 p.m. \nTickets will be be available one hour before each show or email jr.falcon.sic@gmail.com or call/text 618-841-4649 to order in advance. Cost: $10.00 for adults\, $8.00 for students.
URL:https://sic.edu/event/willy-wonka-jr-by-junior-falcon-productions-4/
LOCATION:IL
CATEGORIES:Community Events,High School and Middle School,Student Activities,Visual and Performing Arts
END:VEVENT
BEGIN:VEVENT
DTSTART;TZID=America/Chicago:20220709T190000
DTEND;TZID=America/Chicago:20220709T210000
DTSTAMP:20260419T222025
CREATED:20220727T170808Z
LAST-MODIFIED:20220727T170820Z
UID:10002520-1657393200-1657400400@sic.edu
SUMMARY:Willy Wonka Jr. by Junior Falcon Productions
DESCRIPTION:Jr. Falcon Productions is proud to present Roald Dahl’s Willy Wonka Jr. in the George T. Dennis Visual and Performing Arts Center Theatre! The performers are K-8 students from around the region. \nRoald Dahl’s timeless story of the world-famous candy man and his quest to find an heir is a golden ticket to adventure! \nShow Dates:Friday\, July 8 at 2 and 7 p.m.Saturday\, July 9 at 2 and 7 p.m.Sunday\, July 10 at 2 p.m. \nTickets will be be available one hour before each show or email jr.falcon.sic@gmail.com or call/text 618-841-4649 to order in advance. Cost: $10.00 for adults\, $8.00 for students.
URL:https://sic.edu/event/willy-wonka-jr-by-junior-falcon-productions-2/
LOCATION:IL
CATEGORIES:Community Events,High School and Middle School,Student Activities,Visual and Performing Arts
END:VEVENT
BEGIN:VEVENT
DTSTART;TZID=America/Chicago:20220710T140000
DTEND;TZID=America/Chicago:20220710T140000
DTSTAMP:20260419T222025
CREATED:20220727T170808Z
LAST-MODIFIED:20220727T170819Z
UID:10002521-1657461600-1657461600@sic.edu
SUMMARY:Willy Wonka Jr. by Junior Falcon Productions
DESCRIPTION:Jr. Falcon Productions is proud to present Roald Dahl’s Willy Wonka Jr. in the George T. Dennis Visual and Performing Arts Center Theatre! The performers are K-8 students from around the region. \nRoald Dahl’s timeless story of the world-famous candy man and his quest to find an heir is a golden ticket to adventure! \nShow Dates:Friday\, July 8 at 2 and 7 p.m.Saturday\, July 9 at 2 and 7 p.m.Sunday\, July 10 at 2 p.m. \nTickets will be be available one hour before each show or email jr.falcon.sic@gmail.com or call/text 618-841-4649 to order in advance. Cost: $10.00 for adults\, $8.00 for students.
URL:https://sic.edu/event/willy-wonka-jr-by-junior-falcon-productions-3/
LOCATION:IL
CATEGORIES:Community Events,High School and Middle School,Student Activities,Visual and Performing Arts
END:VEVENT
BEGIN:VEVENT
DTSTART;TZID=America/Chicago:20220711T090000
DTEND;TZID=America/Chicago:20220711T150000
DTSTAMP:20260419T222025
CREATED:20220727T170808Z
LAST-MODIFIED:20220727T170817Z
UID:10002484-1657530000-1657551600@sic.edu
SUMMARY:Middle School Esports Camp
DESCRIPTION:Esports Camp for Middle School Students with SIC Falcons Faction of Gamers WHEN: July 11\, 9 a.m. – 3p.m. (lunch provided) WHERE: SIC Esports Arena (Building B across from cafeteria) WHAT: Learn basics of Fortnite and Rocket League WHO: Middle school students new to the gamesCOST: $30 \nRegister here: sic.edu/esports-camp-form \nEmail esports@sic.edu for more info.
URL:https://sic.edu/event/middle-school-esports-camp/
LOCATION:IL
CATEGORIES:Camps,High School and Middle School
END:VEVENT
BEGIN:VEVENT
DTSTART;TZID=America/Chicago:20220713T090000
DTEND;TZID=America/Chicago:20220713T150000
DTSTAMP:20260419T222025
CREATED:20220727T170808Z
LAST-MODIFIED:20220727T170816Z
UID:10002485-1657702800-1657724400@sic.edu
SUMMARY:High School Esports Camp
DESCRIPTION:Esports Camp for High School Students with SIC Falcons Faction of Gamers \nWHEN: July 13 and 14\, 9 a.m.-3 p.m. (lunch provided) WHERE: SIC Esports Arena (Building B across from cafeteria) WHAT: Learn skills and tactics in Fortnite and Halo: Infinite\, how to stream matches\, and how to participate in tournamentsCOST: $60 \nRegister here: sic.edu/esports-camp-form \nEmail esports@sic.edu for more info.
URL:https://sic.edu/event/high-school-esports-camp/
LOCATION:IL
CATEGORIES:Camps,High School and Middle School
END:VEVENT
BEGIN:VEVENT
DTSTART;TZID=America/Chicago:20220821T083000
DTEND;TZID=America/Chicago:20220821T163000
DTSTAMP:20260419T222025
CREATED:20220727T170740Z
LAST-MODIFIED:20220727T170740Z
UID:10002619-1661070600-1661099400@sic.edu
SUMMARY:Mental Prep Skills Camp for SIC and High School Students
DESCRIPTION:This camp is for high school sophomores through college students in any sport. \nTopics: \n\novercoming adversity\nidentifying and using strengths\ngoal setting\ninfluence of social media\, plus many more.\nThere will be a panel of guest speakers\, including Coach Kim Wheeler of Carbondale High School Softball and Coach Kerry Martin of Marion High School Football. The camp will be directed by Maggie Calcaterra\, SIC Softball Coach and Psychology Instructor\, and Shana Silger (MS\,LPC\, CMPC) from Undefeated Sport and Performance Psychology\, LLC.\n\nCost: $45 – includes lunch and a T-shirt. \nTo register\, contact m.calcaterra@sic.edu or call 618-252-5400\, ext. 2212
URL:https://sic.edu/event/mental-prep-skills-camp-for-sic-and-high-school-students/
LOCATION:IL
CATEGORIES:Athletics & Competitive Teams,High School and Middle School,Student Activities
END:VEVENT
BEGIN:VEVENT
DTSTART;TZID=America/Chicago:20221022T190000
DTEND;TZID=America/Chicago:20221022T190000
DTSTAMP:20260419T222025
CREATED:20220926T162256Z
LAST-MODIFIED:20220928T204249Z
UID:10002703-1666465200-1666465200@sic.edu
SUMMARY:Harrisburg High School Fall "Tuck Everlasting"
DESCRIPTION:Contact Harrisburg High School for ticket information or sales: \nhhs.il.drama@gmail.com or 618-253-7637X2169 \nThere will be two performances: \n\nSaturday\, October 22nd @ 7:00 p.m.\nSunday\, October 23rd @ 2:00 p.m.
URL:https://sic.edu/event/harrisburg-high-school-truck-everlasting/
LOCATION:F-127 – Theatre\, 3575 College Rd.\, Harrisburg\, IL\, 62946-4925\, United States
CATEGORIES:High School and Middle School,Theatre
END:VEVENT
END:VCALENDAR