BEGIN:VCALENDAR
VERSION:2.0
PRODID:-//Southeastern Illinois College - ECPv6.15.20//NONSGML v1.0//EN
CALSCALE:GREGORIAN
METHOD:PUBLISH
X-WR-CALNAME:Southeastern Illinois College
X-ORIGINAL-URL:https://sic.edu
X-WR-CALDESC:Events for Southeastern Illinois College
REFRESH-INTERVAL;VALUE=DURATION:PT1H
X-Robots-Tag:noindex
X-PUBLISHED-TTL:PT1H
BEGIN:VTIMEZONE
TZID:America/Chicago
BEGIN:DAYLIGHT
TZOFFSETFROM:-0600
TZOFFSETTO:-0500
TZNAME:CDT
DTSTART:20230312T080000
END:DAYLIGHT
BEGIN:STANDARD
TZOFFSETFROM:-0500
TZOFFSETTO:-0600
TZNAME:CST
DTSTART:20231105T070000
END:STANDARD
BEGIN:DAYLIGHT
TZOFFSETFROM:-0600
TZOFFSETTO:-0500
TZNAME:CDT
DTSTART:20240310T080000
END:DAYLIGHT
BEGIN:STANDARD
TZOFFSETFROM:-0500
TZOFFSETTO:-0600
TZNAME:CST
DTSTART:20241103T070000
END:STANDARD
BEGIN:DAYLIGHT
TZOFFSETFROM:-0600
TZOFFSETTO:-0500
TZNAME:CDT
DTSTART:20250309T080000
END:DAYLIGHT
BEGIN:STANDARD
TZOFFSETFROM:-0500
TZOFFSETTO:-0600
TZNAME:CST
DTSTART:20251102T070000
END:STANDARD
END:VTIMEZONE
BEGIN:VEVENT
DTSTART;TZID=America/Chicago:20240328T120000
DTEND;TZID=America/Chicago:20240328T120000
DTSTAMP:20260419T230857
CREATED:20240228T215755Z
LAST-MODIFIED:20240326T140102Z
UID:10003226-1711627200-1711627200@sic.edu
SUMMARY:From Eldorado to D.C.: A Talk with SIC Alum David Blair
DESCRIPTION:SIC Student Government is hosting SIC Alumnus David Blair in the George T. Dennis Visual & Performing Arts Center Lobby Thursday\, March 28 at noon.\n\n\n \nMr. Blair will be discussing his journey from Eldorado to Washington D.C.\, the current political climate\, and what we can expect in the elections this fall.\n\n\n\nIn the 2016 Election Cycle he worked for the Trump Campaign and directed the Youth for Trump organization.   In January 2017 David obtained a position with the Trump Administration as a confidential assistant to the office of the U.S. Secretary of Agriculture.  Recently David established his own political consulting firm in  2021. \n\n\n\nThis event is free and open to the public. Please RSVP directly to matt.lees@sic.edu or call 618-252-5400\, ext. 2216\, if you plan to attend.
URL:https://sic.edu/event/sic-alumnus-luncheon-with-andy-abell-2/
LOCATION:F – George T. Dennis Visual & Performing Arts Center Lower Lobby\, 3575 College Rd.\, Harrisburg\, IL\, 62946
CATEGORIES:Community Events,Employee,Foundation and Alumni,Student Activities
ATTACH;FMTTYPE=image/jpeg:https://sic.edu/wp-content/uploads/2024/02/FB-Event-Cover-David-Blair-Visit-scaled.jpg
ORGANIZER;CN="Matt Lees":MAILTO:matt.lees@sic.edu
END:VEVENT
END:VCALENDAR