BEGIN:VCALENDAR
VERSION:2.0
PRODID:-//Southeastern Illinois College - ECPv6.15.20//NONSGML v1.0//EN
CALSCALE:GREGORIAN
METHOD:PUBLISH
X-ORIGINAL-URL:https://sic.edu
X-WR-CALDESC:Events for Southeastern Illinois College
REFRESH-INTERVAL;VALUE=DURATION:PT1H
X-Robots-Tag:noindex
X-PUBLISHED-TTL:PT1H
BEGIN:VTIMEZONE
TZID:America/Chicago
BEGIN:DAYLIGHT
TZOFFSETFROM:-0600
TZOFFSETTO:-0500
TZNAME:CDT
DTSTART:20240310T080000
END:DAYLIGHT
BEGIN:STANDARD
TZOFFSETFROM:-0500
TZOFFSETTO:-0600
TZNAME:CST
DTSTART:20241103T070000
END:STANDARD
BEGIN:DAYLIGHT
TZOFFSETFROM:-0600
TZOFFSETTO:-0500
TZNAME:CDT
DTSTART:20250309T080000
END:DAYLIGHT
BEGIN:STANDARD
TZOFFSETFROM:-0500
TZOFFSETTO:-0600
TZNAME:CST
DTSTART:20251102T070000
END:STANDARD
BEGIN:DAYLIGHT
TZOFFSETFROM:-0600
TZOFFSETTO:-0500
TZNAME:CDT
DTSTART:20260308T080000
END:DAYLIGHT
BEGIN:STANDARD
TZOFFSETFROM:-0500
TZOFFSETTO:-0600
TZNAME:CST
DTSTART:20261101T070000
END:STANDARD
END:VTIMEZONE
BEGIN:VEVENT
DTSTART;TZID=America/Chicago:20250410T120000
DTEND;TZID=America/Chicago:20250410T130000
DTSTAMP:20260423T161152
CREATED:20241009T165707Z
LAST-MODIFIED:20250115T153308Z
UID:10003601-1744286400-1744290000@sic.edu
SUMMARY:Bring Your Own Book Group
DESCRIPTION:For all interested students and SIC employees.
URL:https://sic.edu/event/bring-your-own-book-group-5/
LOCATION:Learning Commons\, 3575 College Rd.\, Harrisburg\, IL\, 62946\, United States
CATEGORIES:Employee,Student Activities
ATTACH;FMTTYPE=image/png:https://sic.edu/wp-content/uploads/2024/10/Bring-Your-Own-Book-Group-just-books-for-web.png
ORGANIZER;CN="Arla Murphy%2C Director of Learning Commons":MAILTO:arla.murphy@sic.edu
END:VEVENT
BEGIN:VEVENT
DTSTART;TZID=America/Chicago:20250410T160000
DTEND;TZID=America/Chicago:20250410T180000
DTSTAMP:20260423T161152
CREATED:20250324T205523Z
LAST-MODIFIED:20250327T020722Z
UID:10003799-1744300800-1744308000@sic.edu
SUMMARY:Pasta Fundraiser for Veterans Honor Flight
DESCRIPTION:Join us for a spaghetti dinner fundraiser hosted by SIC Student Government to support the Veterans Honor Flight of Southern Illinois. Chef Michael Intravaia will prepare a delicious pasta meal served with salad\, dessert and a drink. Dine-in and take-out options are available. \nTickets are $20 per person. All proceeds will help send a veteran and their guardian to Washington\, D.C. this fall as part of the Veterans Honor Flight. \nFor tickets or more information\, contact any SIC Student Government member or Kellye Whitler at 618-252-5400\, ext. 2486.
URL:https://sic.edu/event/pasta-fundraiser-for-veterans-honor-flight/
LOCATION:B-129 – Harry L. Crisp Student Center
CATEGORIES:Community Events,Student Activities
ATTACH;FMTTYPE=image/jpeg:https://sic.edu/wp-content/uploads/2025/03/486560582_1264650075668962_5503415245304919350_n-scaled.jpg
ORGANIZER;CN="Kellye Whitler%2C Events Director":MAILTO:boxoffice@sic.edu
END:VEVENT
END:VCALENDAR