BEGIN:VCALENDAR
VERSION:2.0
PRODID:-//Southeastern Illinois College - ECPv6.15.20//NONSGML v1.0//EN
CALSCALE:GREGORIAN
METHOD:PUBLISH
X-ORIGINAL-URL:https://sic.edu
X-WR-CALDESC:Events for Southeastern Illinois College
REFRESH-INTERVAL;VALUE=DURATION:PT1H
X-Robots-Tag:noindex
X-PUBLISHED-TTL:PT1H
BEGIN:VTIMEZONE
TZID:America/Chicago
BEGIN:DAYLIGHT
TZOFFSETFROM:-0600
TZOFFSETTO:-0500
TZNAME:CDT
DTSTART:20240310T080000
END:DAYLIGHT
BEGIN:STANDARD
TZOFFSETFROM:-0500
TZOFFSETTO:-0600
TZNAME:CST
DTSTART:20241103T070000
END:STANDARD
BEGIN:DAYLIGHT
TZOFFSETFROM:-0600
TZOFFSETTO:-0500
TZNAME:CDT
DTSTART:20250309T080000
END:DAYLIGHT
BEGIN:STANDARD
TZOFFSETFROM:-0500
TZOFFSETTO:-0600
TZNAME:CST
DTSTART:20251102T070000
END:STANDARD
BEGIN:DAYLIGHT
TZOFFSETFROM:-0600
TZOFFSETTO:-0500
TZNAME:CDT
DTSTART:20260308T080000
END:DAYLIGHT
BEGIN:STANDARD
TZOFFSETFROM:-0500
TZOFFSETTO:-0600
TZNAME:CST
DTSTART:20261101T070000
END:STANDARD
END:VTIMEZONE
BEGIN:VEVENT
DTSTART;TZID=America/Chicago:20250514T090000
DTEND;TZID=America/Chicago:20250514T160000
DTSTAMP:20260423T031657
CREATED:20250501T161404Z
LAST-MODIFIED:20250512T153140Z
UID:10003825-1747213200-1747238400@sic.edu
SUMMARY:🎪 Carnival in the Commons
DESCRIPTION:Celebrate the end of the semester with a fun-filled carnival in the Commons!🎉 Free cotton candy\, snow cones\, hot dogs\, soda\, and popcorn (until we run out!)🎮 Video games on every TV👢 Morning line dancing with JoAnna and some of our SIC theatre dancers \nOpen to all SIC students — come join the fun before finals wrap up!
URL:https://sic.edu/event/%f0%9f%8e%aa-carnival-in-the-commons/
LOCATION:Learning Commons\, 3575 College Rd.\, Harrisburg\, IL\, 62946\, United States
CATEGORIES:Student Activities
ORGANIZER;CN="Arla Murphy%2C Director of Learning Commons":MAILTO:arla.murphy@sic.edu
END:VEVENT
END:VCALENDAR