BEGIN:VCALENDAR
VERSION:2.0
PRODID:-//Southeastern Illinois College - ECPv6.15.20//NONSGML v1.0//EN
CALSCALE:GREGORIAN
METHOD:PUBLISH
X-ORIGINAL-URL:https://sic.edu
X-WR-CALDESC:Events for Southeastern Illinois College
REFRESH-INTERVAL;VALUE=DURATION:PT1H
X-Robots-Tag:noindex
X-PUBLISHED-TTL:PT1H
BEGIN:VTIMEZONE
TZID:America/Chicago
BEGIN:DAYLIGHT
TZOFFSETFROM:-0600
TZOFFSETTO:-0500
TZNAME:CDT
DTSTART:20250309T080000
END:DAYLIGHT
BEGIN:STANDARD
TZOFFSETFROM:-0500
TZOFFSETTO:-0600
TZNAME:CST
DTSTART:20251102T070000
END:STANDARD
BEGIN:DAYLIGHT
TZOFFSETFROM:-0600
TZOFFSETTO:-0500
TZNAME:CDT
DTSTART:20260308T080000
END:DAYLIGHT
BEGIN:STANDARD
TZOFFSETFROM:-0500
TZOFFSETTO:-0600
TZNAME:CST
DTSTART:20261101T070000
END:STANDARD
BEGIN:DAYLIGHT
TZOFFSETFROM:-0600
TZOFFSETTO:-0500
TZNAME:CDT
DTSTART:20270314T080000
END:DAYLIGHT
BEGIN:STANDARD
TZOFFSETFROM:-0500
TZOFFSETTO:-0600
TZNAME:CST
DTSTART:20271107T070000
END:STANDARD
END:VTIMEZONE
BEGIN:VEVENT
DTSTART;TZID=America/Chicago:20260423T160000
DTEND;TZID=America/Chicago:20260423T180000
DTSTAMP:20260423T080616
CREATED:20260327T132446Z
LAST-MODIFIED:20260420T160848Z
UID:10004762-1776960000-1776967200@sic.edu
SUMMARY:Saline County CEO Trade Show
DESCRIPTION:  \nThis event is free to the public. Come support our young local entrepreneurs\, and shop the student businesses! \nCEO is a year-long course for high school seniors designed to provide an overview of business development and processes. Students visit area businesses\, learn from guest speakers\, write business plans\, and start and operate their own businesses. \n  \n 
URL:https://sic.edu/event/saline-county-ceo-trade-show-5/
LOCATION:B-129 – Harry L. Crisp Student Center
CATEGORIES:Community Events,High School and Middle School,Student Activities
ATTACH;FMTTYPE=image/jpeg:https://sic.edu/wp-content/uploads/2026/03/Saline-County-CEO-Trade-Show-web.jpg
ORGANIZER;CN="Tina Norman%2C Saline County CEO Facilitator":MAILTO:facilitator@salinecountyceo.com
END:VEVENT
BEGIN:VEVENT
DTSTART;TZID=America/Chicago:20260428T100000
DTEND;TZID=America/Chicago:20260428T130000
DTSTAMP:20260423T080616
CREATED:20260401T203451Z
LAST-MODIFIED:20260401T203451Z
UID:10004766-1777370400-1777381200@sic.edu
SUMMARY:USI Representative on Campus
DESCRIPTION:A University of Southern Indiana representative will be on campus in A/B lobby from 10 a.m. – 1 p.m. Visit the table for information on transferring to USI.
URL:https://sic.edu/event/usi-representative-on-campus-2/
LOCATION:A/B Lobby
CATEGORIES:Student Activities,University Representative
ORGANIZER;CN="Kellye Whitler%2C Events Director":MAILTO:boxoffice@sic.edu
END:VEVENT
BEGIN:VEVENT
DTSTART;TZID=America/Chicago:20260429T090000
DTEND;TZID=America/Chicago:20260429T130000
DTSTAMP:20260423T080616
CREATED:20260401T203658Z
LAST-MODIFIED:20260401T203658Z
UID:10004768-1777453200-1777467600@sic.edu
SUMMARY:SIU-C Representative on Campus
DESCRIPTION:An SIU-C representative will be on campus in A/B lobby from 9 a.m. – 1 p.m. for students planning to transfer to SIU.
URL:https://sic.edu/event/siu-c-representative-on-campus-9/
LOCATION:A/B Lobby
CATEGORIES:Student Activities,University Representative
ORGANIZER;CN="Kellye Whitler%2C Events Director":MAILTO:boxoffice@sic.edu
END:VEVENT
BEGIN:VEVENT
DTSTART;TZID=America/Chicago:20260508T110000
DTEND;TZID=America/Chicago:20260508T150000
DTSTAMP:20260423T080616
CREATED:20260421T194852Z
LAST-MODIFIED:20260421T194938Z
UID:10004819-1778238000-1778252400@sic.edu
SUMMARY:Lunch at the Lake (Mental Health Week)
DESCRIPTION:SIC students\, join us for Lunch at the Lake as part of Mental Health Week. Enjoy a relaxing afternoon by the water with a picnic-style gathering\, fresh air\, and time to connect. Hosted by TRIO MH. Sign up in advance to participate.
URL:https://sic.edu/event/lunch-at-the-lake-mental-health-week/
LOCATION:Glen O. Jones Lake\, 85 Glen O. Jones Road\, Equality\, IL\, 62934
CATEGORIES:Student Activities
ORGANIZER;CN="Brittany Warren%2C Student Mental Health Counselor":MAILTO:brittany.warren@sic.edu
END:VEVENT
BEGIN:VEVENT
DTSTART;TZID=America/Chicago:20260514T160000
DTEND;TZID=America/Chicago:20260514T160000
DTSTAMP:20260423T080616
CREATED:20260130T185719Z
LAST-MODIFIED:20260130T185719Z
UID:10004714-1778774400-1778774400@sic.edu
SUMMARY:Nurse Pinning Ceremony
DESCRIPTION:Congratulations to all our graduating nurses!  We’re proud of your hard work! A reception will follow the Shirley Oshel Nursing Complex.
URL:https://sic.edu/event/nurse-pinning-ceremony-2/
LOCATION:C-106 Joseph C. Deaton Gym\, SIC 3575 College R\, HARRISBURG\, IL\, 62946
CATEGORIES:Academic Calendar,Community Events,Student Activities
ORGANIZER;CN="Dr. Emily York - Director of Nursing":MAILTO:nursing@sic.edu
END:VEVENT
BEGIN:VEVENT
DTSTART;TZID=America/Chicago:20260710T190000
DTEND;TZID=America/Chicago:20260710T190000
DTSTAMP:20260423T080616
CREATED:20260226T204724Z
LAST-MODIFIED:20260226T204724Z
UID:10004752-1783710000-1783710000@sic.edu
SUMMARY:"Finding Nemo Jr." by Jr. Falcon Productions
DESCRIPTION:Dates & Times:Friday\, July 10\, 2026 at 7 p.m.Saturday\, July 11\, 2026 at 7 p.m.Sunday\, July 12\, 2026 at 2 p.m. \nThis youth production features talented students in Kindergarten through 9th grade as they bring the beloved underwater adventure to life on stage. It’s a fun\, family-friendly show filled with music\, heart and memorable characters. \nTicket Prices:$10 Adults$8 Students\, Staff\, Seniors and Veterans \nPurchase tickets at:sic.edu/boxoffice \nFor more information:jr.falcon.productions@gmail.com
URL:https://sic.edu/event/finding-nemo-jr-by-jr-falcon-productions/2026-07-10/
LOCATION:F-127 – Theatre\, 3575 College Rd.\, Harrisburg\, IL\, 62946-4925\, United States
CATEGORIES:Children's Activities Webpage,Community Events,High School and Middle School,Jr. Falcon Productions Webpage,Student Activities,Theatre,Visual and Performing Arts
ORGANIZER;CN="Joshua Kimball%2C Dance Instructor/ Choreographer":MAILTO:joshua.kimball@sic.edu
END:VEVENT
BEGIN:VEVENT
DTSTART;TZID=America/Chicago:20260711T190000
DTEND;TZID=America/Chicago:20260711T190000
DTSTAMP:20260423T080616
CREATED:20260226T204724Z
LAST-MODIFIED:20260226T204724Z
UID:10004753-1783796400-1783796400@sic.edu
SUMMARY:"Finding Nemo Jr." by Jr. Falcon Productions
DESCRIPTION:Dates & Times:Friday\, July 10\, 2026 at 7 p.m.Saturday\, July 11\, 2026 at 7 p.m.Sunday\, July 12\, 2026 at 2 p.m. \nThis youth production features talented students in Kindergarten through 9th grade as they bring the beloved underwater adventure to life on stage. It’s a fun\, family-friendly show filled with music\, heart and memorable characters. \nTicket Prices:$10 Adults$8 Students\, Staff\, Seniors and Veterans \nPurchase tickets at:sic.edu/boxoffice \nFor more information:jr.falcon.productions@gmail.com
URL:https://sic.edu/event/finding-nemo-jr-by-jr-falcon-productions/2026-07-11/
LOCATION:F-127 – Theatre\, 3575 College Rd.\, Harrisburg\, IL\, 62946-4925\, United States
CATEGORIES:Children's Activities Webpage,Community Events,High School and Middle School,Jr. Falcon Productions Webpage,Student Activities,Theatre,Visual and Performing Arts
ORGANIZER;CN="Joshua Kimball%2C Dance Instructor/ Choreographer":MAILTO:joshua.kimball@sic.edu
END:VEVENT
BEGIN:VEVENT
DTSTART;TZID=America/Chicago:20260712T140000
DTEND;TZID=America/Chicago:20260712T140000
DTSTAMP:20260423T080616
CREATED:20260226T204724Z
LAST-MODIFIED:20260226T204724Z
UID:10004754-1783864800-1783864800@sic.edu
SUMMARY:"Finding Nemo Jr." by Jr. Falcon Productions
DESCRIPTION:Dates & Times:Friday\, July 10\, 2026 at 7 p.m.Saturday\, July 11\, 2026 at 7 p.m.Sunday\, July 12\, 2026 at 2 p.m. \nThis youth production features talented students in Kindergarten through 9th grade as they bring the beloved underwater adventure to life on stage. It’s a fun\, family-friendly show filled with music\, heart and memorable characters. \nTicket Prices:$10 Adults$8 Students\, Staff\, Seniors and Veterans \nPurchase tickets at:sic.edu/boxoffice \nFor more information:jr.falcon.productions@gmail.com
URL:https://sic.edu/event/finding-nemo-jr-by-jr-falcon-productions/2026-07-12/
LOCATION:F-127 – Theatre\, 3575 College Rd.\, Harrisburg\, IL\, 62946-4925\, United States
CATEGORIES:Children's Activities Webpage,Community Events,High School and Middle School,Jr. Falcon Productions Webpage,Student Activities,Theatre,Visual and Performing Arts
ORGANIZER;CN="Joshua Kimball%2C Dance Instructor/ Choreographer":MAILTO:joshua.kimball@sic.edu
END:VEVENT
BEGIN:VEVENT
DTSTART;VALUE=DATE:20261001
DTEND;VALUE=DATE:20261003
DTSTAMP:20260423T080616
CREATED:20260420T155224Z
LAST-MODIFIED:20260420T155242Z
UID:10004818-1790812800-1790985599@sic.edu
SUMMARY:OWL Overnight Camping Event
DESCRIPTION:As part of OWL Activity Week\, students in the Outfitter Wildlife Management Program will participate in their annual overnight camping exercise as part of their outdoor guiding curriculum\, complete with setting up camp and outdoor cooking. \nThis is a private event for OWL students only.
URL:https://sic.edu/event/owl-overnight-camping-event/
LOCATION:Chuck Hearn Outdoor Education Complex
CATEGORIES:Student Activities
ORGANIZER;CN="Jordan Hammersley":MAILTO:jordan.hammersley@sic.edu
END:VEVENT
END:VCALENDAR