BEGIN:VCALENDAR
VERSION:2.0
PRODID:-//Southeastern Illinois College - ECPv6.15.20//NONSGML v1.0//EN
CALSCALE:GREGORIAN
METHOD:PUBLISH
X-WR-CALNAME:Southeastern Illinois College
X-ORIGINAL-URL:https://sic.edu
X-WR-CALDESC:Events for Southeastern Illinois College
REFRESH-INTERVAL;VALUE=DURATION:PT1H
X-Robots-Tag:noindex
X-PUBLISHED-TTL:PT1H
BEGIN:VTIMEZONE
TZID:America/Chicago
BEGIN:DAYLIGHT
TZOFFSETFROM:-0600
TZOFFSETTO:-0500
TZNAME:CDT
DTSTART:20220313T080000
END:DAYLIGHT
BEGIN:STANDARD
TZOFFSETFROM:-0500
TZOFFSETTO:-0600
TZNAME:CST
DTSTART:20221106T070000
END:STANDARD
BEGIN:DAYLIGHT
TZOFFSETFROM:-0600
TZOFFSETTO:-0500
TZNAME:CDT
DTSTART:20230312T080000
END:DAYLIGHT
BEGIN:STANDARD
TZOFFSETFROM:-0500
TZOFFSETTO:-0600
TZNAME:CST
DTSTART:20231105T070000
END:STANDARD
BEGIN:DAYLIGHT
TZOFFSETFROM:-0600
TZOFFSETTO:-0500
TZNAME:CDT
DTSTART:20240310T080000
END:DAYLIGHT
BEGIN:STANDARD
TZOFFSETFROM:-0500
TZOFFSETTO:-0600
TZNAME:CST
DTSTART:20241103T070000
END:STANDARD
END:VTIMEZONE
BEGIN:VEVENT
DTSTART;TZID=America/Chicago:20230629T130000
DTEND;TZID=America/Chicago:20230629T140000
DTSTAMP:20260422T061757
CREATED:20230530T162920Z
LAST-MODIFIED:20230530T182224Z
UID:10002950-1688043600-1688047200@sic.edu
SUMMARY:College for Kids - Fun Crafts with Lorelei! #4
DESCRIPTION:Fun Crafts with Lorelei is part of this year’s College for Kids at SIC’s David L. Stanley White County Center in Carmi. \nLorelei Stone will be teaching a Shell Art art class for children aged 7 – 12 on Thursday\, June 29 from 1 to 2 p.m. Cost is $5 plus a $5 supply fee. Call (618) 382-8869 or visit the SIC’s David L. Stanley White County Center to register.
URL:https://sic.edu/event/fun-crafts-with-lorelei-2-2-2/
LOCATION:David L. Stanley White County Center\, 1700 College Ave.\, Carmi\, IL\, 62821
CATEGORIES:Carmi Center Classes and Events,Children's Activities
ATTACH;FMTTYPE=image/jpeg:https://sic.edu/wp-content/uploads/2023/05/FB-Event-Banner-Crafts-with-Lorelei-scaled.jpg
ORGANIZER;CN="Terri Absher":MAILTO:terri.absher@sic.edu
END:VEVENT
BEGIN:VEVENT
DTSTART;TZID=America/Chicago:20230629T110000
DTEND;TZID=America/Chicago:20230629T120000
DTSTAMP:20260422T061757
CREATED:20230530T162118Z
LAST-MODIFIED:20230530T182058Z
UID:10002948-1688036400-1688040000@sic.edu
SUMMARY:College for Kids - Fun Crafts with Lorelei! #3
DESCRIPTION:Fun Crafts with Lorelei is part of this year’s College for Kids at SIC’s David L. Stanley White County Center in Carmi. \nLorelei Stone will be teaching a Christmas in June art class for children aged 7 – 12 on Thursday\, June 29 from 11 a.m. to 12 p.m. Cost is $5 plus a $5 supply fee. Call (618) 382-8869 or visit the SIC’s David L. Stanley White County Center to register. \nAdditional upcoming Fun Crafts with Lorelei class: \nJune 29 – 1-2 p.m. – Shell Art
URL:https://sic.edu/event/fun-crafts-with-lorelei-2-2/
LOCATION:David L. Stanley White County Center\, 1700 College Ave.\, Carmi\, IL\, 62821
CATEGORIES:Carmi Center Classes and Events,Children's Activities
ATTACH;FMTTYPE=image/jpeg:https://sic.edu/wp-content/uploads/2023/05/FB-Event-Banner-Crafts-with-Lorelei-scaled.jpg
ORGANIZER;CN="Terri Absher":MAILTO:terri.absher@sic.edu
END:VEVENT
BEGIN:VEVENT
DTSTART;TZID=America/Chicago:20230628T120000
DTEND;TZID=America/Chicago:20230628T120000
DTSTAMP:20260422T061757
CREATED:20230324T154219Z
LAST-MODIFIED:20230419T131831Z
UID:10002912-1687953600-1687953600@sic.edu
SUMMARY:GED Testing
DESCRIPTION:Find information on available GED test prep classes at sic.edu/ged
URL:https://sic.edu/event/ged-testing-22/
LOCATION:A-146 Testing
CATEGORIES:Testing
ORGANIZER;CN="Testing Center":MAILTO:testing@sic.edu
END:VEVENT
BEGIN:VEVENT
DTSTART;TZID=America/Chicago:20230627T090000
DTEND;TZID=America/Chicago:20230627T143000
DTSTAMP:20260422T061757
CREATED:20220727T170808Z
LAST-MODIFIED:20230504T182204Z
UID:10002401-1687856400-1687876200@sic.edu
SUMMARY:Softball All Skills Summer Camp Begins (Ages 5-18)
DESCRIPTION:Softball All Skills Summer Camp with the SIC Falcon Softball Team! \nCOST: $50 — includes camp T-shirt \nWHAT TO BRING: \n\nFielding Glove\nBat\nHelmet\nWater\nBatting gloves (optional but suggested)\nFielding Facemask (optional but suggested)\n\nClick here for the Registration Form
URL:https://sic.edu/event/softball-all-skills-summer-camp-begins-ages-5-18/
LOCATION:Falcon Field\, 3575 College Rd.\, Harrisburg\, IL\, 62946
CATEGORIES:Athletics & Competitive Teams,Camps,Children's Activities,High School and Middle School
ATTACH;FMTTYPE=image/png:https://sic.edu/wp-content/uploads/2022/07/2023-All-Skills-Camp-FB-Header.png
ORGANIZER;CN="Maggie Calcaterra":MAILTO:m.calcaterra@sic.edu
END:VEVENT
BEGIN:VEVENT
DTSTART;TZID=America/Chicago:20230626T000000
DTEND;TZID=America/Chicago:20230626T000000
DTSTAMP:20260422T061757
CREATED:20220727T170704Z
LAST-MODIFIED:20220727T170707Z
UID:10002452-1687737600-1687737600@sic.edu
SUMMARY:2nd Summer 5-week Mini-Semester Begins
DESCRIPTION:The first Summer 5-week Mini-Semester begins May 22. \nThe second Summer 5-week Mini-Semester begins June 26 \nJust remember\, mini-semester courses are the same amount of material as the regular 16-week course! \nIf you think this is for you\, email advising@sic.edu or register on MySIC.
URL:https://sic.edu/event/2nd-summer-5-week-mini-semester-begins-2/
LOCATION:IL
CATEGORIES:Academic Calendar
END:VEVENT
BEGIN:VEVENT
DTSTART;TZID=America/Chicago:20230624T190000
DTEND;TZID=America/Chicago:20230624T190000
DTSTAMP:20260422T061757
CREATED:20230425T143743Z
LAST-MODIFIED:20230612T184750Z
UID:10002926-1687633200-1687633200@sic.edu
SUMMARY:"The Spongebob Musical" by Jr. Falcon Productions
DESCRIPTION:This show will be performed by high school-aged students and SIC students. \nShow Dates:\nThursday\, June 22 at 7 p.m.\nFriday\, June 23 at 7 p.m.\nSaturday\, June 24 at 7 p.m. \nEmail jr.falcon.sic@gmail.com for more info! \nTicket link: sic.edu/boxoffice
URL:https://sic.edu/event/chicago-teen-edition-by-jr-falcon-productions-3-2-2/
LOCATION:F-127 – Theatre\, 3575 College Rd.\, Harrisburg\, IL\, 62946-4925\, United States
CATEGORIES:Community Events,High School and Middle School,Jr. Falcon Productions Webpage,Student Activities,Theatre,Theatre Webpage,Visual and Performing Arts
ATTACH;FMTTYPE=image/jpeg:https://sic.edu/wp-content/uploads/2023/04/Eld-BB-SpongeBob.jpg
ORGANIZER;CN="Kellye Whitler%2C Events Director":MAILTO:boxoffice@sic.edu
END:VEVENT
BEGIN:VEVENT
DTSTART;TZID=America/Chicago:20230623T190000
DTEND;TZID=America/Chicago:20230623T190000
DTSTAMP:20260422T061757
CREATED:20230425T143308Z
LAST-MODIFIED:20230612T184717Z
UID:10002925-1687546800-1687546800@sic.edu
SUMMARY:"The Spongebob Musical" by Jr. Falcon Productions
DESCRIPTION:This show will be performed by high school-aged students and SIC students. \nShow Dates:\nThursday\, June 22 at 7 p.m.\nFriday\, June 23 at 7 p.m.\nSaturday\, June 24 at 7 p.m. \nEmail jr.falcon.sic@gmail.com for more info! \nTicket link: sic.edu/boxoffice
URL:https://sic.edu/event/chicago-teen-edition-by-jr-falcon-productions-3-2/
LOCATION:F-127 – Theatre\, 3575 College Rd.\, Harrisburg\, IL\, 62946-4925\, United States
CATEGORIES:Community Events,High School and Middle School,Jr. Falcon Productions Webpage,Student Activities,Theatre,Theatre Webpage,Visual and Performing Arts
ATTACH;FMTTYPE=image/jpeg:https://sic.edu/wp-content/uploads/2023/04/Eld-BB-SpongeBob.jpg
ORGANIZER;CN="Kellye Whitler%2C Events Director":MAILTO:boxoffice@sic.edu
END:VEVENT
BEGIN:VEVENT
DTSTART;TZID=America/Chicago:20230622T190000
DTEND;TZID=America/Chicago:20230622T190000
DTSTAMP:20260422T061757
CREATED:20230425T144022Z
LAST-MODIFIED:20230612T184241Z
UID:10002927-1687460400-1687460400@sic.edu
SUMMARY:"The Spongebob Musical" by Jr. Falcon Productions
DESCRIPTION:This show will be performed by high school-aged students and SIC students. \nShow Dates:\nThursday\, June 22 at 7 p.m.\nFriday\, June 23 at 7 p.m.\nSaturday\, June 24 at 7 p.m. \nEmail jr.falcon.sic@gmail.com for more info! \nTicket link: sic.edu/boxoffice
URL:https://sic.edu/event/chicago-teen-edition-by-jr-falcon-productions-3-2-2-2/
LOCATION:F-127 – Theatre\, 3575 College Rd.\, Harrisburg\, IL\, 62946-4925\, United States
CATEGORIES:Community Events,High School and Middle School,Jr. Falcon Productions Webpage,Student Activities,Theatre,Theatre Webpage,Visual and Performing Arts
ATTACH;FMTTYPE=image/jpeg:https://sic.edu/wp-content/uploads/2023/04/Eld-BB-SpongeBob.jpg
ORGANIZER;CN="Kellye Whitler%2C Events Director":MAILTO:boxoffice@sic.edu
END:VEVENT
BEGIN:VEVENT
DTSTART;TZID=America/Chicago:20230622T090000
DTEND;TZID=America/Chicago:20230622T150000
DTSTAMP:20260422T061757
CREATED:20230524T210502Z
LAST-MODIFIED:20230612T184625Z
UID:10002938-1687424400-1687446000@sic.edu
SUMMARY:Middle School Esports Camp - Intro to Rocket League
DESCRIPTION:
URL:https://sic.edu/event/middle-school-esports-camp-2/
LOCATION:Esports Arena – B130\, across from cafeteria in B building
CATEGORIES:Camps,Children's Choir Webpage,High School and Middle School
ATTACH;FMTTYPE=image/png:https://sic.edu/wp-content/uploads/2023/05/Camp-banner-for-calendar.png
ORGANIZER;CN="Jason Fitzgerald%2C Math &amp%3B Science Division Chair%2C Esports Coach":MAILTO:jason.fitzgerald@sic.edu
END:VEVENT
BEGIN:VEVENT
DTSTART;TZID=America/Chicago:20230621T140000
DTEND;TZID=America/Chicago:20230621T150000
DTSTAMP:20260422T061757
CREATED:20230530T184920Z
LAST-MODIFIED:20230530T185006Z
UID:10002954-1687356000-1687359600@sic.edu
SUMMARY:College for Kids - The Basics of Music
DESCRIPTION:Who doesn’t love music? \nLet’s create some beautiful music together! Join Kristina Aldrich as she instructs students aged 8 – 10 about musical notes\, beats\, rhythms\, and how different sounds are created. This musical class will take place on Wednesday\, June 21 from 2:00 pm – 3:00 pm. The cost is $5 plus a $5 supply fee. Call (618) 382-8869 or visit the SIC’s David L. Stanley White County Center to register.
URL:https://sic.edu/event/college-for-kids-the-basics-of-music/
LOCATION:David L. Stanley White County Center\, 1700 College Ave.\, Carmi\, IL\, 62821
CATEGORIES:Carmi Center Classes and Events,Children's Activities
ATTACH;FMTTYPE=image/jpeg:https://sic.edu/wp-content/uploads/2023/05/FB-Event-Banner-Music-scaled.jpg
ORGANIZER;CN="Terri Absher":MAILTO:terri.absher@sic.edu
END:VEVENT
BEGIN:VEVENT
DTSTART;TZID=America/Chicago:20230621T120000
DTEND;TZID=America/Chicago:20230621T120000
DTSTAMP:20260422T061757
CREATED:20230324T154151Z
LAST-MODIFIED:20230419T131731Z
UID:10002911-1687348800-1687348800@sic.edu
SUMMARY:GED Testing
DESCRIPTION:Find information on available GED test prep classes at sic.edu/ged
URL:https://sic.edu/event/ged-testing-21/
LOCATION:A-146 Testing
CATEGORIES:Testing
ORGANIZER;CN="Testing Center":MAILTO:testing@sic.edu
END:VEVENT
BEGIN:VEVENT
DTSTART;TZID=America/Chicago:20230620T180000
DTEND;TZID=America/Chicago:20230620T180000
DTSTAMP:20260422T061757
CREATED:20230612T204645Z
LAST-MODIFIED:20230612T204708Z
UID:10002754-1687284000-1687284000@sic.edu
SUMMARY:Esports Tryouts
DESCRIPTION:Scholarships are still available for the SIC Esports Team! They are especially looking for COD and HALO players (and you must be an SIC student this fall).
URL:https://sic.edu/event/esports-tryouts/
LOCATION:Esports Arena – B130\, across from cafeteria in B building
CATEGORIES:Athletics & Competitive Teams,Faction of Gamers
ATTACH;FMTTYPE=image/png:https://sic.edu/wp-content/uploads/2023/06/Esports-fb-banner.png
ORGANIZER;CN="Jason Fitzgerald%2C Math &amp%3B Science Division Chair%2C Esports Coach":MAILTO:jason.fitzgerald@sic.edu
END:VEVENT
BEGIN:VEVENT
DTSTART;TZID=America/Chicago:20230620T123000
DTEND;TZID=America/Chicago:20230620T153000
DTSTAMP:20260422T061757
CREATED:20230510T153501Z
LAST-MODIFIED:20230524T212318Z
UID:10002931-1687264200-1687275000@sic.edu
SUMMARY:SOLD OUT! Welding Career Camp for Middle Schoolers Begins
DESCRIPTION:Diesel Camp 9-12 \nWelding Camp 12:30-3:30 – this camp is SOLD OUT \nA light lunch will be provided to students attending both morning and afternoon sessions. \nOne session is $60 and two sessions are $120 \nChecks can be mailed to: \nSIC\nAttention Ricky Sauls\n3575 College Rd\nHarrisburg\, IL 62946 \nOR Call Angela Carter at 618-252-5400 ext 2501 to pay with card over the phone. \nClasses are limited and will fill quickly.
URL:https://sic.edu/event/diesel-career-camp-for-middle-schoolers-begins-2/
LOCATION:W-101 Welding Classroom
CATEGORIES:Camps,Children's Activities,High School and Middle School
ORGANIZER;CN="Ricky Sauls":MAILTO:ricky.sauls@sic.edu
END:VEVENT
BEGIN:VEVENT
DTSTART;TZID=America/Chicago:20230620T090000
DTEND;TZID=America/Chicago:20230620T120000
DTSTAMP:20260422T061757
CREATED:20230510T153127Z
LAST-MODIFIED:20230524T212349Z
UID:10002930-1687251600-1687262400@sic.edu
SUMMARY:Diesel Career Camp for Middle Schoolers Begins
DESCRIPTION:Diesel Camp 9-12 \nWelding Camp 12:30-3:30 – this camp is SOLD OUT! \nA light lunch will be provided to students attending both morning and afternoon sessions. \nOne session is $60 and two sessions are $120 \nChecks can be mailed to: \nSIC\nAttention Ricky Sauls\n3575 College Rd\nHarrisburg\, IL 62946 \nOR Call Angela Carter at 618-252-5400 ext 2501 to pay with card over the phone. \nClasses are limited and will fill quickly.
URL:https://sic.edu/event/diesel-career-camp-for-middle-schoolers-begins/
LOCATION:T-100 Diesel Tech Lab
CATEGORIES:Camps,Children's Activities,High School and Middle School
ORGANIZER;CN="Ricky Sauls":MAILTO:ricky.sauls@sic.edu
END:VEVENT
BEGIN:VEVENT
DTSTART;VALUE=DATE:20230619
DTEND;VALUE=DATE:20230620
DTSTAMP:20260422T061757
CREATED:20220727T170704Z
LAST-MODIFIED:20230524T212525Z
UID:10002450-1687132800-1687219199@sic.edu
SUMMARY:Juneteenth Holiday - College Closed
DESCRIPTION:Learn more about why we celebrate Juneteenth!
URL:https://sic.edu/event/juneteenth-holiday-college-closed/
LOCATION:IL
CATEGORIES:Academic Calendar
END:VEVENT
BEGIN:VEVENT
DTSTART;TZID=America/Chicago:20230615T130000
DTEND;TZID=America/Chicago:20230615T140000
DTSTAMP:20260422T061757
CREATED:20230530T161529Z
LAST-MODIFIED:20230530T182034Z
UID:10002946-1686834000-1686837600@sic.edu
SUMMARY:College for Kids - Fun Crafts with Lorelei! #2
DESCRIPTION:Fun Crafts with Lorelei is part of this year’s College for Kids at SIC’s David L. Stanley White County Center in Carmi. \nLorelei Stone will be teaching a Paint-A-Shape art class for children aged 7 – 12 on Thursday\, June 15 from 1 to 2 p.m. Cost is $5 plus a $5 supply fee. Call (618) 382-8869 or visit the SIC’s David L. Stanley White County Center to register. \nAdditional upcoming Fun Crafts with Lorelei classes: \nJune 29 – 11 a.m.-12 p.m. – Christmas in June\nJune 29 – 1-2 p.m. – Shell Art
URL:https://sic.edu/event/fun-crafts-with-lorelei-2/
LOCATION:David L. Stanley White County Center\, 1700 College Ave.\, Carmi\, IL\, 62821
CATEGORIES:Carmi Center Classes and Events,Children's Activities
ATTACH;FMTTYPE=image/jpeg:https://sic.edu/wp-content/uploads/2023/05/FB-Event-Banner-Crafts-with-Lorelei-scaled.jpg
ORGANIZER;CN="Terri Absher":MAILTO:terri.absher@sic.edu
END:VEVENT
BEGIN:VEVENT
DTSTART;TZID=America/Chicago:20230615T110000
DTEND;TZID=America/Chicago:20230615T120000
DTSTAMP:20260422T061757
CREATED:20230530T160927Z
LAST-MODIFIED:20230530T182013Z
UID:10002944-1686826800-1686830400@sic.edu
SUMMARY:College for Kids - Fun Crafts with Lorelei! #1
DESCRIPTION:  \nFun Crafts with Lorelei is part of this year’s College for Kids at SIC’s David L. Stanley White County Center in Carmi. \nLorelei Stone will be teaching a stepping stones art class for children aged 7 – 12 on Thursday\, June 15 from 11 a.m. to 12 p.m. Cost is $5 plus a $5 supply fee. Call (618) 382-8869 or visit the David L. Stanley White County Center to register. \nAdditional upcoming Fun Crafts with Lorelei classes: \nJune 15 – 1-2 p.m. – Paint A Shape\nJune 29 – 11 a.m.-12 p.m. – Christmas in June\nJune 29 – 1-2 p.m. – Shell Art
URL:https://sic.edu/event/fun-crafts-with-lorelei/
LOCATION:David L. Stanley White County Center\, 1700 College Ave.\, Carmi\, IL\, 62821
CATEGORIES:Carmi Center Classes and Events,Children's Activities
ATTACH;FMTTYPE=image/jpeg:https://sic.edu/wp-content/uploads/2023/05/FB-Event-Banner-Crafts-with-Lorelei-scaled.jpg
ORGANIZER;CN="Terri Absher":MAILTO:terri.absher@sic.edu
END:VEVENT
BEGIN:VEVENT
DTSTART;TZID=America/Chicago:20230614T120000
DTEND;TZID=America/Chicago:20230614T120000
DTSTAMP:20260422T061757
CREATED:20230324T154121Z
LAST-MODIFIED:20230419T131458Z
UID:10002910-1686744000-1686744000@sic.edu
SUMMARY:GED Testing
DESCRIPTION:Find information on available GED test prep classes at sic.edu/ged
URL:https://sic.edu/event/ged-testing-20/
LOCATION:A-146 Testing
CATEGORIES:Testing
ORGANIZER;CN="Testing Center":MAILTO:testing@sic.edu
END:VEVENT
BEGIN:VEVENT
DTSTART;TZID=America/Chicago:20230614T100000
DTEND;TZID=America/Chicago:20230614T120000
DTSTAMP:20260422T061757
CREATED:20230530T181940Z
LAST-MODIFIED:20230530T195523Z
UID:10002952-1686736800-1686744000@sic.edu
SUMMARY:College for Kids - Helpful First Aid
DESCRIPTION:Bug bites\, cuts\, bumps\, bruises\, poison ivy\, oh my! \nThese are all part of summertime and spending time outdoors. It is important to provide medical care and seek help as quickly as possible. Young people are able to do their part if trained properly. \nJoin Jim Totten as he teaches kids ages 10 to 13 helpful first-aid techniques. This two-hour class will take place on Wednesday\, June 14 from 10 a.m. – 12 p.m. at SIC’s David L. Stanley White County Center in Carmi. The cost is $10 plus a $5 supply fee. Call (618) 382-8869 or visit the center to register.
URL:https://sic.edu/event/college-for-kids-helpful-first-aid/
LOCATION:David L. Stanley White County Center\, 1700 College Ave.\, Carmi\, IL\, 62821
CATEGORIES:Carmi Center Classes and Events,Children's Activities
ATTACH;FMTTYPE=image/jpeg:https://sic.edu/wp-content/uploads/2023/05/FB-Event-Banner-First-Aid-scaled.jpg
ORGANIZER;CN="Terri Absher":MAILTO:terri.absher@sic.edu
END:VEVENT
BEGIN:VEVENT
DTSTART;TZID=America/Chicago:20230611T090000
DTEND;TZID=America/Chicago:20230611T163000
DTSTAMP:20260422T061757
CREATED:20230504T181709Z
LAST-MODIFIED:20230504T181752Z
UID:10002929-1686474000-1686501000@sic.edu
SUMMARY:Falcon Volleyball Camp Begins
DESCRIPTION:Learn skills from our team such as footwork\, hitting\, passing\, serving\, setting and teamwork. T-shirts will be given to all campers who register at least one week in advance. All players are required to bring knee pads\, tennis shoes\, and a water bottle in order to participate. \nPlease make checks payable to: Southeastern Illinois College (SIC)
URL:https://sic.edu/event/falcon-volleyball-camp-begins-2/
LOCATION:C-106 Joseph C. Deaton Gym\, SIC 3575 College R\, HARRISBURG\, IL\, 62946
CATEGORIES:Athletics & Competitive Teams,Camps,Children's Activities,High School and Middle School
ATTACH;FMTTYPE=image/png:https://sic.edu/wp-content/uploads/2023/05/Facebook-Header-Revised.png
ORGANIZER;CN="Jon Watts%2C Volleyball Coach":MAILTO:jon.watts@sic.edu
END:VEVENT
BEGIN:VEVENT
DTSTART;TZID=America/Chicago:20230607T120000
DTEND;TZID=America/Chicago:20230607T120000
DTSTAMP:20260422T061757
CREATED:20230324T154051Z
LAST-MODIFIED:20230419T131352Z
UID:10002909-1686139200-1686139200@sic.edu
SUMMARY:GED Testing
DESCRIPTION:Find information on available GED test prep classes at sic.edu/ged
URL:https://sic.edu/event/ged-testing-19/
LOCATION:A-146 Testing
CATEGORIES:Testing
ORGANIZER;CN="Testing Center":MAILTO:testing@sic.edu
END:VEVENT
BEGIN:VEVENT
DTSTART;VALUE=DATE:20230605
DTEND;VALUE=DATE:20230606
DTSTAMP:20260422T061757
CREATED:20220727T170704Z
LAST-MODIFIED:20220912T194121Z
UID:10002449-1685923200-1686009599@sic.edu
SUMMARY:Summer 8-week Session Begins
DESCRIPTION:The regular 8-week summer semester begins today!
URL:https://sic.edu/event/summer-8-week-session-begins-2/
LOCATION:IL
CATEGORIES:Academic Calendar
END:VEVENT
BEGIN:VEVENT
DTSTART;TZID=America/Chicago:20230531T120000
DTEND;TZID=America/Chicago:20230531T120000
DTSTAMP:20260422T061757
CREATED:20230324T154019Z
LAST-MODIFIED:20230419T131245Z
UID:10002908-1685534400-1685534400@sic.edu
SUMMARY:GED Testing
DESCRIPTION:Find information on available GED test prep classes at sic.edu/ged
URL:https://sic.edu/event/ged-testing-18/
LOCATION:A-146 Testing
CATEGORIES:Testing
ORGANIZER;CN="Testing Center":MAILTO:testing@sic.edu
END:VEVENT
BEGIN:VEVENT
DTSTART;VALUE=DATE:20230529
DTEND;VALUE=DATE:20230530
DTSTAMP:20260422T061757
CREATED:20220727T170704Z
LAST-MODIFIED:20220912T194136Z
UID:10002447-1685318400-1685404799@sic.edu
SUMMARY:Memorial Day - College Closed
DESCRIPTION:Learn about the history of Memorial Day on the U.S. Department of Veterans Affairs website.
URL:https://sic.edu/event/memorial-day-college-closed-3/
LOCATION:IL
CATEGORIES:Academic Calendar
END:VEVENT
BEGIN:VEVENT
DTSTART;TZID=America/Chicago:20230525T073000
DTEND;TZID=America/Chicago:20230525T083000
DTSTAMP:20260422T061757
CREATED:20230227T144846Z
LAST-MODIFIED:20230227T144846Z
UID:10002864-1684999800-1685003400@sic.edu
SUMMARY:SIC Foundation Quarterly Meeting
DESCRIPTION:Private event
URL:https://sic.edu/event/sic-foundation-quarterly-meeting/
LOCATION:H – Ella Elizabeth Hise Museum of Regional Art\, 3575 College Rd\, Harrisburg\, IL\, 62946
CATEGORIES:Foundation and Alumni
END:VEVENT
BEGIN:VEVENT
DTSTART;TZID=America/Chicago:20230523T120000
DTEND;TZID=America/Chicago:20230523T120000
DTSTAMP:20260422T061757
CREATED:20230324T153949Z
LAST-MODIFIED:20230419T131147Z
UID:10002907-1684843200-1684843200@sic.edu
SUMMARY:GED Testing
DESCRIPTION:Find information on available GED test prep classes at sic.edu/ged
URL:https://sic.edu/event/ged-testing-17/
LOCATION:A-146 Testing
CATEGORIES:Testing
ORGANIZER;CN="Testing Center":MAILTO:testing@sic.edu
END:VEVENT
BEGIN:VEVENT
DTSTART;VALUE=DATE:20230522
DTEND;VALUE=DATE:20230523
DTSTAMP:20260422T061757
CREATED:20220727T170704Z
LAST-MODIFIED:20220912T194142Z
UID:10002445-1684713600-1684799999@sic.edu
SUMMARY:1st Summer 5-week Mini-Semester Begins
DESCRIPTION:The first Summer 5-week Mini-Semester begins May 22. \nThe second Summer 5-week Mini-Semester begins June 26 \nJust remember\, mini-semester courses are the same amount of material as the regular 16-week course! \nIf you think this is for you\, email advising@sic.edu or register on MySIC.
URL:https://sic.edu/event/1st-summer-5-week-mini-semester-begins-2/
LOCATION:IL
CATEGORIES:Academic Calendar
END:VEVENT
BEGIN:VEVENT
DTSTART;TZID=America/Chicago:20230520T190000
DTEND;TZID=America/Chicago:20230520T190000
DTSTAMP:20260422T061757
CREATED:20230517T135338Z
LAST-MODIFIED:20230517T135338Z
UID:10002933-1684609200-1684609200@sic.edu
SUMMARY:Alice in Wonderland by EHS
DESCRIPTION:Shows are Friday and Saturday at 7 p.m. \nCall Eldorado High School for Tickets: 618-273-2881 \n$10 adults\, $5 for students
URL:https://sic.edu/event/alice-in-wonderland-by-ehs-2/
LOCATION:F-127 – Theatre\, 3575 College Rd.\, Harrisburg\, IL\, 62946-4925\, United States
CATEGORIES:Children's Activities,Community,High School and Middle School,High School Productions Webpage,Theatre,Visual and Performing Arts
END:VEVENT
BEGIN:VEVENT
DTSTART;TZID=America/Chicago:20230519T190000
DTEND;TZID=America/Chicago:20230519T190000
DTSTAMP:20260422T061757
CREATED:20230517T135158Z
LAST-MODIFIED:20230517T135404Z
UID:10002932-1684522800-1684522800@sic.edu
SUMMARY:Alice in Wonderland by EHS
DESCRIPTION:Shows are Friday and Saturday at 7 p.m. \nCall Eldorado High School for Tickets: 618-273-2881 \n$10 adults\, $5 for students
URL:https://sic.edu/event/alice-in-wonderland-by-ehs/
LOCATION:F-127 – Theatre\, 3575 College Rd.\, Harrisburg\, IL\, 62946-4925\, United States
CATEGORIES:Children's Activities,Community,High School and Middle School,High School Productions Webpage,Theatre,Visual and Performing Arts
END:VEVENT
BEGIN:VEVENT
DTSTART;TZID=America/Chicago:20230517T120000
DTEND;TZID=America/Chicago:20230517T120000
DTSTAMP:20260422T061757
CREATED:20230324T153922Z
LAST-MODIFIED:20230419T131042Z
UID:10002906-1684324800-1684324800@sic.edu
SUMMARY:GED Testing
DESCRIPTION:Find information on available GED test prep classes at sic.edu/ged
URL:https://sic.edu/event/ged-testing-16/
LOCATION:A-146 Testing
CATEGORIES:Testing
ORGANIZER;CN="Testing Center":MAILTO:testing@sic.edu
END:VEVENT
END:VCALENDAR