BEGIN:VCALENDAR
VERSION:2.0
PRODID:-//Southeastern Illinois College - ECPv6.15.20//NONSGML v1.0//EN
CALSCALE:GREGORIAN
METHOD:PUBLISH
X-WR-CALNAME:Southeastern Illinois College
X-ORIGINAL-URL:https://sic.edu
X-WR-CALDESC:Events for Southeastern Illinois College
REFRESH-INTERVAL;VALUE=DURATION:PT1H
X-Robots-Tag:noindex
X-PUBLISHED-TTL:PT1H
BEGIN:VTIMEZONE
TZID:America/Chicago
BEGIN:DAYLIGHT
TZOFFSETFROM:-0600
TZOFFSETTO:-0500
TZNAME:CDT
DTSTART:20220313T080000
END:DAYLIGHT
BEGIN:STANDARD
TZOFFSETFROM:-0500
TZOFFSETTO:-0600
TZNAME:CST
DTSTART:20221106T070000
END:STANDARD
BEGIN:DAYLIGHT
TZOFFSETFROM:-0600
TZOFFSETTO:-0500
TZNAME:CDT
DTSTART:20230312T080000
END:DAYLIGHT
BEGIN:STANDARD
TZOFFSETFROM:-0500
TZOFFSETTO:-0600
TZNAME:CST
DTSTART:20231105T070000
END:STANDARD
BEGIN:DAYLIGHT
TZOFFSETFROM:-0600
TZOFFSETTO:-0500
TZNAME:CDT
DTSTART:20240310T080000
END:DAYLIGHT
BEGIN:STANDARD
TZOFFSETFROM:-0500
TZOFFSETTO:-0600
TZNAME:CST
DTSTART:20241103T070000
END:STANDARD
END:VTIMEZONE
BEGIN:VEVENT
DTSTART;TZID=America/Chicago:20230810T080000
DTEND;TZID=America/Chicago:20230810T163000
DTSTAMP:20260419T123852
CREATED:20230605T162412Z
LAST-MODIFIED:20230605T162414Z
UID:10002955-1691654400-1691685000@sic.edu
SUMMARY:Faculty/ Staff Development Day
DESCRIPTION:
URL:https://sic.edu/event/faculty-staff-development-day-1-2/
CATEGORIES:Employee
END:VEVENT
BEGIN:VEVENT
DTSTART;TZID=America/Chicago:20230809T120000
DTEND;TZID=America/Chicago:20230809T120000
DTSTAMP:20260419T123852
CREATED:20230324T154831Z
LAST-MODIFIED:20230419T132435Z
UID:10002918-1691582400-1691582400@sic.edu
SUMMARY:GED Testing
DESCRIPTION:Find information on available GED test prep classes at sic.edu/ged
URL:https://sic.edu/event/ged-testing-28/
LOCATION:A-146 Testing
CATEGORIES:Testing
ORGANIZER;CN="Testing Center":MAILTO:testing@sic.edu
END:VEVENT
BEGIN:VEVENT
DTSTART;TZID=America/Chicago:20230809T100000
DTEND;TZID=America/Chicago:20230809T110000
DTSTAMP:20260419T123852
CREATED:20230807T202808Z
LAST-MODIFIED:20230807T202809Z
UID:10002785-1691575200-1691578800@sic.edu
SUMMARY:Applying for State and Federal Grants Webinar
DESCRIPTION:Are you interested in applying for state or federal grants? Did you know there is what is known as a “pre-award” process? Learn how to register your business and file all of the pre-award documentation so that you are ready when those great grant opportunities are announced. While this presentation will focus on Illinois state grants\, much of the registration requirements are the same for Federal grants and government contracting. THIS PRESENTATION WILL NOT INSTRUCT YOU ON AN ACTUAL GRANT APPLICATION. \nThese are pre-recorded webinars: \nAugust 9th from 10-11 \nSeptember 13th from 10:30-11:30 \nOctober 18th from 10 -11 \nNovember 8th from 9- 10 \nDecember 6th from 9 – 11 \nTo register\, visit https://ilsbdc.ecenterdirect.com/events?centerid=55
URL:https://sic.edu/event/applying-for-state-and-federal-grants-webinar/
LOCATION:Online/ Virtual
CATEGORIES:Business & Industry/Trainings,Training
ATTACH;FMTTYPE=image/jpeg:https://sic.edu/wp-content/uploads/2023/08/SBDC-logo-for-calendar.jpg
ORGANIZER;CN="Arla Murphy%2C Director of Learning Commons":MAILTO:arla.murphy@sic.edu
END:VEVENT
BEGIN:VEVENT
DTSTART;TZID=America/Chicago:20230805T083000
DTEND;TZID=America/Chicago:20230805T083000
DTSTAMP:20260419T123852
CREATED:20230525T172921Z
LAST-MODIFIED:20230606T142302Z
UID:10002943-1691224200-1691224200@sic.edu
SUMMARY:Gulley-Turner-Lambert and the SIC Golf Team Golf Scramble
DESCRIPTION:  \n \n$100 hole sponsorships are available. A four-person team is $300 and includes green fees\, golf cart and lunch served at noon. Add mulligans for $20. Join the Skins game for $20.\nProceeds go to Saline County Student Athlete Scholarships and SIC Golf Scholarships. \nEmail jtgull66@twc.com or call 812-738-9789 to enter. Share our Facebook event: https://fb.me/e/11lvaJjIm \nYou can also contact Doug Short (618-926-2552) or Jim Milligan (618-841-7788)
URL:https://sic.edu/event/gulley-turner-lambert-the-sic-golf-team-golf-scramble-2/
LOCATION:Shawnee Hills Country Club\, 110 Shawnee Hills Rd\, Harrisburg\, IL\, 62946
CATEGORIES:Athletics & Competitive Teams,Community Events,Golf
ATTACH;FMTTYPE=image/jpeg:https://sic.edu/wp-content/uploads/2023/05/Facebook-Event-Banner-scaled.jpg
ORGANIZER;CN="Trent Gulley":MAILTO:jtgull66@twc.com
END:VEVENT
BEGIN:VEVENT
DTSTART;TZID=America/Chicago:20230802T130000
DTEND;TZID=America/Chicago:20230802T170000
DTSTAMP:20260419T123852
CREATED:20240701T195735Z
LAST-MODIFIED:20240701T195735Z
UID:10003477-1690981200-1690995600@sic.edu
SUMMARY:Esports Tryouts
DESCRIPTION:This will be the last open tryouts event before the fall semester begins. Those who would like to tryout for the team\, but are unable to attend are asked to the submit the “recruit me” form located at sic.edu/esports. At this event\, join members of the team in playing Call of Duty Modern Warfare III\, talk to the coaches about what the esports program is all about at SIC\, and just kick back and have some fun on a summer Thursday night. There are only a few scholarships left for the upcoming year.
URL:https://sic.edu/event/esports-tryouts-6/
LOCATION:Esports Arena – B130\, across from cafeteria in B building
CATEGORIES:Athletics & Competitive Teams,Faction of Gamers
ATTACH;FMTTYPE=image/jpeg:https://sic.edu/wp-content/uploads/2024/07/FOG-days-of-summer.jpg
ORGANIZER;CN="Jason Fitzgerald%2C Math &amp%3B Science Division Chair%2C Esports Coach":MAILTO:jason.fitzgerald@sic.edu
END:VEVENT
BEGIN:VEVENT
DTSTART;TZID=America/Chicago:20230802T130000
DTEND;TZID=America/Chicago:20230802T170000
DTSTAMP:20260419T123852
CREATED:20230731T155027Z
LAST-MODIFIED:20230731T155027Z
UID:10003001-1690981200-1690995600@sic.edu
SUMMARY:Esports Tryouts
DESCRIPTION:This will be the last chance for open tryouts before the start of the new academic year/competition season. We are still looking for team members to compete in Halo\, Call of Duty\, or Rocket League. This event is a drop-in/drop-out session; come when you can\, stay as long as you’d like. Talk with the coach and current team members to see if being a part of the Falcons FOG is for you. Scholarships are still available for the 2023-2024 season.
URL:https://sic.edu/event/esports-tryouts-2/
LOCATION:Esports Arena – B130\, across from cafeteria in B building
CATEGORIES:Athletics & Competitive Teams,Faction of Gamers
ATTACH;FMTTYPE=image/jpeg:https://sic.edu/wp-content/uploads/2023/07/Last-chance-tryouts.jpg
ORGANIZER;CN="Jason Fitzgerald%2C Math &amp%3B Science Division Chair%2C Esports Coach":MAILTO:jason.fitzgerald@sic.edu
END:VEVENT
BEGIN:VEVENT
DTSTART;TZID=America/Chicago:20230802T120000
DTEND;TZID=America/Chicago:20230802T120000
DTSTAMP:20260419T123852
CREATED:20230324T154712Z
LAST-MODIFIED:20230419T132338Z
UID:10002917-1690977600-1690977600@sic.edu
SUMMARY:GED Testing
DESCRIPTION:Find information on available GED test prep classes at sic.edu/ged
URL:https://sic.edu/event/ged-testing-27/
LOCATION:A-146 Testing
CATEGORIES:Testing
ORGANIZER;CN="Testing Center":MAILTO:testing@sic.edu
END:VEVENT
BEGIN:VEVENT
DTSTART;TZID=America/Chicago:20230801T173000
DTEND;TZID=America/Chicago:20230801T190000
DTSTAMP:20260419T123852
CREATED:20230724T183738Z
LAST-MODIFIED:20230724T184219Z
UID:10002999-1690911000-1690916400@sic.edu
SUMMARY:New Student Orientation
DESCRIPTION:New Student Orientation is STRONGLY recommended to give new students a positive start! Orientation is also a good way to meet other new students! Sign up Today! Free Class! College Credit! If you attended an orientation in the spring with your high school\, then you will not need to attend again.  Parents are welcome to attend! \nDATE: Tuesday\, August 1\, 2:00 – 3:30 PM and 5:30 – 7:00 PM (Choose one session) \nAfternoon Schedule:\n2:00 pm – 2:10 pm                Welcome and check-in in the Learning Commons – Building A\n2:10 pm – 2:50 pm                Session 1\n2:50 pm – 3:30 pm                Session 2 \nEvening Schedule:\n5:30 pm – 5:40 pm                Welcome and check-in in the Learning Commons – Building A\n5:40 pm – 6:20 pm                Session 1\n6:20 pm – 7:00 pm                Session 2 \nSessions:\nInformation Technology/Online Learning/Starfish – Room B224-Building B \nStaff from Information Technology will assist students in setting up their Falcon Mail\, MySIC and TxtSIC accounts.  Students will also learn how to use MySIC to access their grades\, transcripts\, financial aid\, and other information.  Learning Commons staff members will then show students where and how to login for online classes\, specifically\, the EDUC 122\, Strategies for College Success (Orientation).   A presentation will be given on Starfish\, SIC’s retention software. \nTRIO/Campus Tour/Student ID Cards – TRIO Lab/Library-Building A \nStaff from the Student Support Services/TRIO program will share information about TRIO and discuss program eligibility and services.  Students will obtain their Student ID/Library card in the Library.  They will then be given a guided tour of the campus. \nFor more information or to register\, contact Registrar Tiffany Brannock at 618-252-5400\, ext. 2415 or t.brannock@sic.edu
URL:https://sic.edu/event/new-student-orientation-2-2-2/
LOCATION:Learning Commons\, 3575 College Rd.\, Harrisburg\, IL\, 62946\, United States
CATEGORIES:Academic Calendar,Student Activities
ATTACH;FMTTYPE=image/jpeg:https://sic.edu/wp-content/uploads/2023/07/Fall-2023-FB-Banner-scaled.jpg
ORGANIZER;CN="Tiffany Brannock%2C Registrar":MAILTO:t.brannock@sic.edu
END:VEVENT
BEGIN:VEVENT
DTSTART;TZID=America/Chicago:20230801T140000
DTEND;TZID=America/Chicago:20230801T153000
DTSTAMP:20260419T123852
CREATED:20230724T183601Z
LAST-MODIFIED:20230724T184300Z
UID:10002998-1690898400-1690903800@sic.edu
SUMMARY:New Student Orientation
DESCRIPTION:New Student Orientation is STRONGLY recommended to give new students a positive start! Orientation is also a good way to meet other new students! Sign up Today! Free Class! College Credit! If you attended an orientation in the spring with your high school\, then you will not need to attend again.  Parents are welcome to attend! \nDATE: Tuesday\, August 1\, 2:00 – 3:30 PM and 5:30 – 7:00 PM (Choose one session) \nAfternoon Schedule:\n2:00 pm – 2:10 pm                Welcome and check-in in the Learning Commons – Building A\n2:10 pm – 2:50 pm                Session 1\n2:50 pm – 3:30 pm                Session 2 \nEvening Schedule:\n5:30 pm – 5:40 pm                Welcome and check-in in the Learning Commons – Building A\n5:40 pm – 6:20 pm                Session 1\n6:20 pm – 7:00 pm                Session 2 \nSessions:\nInformation Technology/Online Learning/Starfish – Room B224-Building B \nStaff from Information Technology will assist students in setting up their Falcon Mail\, MySIC and TxtSIC accounts.  Students will also learn how to use MySIC to access their grades\, transcripts\, financial aid\, and other information.  Learning Commons staff members will then show students where and how to login for online classes\, specifically\, the EDUC 122\, Strategies for College Success (Orientation).   A presentation will be given on Starfish\, SIC’s retention software. \nTRIO/Campus Tour/Student ID Cards – TRIO Lab/Library-Building A \nStaff from the Student Support Services/TRIO program will share information about TRIO and discuss program eligibility and services.  Students will obtain their Student ID/Library card in the Library.  They will then be given a guided tour of the campus. \nFor more information or to register\, contact Registrar Tiffany Brannock at 618-252-5400\, ext. 2415 or t.brannock@sic.edu
URL:https://sic.edu/event/new-student-orientation-2-2/
LOCATION:Learning Commons\, 3575 College Rd.\, Harrisburg\, IL\, 62946\, United States
CATEGORIES:Academic Calendar,Student Activities
ATTACH;FMTTYPE=image/jpeg:https://sic.edu/wp-content/uploads/2023/07/Fall-2023-FB-Banner-scaled.jpg
ORGANIZER;CN="Tiffany Brannock%2C Registrar":MAILTO:t.brannock@sic.edu
END:VEVENT
BEGIN:VEVENT
DTSTART;VALUE=DATE:20230731
DTEND;VALUE=DATE:20230801
DTSTAMP:20260419T123852
CREATED:20220727T170704Z
LAST-MODIFIED:20221025T143421Z
UID:10002457-1690761600-1690847999@sic.edu
SUMMARY:Regular Office Hours Resume
DESCRIPTION:Regular office hours are Monday-Friday\, 8 a.m.-4:30 p.m.
URL:https://sic.edu/event/regular-office-hours-resume-3/
CATEGORIES:Academic Calendar
END:VEVENT
BEGIN:VEVENT
DTSTART;TZID=America/Chicago:20230726T120000
DTEND;TZID=America/Chicago:20230726T120000
DTSTAMP:20260419T123852
CREATED:20230324T154631Z
LAST-MODIFIED:20230419T132226Z
UID:10002916-1690372800-1690372800@sic.edu
SUMMARY:GED Testing
DESCRIPTION:Find information on available GED test prep classes at sic.edu/ged
URL:https://sic.edu/event/ged-testing-26/
LOCATION:A-146 Testing
CATEGORIES:Testing
ORGANIZER;CN="Testing Center":MAILTO:testing@sic.edu
END:VEVENT
BEGIN:VEVENT
DTSTART;TZID=America/Chicago:20230720T090000
DTEND;TZID=America/Chicago:20230720T150000
DTSTAMP:20260419T123852
CREATED:20230524T210759Z
LAST-MODIFIED:20230612T184548Z
UID:10002941-1689843600-1689865200@sic.edu
SUMMARY:High School Esports Camp - Halo Skills
DESCRIPTION:
URL:https://sic.edu/event/middle-school-esports-camp-2-2/
LOCATION:Esports Arena – B130\, across from cafeteria in B building
CATEGORIES:Camps,High School and Middle School
ATTACH;FMTTYPE=image/png:https://sic.edu/wp-content/uploads/2023/05/Camp-banner-for-calendar.png
ORGANIZER;CN="Jason Fitzgerald%2C Math &amp%3B Science Division Chair%2C Esports Coach":MAILTO:jason.fitzgerald@sic.edu
END:VEVENT
BEGIN:VEVENT
DTSTART;TZID=America/Chicago:20230719T120000
DTEND;TZID=America/Chicago:20230719T120000
DTSTAMP:20260419T123852
CREATED:20230324T154554Z
LAST-MODIFIED:20230419T132139Z
UID:10002915-1689768000-1689768000@sic.edu
SUMMARY:GED Testing
DESCRIPTION:Find information on available GED test prep classes at sic.edu/ged
URL:https://sic.edu/event/ged-testing-25/
LOCATION:A-146 Testing
CATEGORIES:Testing
ORGANIZER;CN="Testing Center":MAILTO:testing@sic.edu
END:VEVENT
BEGIN:VEVENT
DTSTART;TZID=America/Chicago:20230718T180000
DTEND;TZID=America/Chicago:20230718T180000
DTSTAMP:20260419T123852
CREATED:20221205T164459Z
LAST-MODIFIED:20230628T182818Z
UID:10002780-1689703200-1689703200@sic.edu
SUMMARY:Board of Trustees Meeting
DESCRIPTION:
URL:https://sic.edu/event/board-of-trustees-meeting-20-2-2-3-2-2/
LOCATION:E-224 Rodney J Brenner Board Room
CATEGORIES:Board Meetings
ORGANIZER;CN="Kathy Volkening%2C Executive Assistant to President and Board":MAILTO:kathy.volkening@sic.edu
END:VEVENT
BEGIN:VEVENT
DTSTART;VALUE=DATE:20230717
DTEND;VALUE=DATE:20230718
DTSTAMP:20260419T123852
CREATED:20220727T170704Z
LAST-MODIFIED:20230111T153846Z
UID:10002456-1689552000-1689638399@sic.edu
SUMMARY:Last Day to Withdraw from 8-Week Summer Classes
DESCRIPTION:Click HERE to learn how to withdraw from classes.
URL:https://sic.edu/event/last-day-to-withdraw-from-8-week-summer-classes-3/
CATEGORIES:Academic Calendar
END:VEVENT
BEGIN:VEVENT
DTSTART;TZID=America/Chicago:20230712T120000
DTEND;TZID=America/Chicago:20230712T120000
DTSTAMP:20260419T123852
CREATED:20230324T154337Z
LAST-MODIFIED:20230419T132037Z
UID:10002914-1689163200-1689163200@sic.edu
SUMMARY:GED Testing
DESCRIPTION:Find information on available GED test prep classes at sic.edu/ged
URL:https://sic.edu/event/ged-testing-24/
LOCATION:A-146 Testing
CATEGORIES:Testing
ORGANIZER;CN="Testing Center":MAILTO:testing@sic.edu
END:VEVENT
BEGIN:VEVENT
DTSTART;TZID=America/Chicago:20230709T180000
DTEND;TZID=America/Chicago:20230709T180000
DTSTAMP:20260419T123852
CREATED:20230524T205613Z
LAST-MODIFIED:20230629T213718Z
UID:10002936-1688925600-1688925600@sic.edu
SUMMARY:Junior Falcon Productions (K-8) presents "Wizard of Oz" - Ruby Cast
DESCRIPTION:Show Dates:\nThursday\, July 6 at 7 p.m. – Emerald Cast\nFriday\, July 7 at 7 p.m. – Ruby Cast\nSaturday\, July 8 at 2 p.m. and 7 p.m. -Emerald Cast\nSunday\, July 9 at 2 p.m. and 6 p.m. – Ruby Cast \nGet tickets online: sic.edu/boxoffice\nCost: $10.00 for adults\, $8.00 for students. \nEmail jr.falcon.sic@gmail.com with questions. \n 
URL:https://sic.edu/event/willy-wonka-jr-by-junior-falcon-productions-3-2-2-2-2-2/
LOCATION:F-127 – Theatre\, 3575 College Rd.\, Harrisburg\, IL\, 62946-4925\, United States
CATEGORIES:Children's Activities,Community Events,High School and Middle School,Jr. Falcon Productions Webpage,Visual and Performing Arts
ORGANIZER;CN="Hannah Drake":MAILTO:hhs.il.drama@gmail.com
END:VEVENT
BEGIN:VEVENT
DTSTART;TZID=America/Chicago:20230709T140000
DTEND;TZID=America/Chicago:20230709T140000
DTSTAMP:20260419T123852
CREATED:20230403T142826Z
LAST-MODIFIED:20230629T213750Z
UID:10002706-1688911200-1688911200@sic.edu
SUMMARY:Junior Falcon Productions (K-8) presents "Wizard of Oz" - Ruby Cast
DESCRIPTION:Show Dates:\nThursday\, July 6 at 7 p.m. – Emerald Cast\nFriday\, July 7 at 7 p.m. – Ruby Cast\nSaturday\, July 8 at 2 p.m. and 7 p.m. -Emerald Cast\nSunday\, July 9 at 2 p.m. and 6 p.m. – Ruby Cast \nGet tickets online: sic.edu/boxoffice\nCost: $10.00 for adults\, $8.00 for students. \nEmail jr.falcon.sic@gmail.com with questions. \n 
URL:https://sic.edu/event/willy-wonka-jr-by-junior-falcon-productions-3-2-2-2-2/
LOCATION:F-127 – Theatre\, 3575 College Rd.\, Harrisburg\, IL\, 62946-4925\, United States
CATEGORIES:Children's Activities,Community Events,High School and Middle School,Jr. Falcon Productions Webpage,Visual and Performing Arts
ORGANIZER;CN="Hannah Drake":MAILTO:hhs.il.drama@gmail.com
END:VEVENT
BEGIN:VEVENT
DTSTART;TZID=America/Chicago:20230708T190000
DTEND;TZID=America/Chicago:20230708T190000
DTSTAMP:20260419T123852
CREATED:20230403T142653Z
LAST-MODIFIED:20230629T213645Z
UID:10002704-1688842800-1688842800@sic.edu
SUMMARY:Junior Falcon Productions (K-8) presents "Wizard of Oz" - Emerald Cast
DESCRIPTION:Show Dates:\nThursday\, July 6 at 7 p.m. – Emerald Cast\nFriday\, July 7 at 7 p.m. – Ruby Cast\nSaturday\, July 8 at 2 p.m. and 7 p.m. -Emerald Cast\nSunday\, July 9 at 2 p.m. and 6 p.m. – Ruby Cast \nGet tickets online: sic.edu/boxoffice\nCost: $10.00 for adults\, $8.00 for students. \nEmail jr.falcon.sic@gmail.com with questions.
URL:https://sic.edu/event/willy-wonka-jr-by-junior-falcon-productions-3-2-2-2/
LOCATION:F-127 – Theatre\, 3575 College Rd.\, Harrisburg\, IL\, 62946-4925\, United States
CATEGORIES:Children's Activities,Community Events,High School and Middle School,Jr. Falcon Productions Webpage,Visual and Performing Arts
ORGANIZER;CN="Hannah Drake":MAILTO:hhs.il.drama@gmail.com
END:VEVENT
BEGIN:VEVENT
DTSTART;TZID=America/Chicago:20230708T140000
DTEND;TZID=America/Chicago:20230708T140000
DTSTAMP:20260419T123852
CREATED:20230403T142538Z
LAST-MODIFIED:20230629T213846Z
UID:10002702-1688824800-1688824800@sic.edu
SUMMARY:Junior Falcon Productions (K-8) presents "Wizard of Oz" - Emerald Cast
DESCRIPTION:Show Dates:\nThursday\, July 6 at 7 p.m. – Emerald Cast\nFriday\, July 7 at 7 p.m. – Ruby Cast\nSaturday\, July 8 at 2 p.m. and 7 p.m. -Emerald Cast\nSunday\, July 9 at 2 p.m. and 6 p.m. – Ruby Cast \nGet tickets online: sic.edu/boxoffice\nCost: $10.00 for adults\, $8.00 for students. \nEmail jr.falcon.sic@gmail.com with questions.
URL:https://sic.edu/event/willy-wonka-jr-by-junior-falcon-productions-3-2-2/
LOCATION:F-127 – Theatre\, 3575 College Rd.\, Harrisburg\, IL\, 62946-4925\, United States
CATEGORIES:Children's Activities,Community Events,High School and Middle School,Jr. Falcon Productions Webpage,Visual and Performing Arts
ORGANIZER;CN="Hannah Drake":MAILTO:hhs.il.drama@gmail.com
END:VEVENT
BEGIN:VEVENT
DTSTART;TZID=America/Chicago:20230707T190000
DTEND;TZID=America/Chicago:20230707T190000
DTSTAMP:20260419T123852
CREATED:20230223T164301Z
LAST-MODIFIED:20230629T213926Z
UID:10002865-1688756400-1688756400@sic.edu
SUMMARY:Junior Falcon Productions (K-8) presents "Wizard of Oz" - Ruby Cast
DESCRIPTION:Show Dates:\nThursday\, July 6 at 7 p.m. – Emerald Cast\nFriday\, July 7 at 7 p.m. – Ruby Cast\nSaturday\, July 8 at 2 p.m. and 7 p.m. -Emerald Cast\nSunday\, July 9 at 2 p.m. and 6 p.m. – Ruby Cast \nGet tickets online: sic.edu/boxoffice\nCost: $10.00 for adults\, $8.00 for students. \nEmail jr.falcon.sic@gmail.com with questions.
URL:https://sic.edu/event/willy-wonka-jr-by-junior-falcon-productions-3-2/
LOCATION:F-127 – Theatre\, 3575 College Rd.\, Harrisburg\, IL\, 62946-4925\, United States
CATEGORIES:Children's Activities,Community Events,High School and Middle School,Jr. Falcon Productions Webpage,Visual and Performing Arts
ORGANIZER;CN="Hannah Drake":MAILTO:hhs.il.drama@gmail.com
END:VEVENT
BEGIN:VEVENT
DTSTART;TZID=America/Chicago:20230706T190000
DTEND;TZID=America/Chicago:20230706T190000
DTSTAMP:20260419T123852
CREATED:20230524T205027Z
LAST-MODIFIED:20230629T214002Z
UID:10002934-1688670000-1688670000@sic.edu
SUMMARY:Junior Falcon Productions (K-8) presents "Wizard of Oz" - Emerald Cast
DESCRIPTION:Show Dates:\nThursday\, July 6 at 7 p.m. – Emerald Cast\nFriday\, July 7 at 7 p.m. – Ruby Cast\nSaturday\, July 8 at 2 p.m. and 7 p.m. -Emerald Cast\nSunday\, July 9 at 2 p.m. and 6 p.m. – Ruby Cast \nGet tickets online: sic.edu/boxoffice\nCost: $10.00 for adults\, $8.00 for students. \nEmail jr.falcon.sic@gmail.com with questions.
URL:https://sic.edu/event/willy-wonka-jr-by-junior-falcon-productions-3-2-3/
LOCATION:F-127 – Theatre\, 3575 College Rd.\, Harrisburg\, IL\, 62946-4925\, United States
CATEGORIES:Children's Activities,Community Events,High School and Middle School,Jr. Falcon Productions Webpage,Visual and Performing Arts
ORGANIZER;CN="Hannah Drake":MAILTO:hhs.il.drama@gmail.com
END:VEVENT
BEGIN:VEVENT
DTSTART;TZID=America/Chicago:20230705T120000
DTEND;TZID=America/Chicago:20230705T120000
DTSTAMP:20260419T123852
CREATED:20230324T154255Z
LAST-MODIFIED:20230419T131926Z
UID:10002913-1688558400-1688558400@sic.edu
SUMMARY:GED Testing
DESCRIPTION:Find information on available GED test prep classes at sic.edu/ged
URL:https://sic.edu/event/ged-testing-23/
LOCATION:A-146 Testing
CATEGORIES:Testing
ORGANIZER;CN="Testing Center":MAILTO:testing@sic.edu
END:VEVENT
BEGIN:VEVENT
DTSTART;VALUE=DATE:20230704
DTEND;VALUE=DATE:20230705
DTSTAMP:20260419T123852
CREATED:20220727T170704Z
LAST-MODIFIED:20221014T160006Z
UID:10002454-1688428800-1688515199@sic.edu
SUMMARY:Independence Day - College Closed
DESCRIPTION:July 4\, 1776\, is the day we celebrate the birth of the United States of America as an independent nation with the signing of the Declaration of Independence.
URL:https://sic.edu/event/independence-day-college-closed-2/
CATEGORIES:Academic Calendar
END:VEVENT
BEGIN:VEVENT
DTSTART;TZID=America/Chicago:20230629T130000
DTEND;TZID=America/Chicago:20230629T140000
DTSTAMP:20260419T123852
CREATED:20230530T162920Z
LAST-MODIFIED:20230530T182224Z
UID:10002950-1688043600-1688047200@sic.edu
SUMMARY:College for Kids - Fun Crafts with Lorelei! #4
DESCRIPTION:Fun Crafts with Lorelei is part of this year’s College for Kids at SIC’s David L. Stanley White County Center in Carmi. \nLorelei Stone will be teaching a Shell Art art class for children aged 7 – 12 on Thursday\, June 29 from 1 to 2 p.m. Cost is $5 plus a $5 supply fee. Call (618) 382-8869 or visit the SIC’s David L. Stanley White County Center to register.
URL:https://sic.edu/event/fun-crafts-with-lorelei-2-2-2/
LOCATION:David L. Stanley White County Center\, 1700 College Ave.\, Carmi\, IL\, 62821
CATEGORIES:Carmi Center Classes and Events,Children's Activities
ATTACH;FMTTYPE=image/jpeg:https://sic.edu/wp-content/uploads/2023/05/FB-Event-Banner-Crafts-with-Lorelei-scaled.jpg
ORGANIZER;CN="Terri Absher":MAILTO:terri.absher@sic.edu
END:VEVENT
BEGIN:VEVENT
DTSTART;TZID=America/Chicago:20230629T110000
DTEND;TZID=America/Chicago:20230629T120000
DTSTAMP:20260419T123852
CREATED:20230530T162118Z
LAST-MODIFIED:20230530T182058Z
UID:10002948-1688036400-1688040000@sic.edu
SUMMARY:College for Kids - Fun Crafts with Lorelei! #3
DESCRIPTION:Fun Crafts with Lorelei is part of this year’s College for Kids at SIC’s David L. Stanley White County Center in Carmi. \nLorelei Stone will be teaching a Christmas in June art class for children aged 7 – 12 on Thursday\, June 29 from 11 a.m. to 12 p.m. Cost is $5 plus a $5 supply fee. Call (618) 382-8869 or visit the SIC’s David L. Stanley White County Center to register. \nAdditional upcoming Fun Crafts with Lorelei class: \nJune 29 – 1-2 p.m. – Shell Art
URL:https://sic.edu/event/fun-crafts-with-lorelei-2-2/
LOCATION:David L. Stanley White County Center\, 1700 College Ave.\, Carmi\, IL\, 62821
CATEGORIES:Carmi Center Classes and Events,Children's Activities
ATTACH;FMTTYPE=image/jpeg:https://sic.edu/wp-content/uploads/2023/05/FB-Event-Banner-Crafts-with-Lorelei-scaled.jpg
ORGANIZER;CN="Terri Absher":MAILTO:terri.absher@sic.edu
END:VEVENT
BEGIN:VEVENT
DTSTART;TZID=America/Chicago:20230628T120000
DTEND;TZID=America/Chicago:20230628T120000
DTSTAMP:20260419T123852
CREATED:20230324T154219Z
LAST-MODIFIED:20230419T131831Z
UID:10002912-1687953600-1687953600@sic.edu
SUMMARY:GED Testing
DESCRIPTION:Find information on available GED test prep classes at sic.edu/ged
URL:https://sic.edu/event/ged-testing-22/
LOCATION:A-146 Testing
CATEGORIES:Testing
ORGANIZER;CN="Testing Center":MAILTO:testing@sic.edu
END:VEVENT
BEGIN:VEVENT
DTSTART;TZID=America/Chicago:20230627T090000
DTEND;TZID=America/Chicago:20230627T143000
DTSTAMP:20260419T123852
CREATED:20220727T170808Z
LAST-MODIFIED:20230504T182204Z
UID:10002401-1687856400-1687876200@sic.edu
SUMMARY:Softball All Skills Summer Camp Begins (Ages 5-18)
DESCRIPTION:Softball All Skills Summer Camp with the SIC Falcon Softball Team! \nCOST: $50 — includes camp T-shirt \nWHAT TO BRING: \n\nFielding Glove\nBat\nHelmet\nWater\nBatting gloves (optional but suggested)\nFielding Facemask (optional but suggested)\n\nClick here for the Registration Form
URL:https://sic.edu/event/softball-all-skills-summer-camp-begins-ages-5-18/
LOCATION:Falcon Field\, 3575 College Rd.\, Harrisburg\, IL\, 62946
CATEGORIES:Athletics & Competitive Teams,Camps,Children's Activities,High School and Middle School
ATTACH;FMTTYPE=image/png:https://sic.edu/wp-content/uploads/2022/07/2023-All-Skills-Camp-FB-Header.png
ORGANIZER;CN="Maggie Calcaterra":MAILTO:m.calcaterra@sic.edu
END:VEVENT
BEGIN:VEVENT
DTSTART;TZID=America/Chicago:20230626T000000
DTEND;TZID=America/Chicago:20230626T000000
DTSTAMP:20260419T123852
CREATED:20220727T170704Z
LAST-MODIFIED:20220727T170707Z
UID:10002452-1687737600-1687737600@sic.edu
SUMMARY:2nd Summer 5-week Mini-Semester Begins
DESCRIPTION:The first Summer 5-week Mini-Semester begins May 22. \nThe second Summer 5-week Mini-Semester begins June 26 \nJust remember\, mini-semester courses are the same amount of material as the regular 16-week course! \nIf you think this is for you\, email advising@sic.edu or register on MySIC.
URL:https://sic.edu/event/2nd-summer-5-week-mini-semester-begins-2/
CATEGORIES:Academic Calendar
END:VEVENT
BEGIN:VEVENT
DTSTART;TZID=America/Chicago:20230624T190000
DTEND;TZID=America/Chicago:20230624T190000
DTSTAMP:20260419T123852
CREATED:20230425T143743Z
LAST-MODIFIED:20230612T184750Z
UID:10002926-1687633200-1687633200@sic.edu
SUMMARY:"The Spongebob Musical" by Jr. Falcon Productions
DESCRIPTION:This show will be performed by high school-aged students and SIC students. \nShow Dates:\nThursday\, June 22 at 7 p.m.\nFriday\, June 23 at 7 p.m.\nSaturday\, June 24 at 7 p.m. \nEmail jr.falcon.sic@gmail.com for more info! \nTicket link: sic.edu/boxoffice
URL:https://sic.edu/event/chicago-teen-edition-by-jr-falcon-productions-3-2-2/
LOCATION:F-127 – Theatre\, 3575 College Rd.\, Harrisburg\, IL\, 62946-4925\, United States
CATEGORIES:Community Events,High School and Middle School,Jr. Falcon Productions Webpage,Student Activities,Theatre,Theatre Webpage,Visual and Performing Arts
ATTACH;FMTTYPE=image/jpeg:https://sic.edu/wp-content/uploads/2023/04/Eld-BB-SpongeBob.jpg
ORGANIZER;CN="Kellye Whitler%2C Events Director":MAILTO:boxoffice@sic.edu
END:VEVENT
END:VCALENDAR