BEGIN:VCALENDAR
VERSION:2.0
PRODID:-//Southeastern Illinois College - ECPv6.15.20//NONSGML v1.0//EN
CALSCALE:GREGORIAN
METHOD:PUBLISH
X-WR-CALNAME:Southeastern Illinois College
X-ORIGINAL-URL:https://sic.edu
X-WR-CALDESC:Events for Southeastern Illinois College
REFRESH-INTERVAL;VALUE=DURATION:PT1H
X-Robots-Tag:noindex
X-PUBLISHED-TTL:PT1H
BEGIN:VTIMEZONE
TZID:America/Chicago
BEGIN:DAYLIGHT
TZOFFSETFROM:-0600
TZOFFSETTO:-0500
TZNAME:CDT
DTSTART:20220313T080000
END:DAYLIGHT
BEGIN:STANDARD
TZOFFSETFROM:-0500
TZOFFSETTO:-0600
TZNAME:CST
DTSTART:20221106T070000
END:STANDARD
BEGIN:DAYLIGHT
TZOFFSETFROM:-0600
TZOFFSETTO:-0500
TZNAME:CDT
DTSTART:20230312T080000
END:DAYLIGHT
BEGIN:STANDARD
TZOFFSETFROM:-0500
TZOFFSETTO:-0600
TZNAME:CST
DTSTART:20231105T070000
END:STANDARD
BEGIN:DAYLIGHT
TZOFFSETFROM:-0600
TZOFFSETTO:-0500
TZNAME:CDT
DTSTART:20240310T080000
END:DAYLIGHT
BEGIN:STANDARD
TZOFFSETFROM:-0500
TZOFFSETTO:-0600
TZNAME:CST
DTSTART:20241103T070000
END:STANDARD
END:VTIMEZONE
BEGIN:VEVENT
DTSTART;TZID=America/Chicago:20230418T130000
DTEND;TZID=America/Chicago:20230418T130000
DTSTAMP:20260424T014605
CREATED:20230117T154642Z
LAST-MODIFIED:20230901T134507Z
UID:10002800-1681822800-1681822800@sic.edu
SUMMARY:Women's Softball at Lincoln Trail College (DH)
DESCRIPTION:
URL:https://sic.edu/event/womens-softball-vs-east-ms-at-ne-ms-2/
LOCATION:IL
CATEGORIES:Women's Softball
END:VEVENT
BEGIN:VEVENT
DTSTART;TZID=America/Chicago:20230418T160000
DTEND;TZID=America/Chicago:20230418T180000
DTSTAMP:20260424T014605
CREATED:20230130T172032Z
LAST-MODIFIED:20230217T134340Z
UID:10002645-1681833600-1681840800@sic.edu
SUMMARY:SIC Kids Fair
DESCRIPTION:
URL:https://sic.edu/event/sic-kids-fair-2/
LOCATION:C-106 Joseph C. Deaton Gym\, SIC 3575 College R\, HARRISBURG\, IL\, 62946
CATEGORIES:Children's Activities,Community Events
ATTACH;FMTTYPE=image/jpeg:https://sic.edu/wp-content/uploads/2023/01/Zone-1-Kids-Fair-2023-scaled.jpg
ORGANIZER;CN="Lori Cox":MAILTO:lori.cox@sic.edu
END:VEVENT
BEGIN:VEVENT
DTSTART;TZID=America/Chicago:20230418T180000
DTEND;TZID=America/Chicago:20230418T180000
DTSTAMP:20260424T014605
CREATED:20221205T164233Z
LAST-MODIFIED:20221205T164233Z
UID:10002776-1681840800-1681840800@sic.edu
SUMMARY:Board of Trustees Meeting
DESCRIPTION:
URL:https://sic.edu/event/board-of-trustees-meeting-20-2-2-3/
LOCATION:E-224 Rodney J Brenner Board Room
CATEGORIES:Board Meetings
ORGANIZER;CN="Kathy Volkening%2C Executive Assistant to President and Board":MAILTO:kathy.volkening@sic.edu
END:VEVENT
BEGIN:VEVENT
DTSTART;TZID=America/Chicago:20230419T120000
DTEND;TZID=America/Chicago:20230419T120000
DTSTAMP:20260424T014605
CREATED:20230324T152709Z
LAST-MODIFIED:20230419T132514Z
UID:10002902-1681905600-1681905600@sic.edu
SUMMARY:GED Testing
DESCRIPTION:Find information on available GED test prep classes at sic.edu/ged
URL:https://sic.edu/event/ged-testing-12/
LOCATION:A-146 Testing
CATEGORIES:Testing
ORGANIZER;CN="Testing Center":MAILTO:testing@sic.edu
END:VEVENT
BEGIN:VEVENT
DTSTART;TZID=America/Chicago:20230420T140000
DTEND;TZID=America/Chicago:20230420T140000
DTSTAMP:20260424T014605
CREATED:20230117T161924Z
LAST-MODIFIED:20230901T134503Z
UID:10002815-1681999200-1681999200@sic.edu
SUMMARY:Women's Softball at Rend Lake College (DH)
DESCRIPTION:
URL:https://sic.edu/event/womens-softball-at-rend-lake-college/
LOCATION:IL
CATEGORIES:Women's Softball
END:VEVENT
BEGIN:VEVENT
DTSTART;TZID=America/Chicago:20230420T153000
DTEND;TZID=America/Chicago:20230420T183000
DTSTAMP:20260424T014605
CREATED:20230419T134045Z
LAST-MODIFIED:20230419T134402Z
UID:10002922-1682004600-1682015400@sic.edu
SUMMARY:Saline County CEO Trade Show
DESCRIPTION:Please join us to experience the new Saline County CEO Student Businesses in SIC’s Harry L. Crisp Student Center Cafeteria. For more information\, please contact Tina Norman at facilitator@salinecountyceo.com. \nThis event is free to the public. Come support our young local entrepreneurs\, and shop the student businesses! \nCEO is a year-long course for high school seniors designed to provide an overview of business development and processes. Students visit area businesses\, learn from guest speakers\, write business plans\, and start and operate their own businesses. \n  \n 
URL:https://sic.edu/event/saline-county-ceo-trade-show-2/
LOCATION:B-129 – Harry L. Crisp Student Center
CATEGORIES:Community Events,Student Activities
ATTACH;FMTTYPE=image/jpeg:https://sic.edu/wp-content/uploads/2023/04/CEO-Tradeshow-2023.jpg
END:VEVENT
BEGIN:VEVENT
DTSTART;TZID=America/Chicago:20230420T180000
DTEND;TZID=America/Chicago:20230420T180000
DTSTAMP:20260424T014605
CREATED:20230217T155404Z
LAST-MODIFIED:20230227T204248Z
UID:10002862-1682013600-1682013600@sic.edu
SUMMARY:Varsity Esports Open Tryouts
DESCRIPTION:The SIC competitive varsity esports team will be holding tryouts on April 20th and April 22nd for roster spots and scholarships on the 2023-2024 team.\nAnyone who will be a full-time SIC student in the Fall 2023 semester is welcome to come and tryout.\n\nCurrently we are looking for Halo Infinite and Call of Duty MWII players\, but there is potential for Overwatch 2\, Valorant\, Rocket League\, and/or Fortnite teams if enough members are interested.\nA limited number of scholarships are available in the form of tuition waivers\, so be sure to bring your “A game.”
URL:https://sic.edu/event/varsity-esports-open-tryouts/
LOCATION:Esports Arena – B130\, across from cafeteria in B building
CATEGORIES:Athletics & Competitive Teams,Faction of Gamers,Student Activities
ATTACH;FMTTYPE=image/png:https://sic.edu/wp-content/uploads/2023/02/Spring-Tryouts-2023_1260x980.png
ORGANIZER;CN="Jason Fitzgerald%2C Math &amp%3B Science Division Chair%2C Esports Coach":MAILTO:jason.fitzgerald@sic.edu
END:VEVENT
BEGIN:VEVENT
DTSTART;VALUE=DATE:20230421
DTEND;VALUE=DATE:20230424
DTSTAMP:20260424T014605
CREATED:20230321T191012Z
LAST-MODIFIED:20230322T152522Z
UID:10002875-1682035200-1682294399@sic.edu
SUMMARY:Collegiate Archery Target Regionals North
DESCRIPTION:
URL:https://sic.edu/event/archery-regionals-2/
LOCATION:Chuck Hearn Outdoor Education Complex
CATEGORIES:Archery
ORGANIZER;CN="Ricky Sauls":MAILTO:ricky.sauls@sic.edu
END:VEVENT
BEGIN:VEVENT
DTSTART;TZID=America/Chicago:20230421T171500
DTEND;TZID=America/Chicago:20230421T190000
DTSTAMP:20260424T014605
CREATED:20230214T153429Z
LAST-MODIFIED:20230419T124916Z
UID:10002857-1682097300-1682103600@sic.edu
SUMMARY:SIC Foundation Donor Appreciation Event
DESCRIPTION:This is a private event by invitation only
URL:https://sic.edu/event/sic-donor-appreciation-event/
LOCATION:F – George T. Dennis Visual & Performing Arts Center Lower Lobby\, 3575 College Rd.\, Harrisburg\, IL\, 62946
CATEGORIES:Foundation and Alumni
END:VEVENT
BEGIN:VEVENT
DTSTART;TZID=America/Chicago:20230421T190000
DTEND;TZID=America/Chicago:20230421T190000
DTSTAMP:20260424T014605
CREATED:20220727T170704Z
LAST-MODIFIED:20230406T200739Z
UID:10002513-1682103600-1682103600@sic.edu
SUMMARY:9 to 5 the Musical
DESCRIPTION:
URL:https://sic.edu/event/9-to-5/
LOCATION:F-127 – Theatre\, 3575 College Rd.\, Harrisburg\, IL\, 62946-4925\, United States
CATEGORIES:Theatre,Theatre Webpage,Visual and Performing Arts
ATTACH;FMTTYPE=image/jpeg:https://sic.edu/wp-content/uploads/2022/07/Zone-1-9-to-5-1-scaled.jpg
ORGANIZER;CN="Kellye Whitler%2C Events Director":MAILTO:boxoffice@sic.edu
END:VEVENT
BEGIN:VEVENT
DTSTART;TZID=America/Chicago:20230422T120000
DTEND;TZID=America/Chicago:20230422T120000
DTSTAMP:20260424T014605
CREATED:20230117T162015Z
LAST-MODIFIED:20230901T134457Z
UID:10002814-1682164800-1682164800@sic.edu
SUMMARY:Women's Softball vs. Lincoln Trail College (DH) and Sophomore Day!
DESCRIPTION:
URL:https://sic.edu/event/womens-softball-vs-lincoln-trail-college/
LOCATION:Falcon Field\, 3575 College Rd.\, Harrisburg\, IL\, 62946
CATEGORIES:Women's Softball
ATTACH;FMTTYPE=image/jpeg:https://sic.edu/wp-content/uploads/2023/01/sophomore-night-2023.jpg
END:VEVENT
BEGIN:VEVENT
DTSTART;TZID=America/Chicago:20230422T120000
DTEND;TZID=America/Chicago:20230422T120000
DTSTAMP:20260424T014605
CREATED:20230217T155541Z
LAST-MODIFIED:20230227T204159Z
UID:10002863-1682164800-1682164800@sic.edu
SUMMARY:Varsity Esports Open Tryouts
DESCRIPTION:The SIC competitive varsity esports team will be holding tryouts on April 20th and April 22nd for roster spots and scholarships on the 2023-2024 team.\nAnyone who will be a full-time SIC student in the Fall 2023 semester is welcome to come and tryout.\n\nCurrently we are looking for Halo Infinite and Call of Duty MWII players\, but there is potential for Overwatch 2\, Valorant\, Rocket League\, and/or Fortnite teams if enough members are interested.\nA limited number of scholarships are available in the form of tuition waivers\, so be sure to bring your “A game.”
URL:https://sic.edu/event/varsity-esports-open-tryouts-2/
LOCATION:Esports Arena – B130\, across from cafeteria in B building
CATEGORIES:Athletics & Competitive Teams,Faction of Gamers,Student Activities
ATTACH;FMTTYPE=image/png:https://sic.edu/wp-content/uploads/2023/02/Spring-Tryouts-2023_1260x980.png
ORGANIZER;CN="Jason Fitzgerald%2C Math &amp%3B Science Division Chair%2C Esports Coach":MAILTO:jason.fitzgerald@sic.edu
END:VEVENT
BEGIN:VEVENT
DTSTART;TZID=America/Chicago:20230422T190000
DTEND;TZID=America/Chicago:20230422T190000
DTSTAMP:20260424T014605
CREATED:20220727T170704Z
LAST-MODIFIED:20230406T200854Z
UID:10002514-1682190000-1682190000@sic.edu
SUMMARY:9 to 5 the Musical
DESCRIPTION:
URL:https://sic.edu/event/9-to-5-2/
LOCATION:F-127 – Theatre\, 3575 College Rd.\, Harrisburg\, IL\, 62946-4925\, United States
CATEGORIES:Theatre,Theatre Webpage,Visual & Performing Arts
ATTACH;FMTTYPE=image/jpeg:https://sic.edu/wp-content/uploads/2022/07/Zone-1-9-to-5-1-scaled.jpg
ORGANIZER;CN="Kellye Whitler%2C Events Director":MAILTO:boxoffice@sic.edu
END:VEVENT
BEGIN:VEVENT
DTSTART;TZID=America/Chicago:20230423T140000
DTEND;TZID=America/Chicago:20230423T140000
DTSTAMP:20260424T014605
CREATED:20220727T170704Z
LAST-MODIFIED:20230406T201151Z
UID:10002515-1682258400-1682258400@sic.edu
SUMMARY:9 to 5 the Musical
DESCRIPTION:
URL:https://sic.edu/event/9-to-5-3/
LOCATION:F-127 – Theatre\, 3575 College Rd.\, Harrisburg\, IL\, 62946-4925\, United States
CATEGORIES:Theatre,Theatre,Theatre,Theatre Webpage,Visual and Performing Arts
ATTACH;FMTTYPE=image/jpeg:https://sic.edu/wp-content/uploads/2022/07/Zone-1-9-to-5-1-scaled.jpg
ORGANIZER;CN="Kellye Whitler%2C Events Director":MAILTO:boxoffice@sic.edu
END:VEVENT
BEGIN:VEVENT
DTSTART;TZID=America/Chicago:20230423T140000
DTEND;TZID=America/Chicago:20230423T140000
DTSTAMP:20260424T014605
CREATED:20230117T160706Z
LAST-MODIFIED:20230901T134452Z
UID:10002804-1682258400-1682258400@sic.edu
SUMMARY:Women's Softball at Kaskaskia College (DH)
DESCRIPTION:
URL:https://sic.edu/event/womens-softball-vs-kaskaskia-college/
LOCATION:IL
CATEGORIES:Women's Softball
END:VEVENT
BEGIN:VEVENT
DTSTART;VALUE=DATE:20230424
DTEND;VALUE=DATE:20230425
DTSTAMP:20260424T014605
CREATED:20230123T142423Z
LAST-MODIFIED:20230123T142423Z
UID:10002846-1682294400-1682380799@sic.edu
SUMMARY:Last Day to Withdraw from Spring Classes
DESCRIPTION:Today is the last day to withdraw from 16-week spring classes with no refund and a W grade on transcripts from spring semester courses.  After April 24\, students cannot withdraw from any 16-week courses and will receive a final grade.
URL:https://sic.edu/event/last-day-to-withdraw-from-classes-3-2/
LOCATION:IL
CATEGORIES:Academic Calendar
ORGANIZER;CN="Tiffany Brannock%2C Registrar":MAILTO:t.brannock@sic.edu
END:VEVENT
BEGIN:VEVENT
DTSTART;TZID=America/Chicago:20230425T090000
DTEND;TZID=America/Chicago:20230425T130000
DTSTAMP:20260424T014605
CREATED:20230111T142524Z
LAST-MODIFIED:20230214T152819Z
UID:10002794-1682413200-1682427600@sic.edu
SUMMARY:SIU-C Representative on Campus
DESCRIPTION:An SIU-C representative will be on campus in A/B lobby from 9 a.m. – 1 p.m. \nContact: Jason Nugent\, SIUC Admissions Coordinator for SIC transfer students\njason.nugent@siu.edu\n618-453-1008
URL:https://sic.edu/event/siu-c-representative-on-campus-3-2-2-2-2/
LOCATION:A/B Lobby
CATEGORIES:Student Activities,University Representative
ORGANIZER;CN="Rachel Parish%2C Advising":MAILTO:rachel.parish@sic.edu
END:VEVENT
BEGIN:VEVENT
DTSTART;TZID=America/Chicago:20230425T140000
DTEND;TZID=America/Chicago:20230425T140000
DTSTAMP:20260424T014605
CREATED:20230117T162136Z
LAST-MODIFIED:20230901T134449Z
UID:10002813-1682431200-1682431200@sic.edu
SUMMARY:Women's Softball at Shawnee College
DESCRIPTION:
URL:https://sic.edu/event/womens-softball-at-shawnee-college/
LOCATION:IL
CATEGORIES:Women's Softball
END:VEVENT
BEGIN:VEVENT
DTSTART;TZID=America/Chicago:20230425T180000
DTEND;TZID=America/Chicago:20230425T180000
DTSTAMP:20260424T014605
CREATED:20230303T153424Z
LAST-MODIFIED:20230303T153424Z
UID:10002871-1682445600-1682445600@sic.edu
SUMMARY:Scholarship Dinner
DESCRIPTION:This event is a by invitation only dinner for students receiving scholarships for the 2023-2024 academic year. \nEach student may bring up to 2 guests. Please RSVP by April 18 to kellye.whitler@sic.edu or 618-252-5400\, ext. 2486 or maddison.maloney@sic.edu or ext. 2401.
URL:https://sic.edu/event/scholarship-night-2/
LOCATION:B-129 – Harry L. Crisp Student Center
CATEGORIES:Foundation and Alumni,Student Activities
ORGANIZER;CN="Kellye Whitler%2C Events Director":MAILTO:boxoffice@sic.edu
END:VEVENT
BEGIN:VEVENT
DTSTART;TZID=America/Chicago:20230426T090000
DTEND;TZID=America/Chicago:20230426T120000
DTSTAMP:20260424T014605
CREATED:20230216T135405Z
LAST-MODIFIED:20230421T211212Z
UID:10002860-1682499600-1682510400@sic.edu
SUMMARY:Job Fair
DESCRIPTION:This event is open to the public! \nList of attending businesses: \nAddus Homecare\nApex Manufacturing and Design\nArrowleaf\nAmericas Car- Mart\nBanterra Corp\nBlue Cross and Blue Shield\nBWX Technologies Inc\nCarmi Manor Rehabilitation and Nursing\nChester Memorial Hospital\nClearwave Communications\nColeman Tri-County Services\nCounty Financial\nEgyptian Health Dept\nFerrell Hospital\nGaron Foods\nHamilton Memorial Hospital\nHardin Co General Hospital\nIl Dept of Human Services Choate Mental Health\nIllinois Central Management Services\nIllinois Dept of Corrections\nIllinois Dept of Employment Security\nLHC Home Health\nParkway Manor\nPepsi MidAmerica\nPeoples National Bank\nPriority Staffing Group\nRides Mass Transit\nRobinson Transport Inc\nSABIC\nShawnee Health Services\nSouthern Illinois Healthcare Recruiting\nTimberline\nWabash Area Development\, Inc\nWarehouse Services Incorporated\nWLC Management
URL:https://sic.edu/event/job-fair/
LOCATION:C-106 Joseph C. Deaton Gym\, SIC 3575 College R\, HARRISBURG\, IL\, 62946
CATEGORIES:Community Events,Student Activities
ATTACH;FMTTYPE=image/jpeg:https://sic.edu/wp-content/uploads/2023/02/Zone-1-Job-Fair-2023-scaled.jpg
ORGANIZER;CN="Lori Cox":MAILTO:lori.cox@sic.edu
END:VEVENT
BEGIN:VEVENT
DTSTART;TZID=America/Chicago:20230426T110000
DTEND;TZID=America/Chicago:20230426T110000
DTSTAMP:20260424T014605
CREATED:20230303T153702Z
LAST-MODIFIED:20230303T153702Z
UID:10002872-1682506800-1682506800@sic.edu
SUMMARY:Honors Luncheon
DESCRIPTION:This event is for students receiving awards and their guests. Instructors or coaches will contact students who should attend. \nDeadline to reserve seats is April 19. Each student may bring up to 2 guests. \nSign up at the switchboard (next to Registration) or the Bookstore or contact kellye.whitler@sic.edu or 618-252-5400\, ext. 2486 or maddison.maloney@sic.edu or ext. 2401.
URL:https://sic.edu/event/honors-luncheon-2/
LOCATION:B-129 – Harry L. Crisp Student Center
CATEGORIES:Student Activities
ORGANIZER;CN="Kellye Whitler%2C Events Director":MAILTO:boxoffice@sic.edu
END:VEVENT
BEGIN:VEVENT
DTSTART;TZID=America/Chicago:20230426T120000
DTEND;TZID=America/Chicago:20230426T120000
DTSTAMP:20260424T014605
CREATED:20230324T152752Z
LAST-MODIFIED:20230419T132545Z
UID:10002903-1682510400-1682510400@sic.edu
SUMMARY:GED Testing
DESCRIPTION:Find information on available GED test prep classes at sic.edu/ged
URL:https://sic.edu/event/ged-testing-13/
LOCATION:A-146 Testing
CATEGORIES:Testing
ORGANIZER;CN="Testing Center":MAILTO:testing@sic.edu
END:VEVENT
BEGIN:VEVENT
DTSTART;TZID=America/Chicago:20230429T100000
DTEND;TZID=America/Chicago:20230429T100000
DTSTAMP:20260424T014605
CREATED:20230117T162233Z
LAST-MODIFIED:20230901T134443Z
UID:10002812-1682762400-1682762400@sic.edu
SUMMARY:Women's Softball vs. Southwestern Illinois College (DH)
DESCRIPTION:
URL:https://sic.edu/event/womens-softball-vs-southwestern-illinois/
LOCATION:Falcon Field\, 3575 College Rd.\, Harrisburg\, IL\, 62946
CATEGORIES:Women's Softball
ORGANIZER;CN="Maggie Calcaterra":MAILTO:m.calcaterra@sic.edu
END:VEVENT
BEGIN:VEVENT
DTSTART;TZID=America/Chicago:20230501T160000
DTEND;TZID=America/Chicago:20230501T190000
DTSTAMP:20260424T014605
CREATED:20230403T140459Z
LAST-MODIFIED:20230426T142527Z
UID:10002699-1682956800-1682967600@sic.edu
SUMMARY:Junior Falcon Productions K-8: "Wizard of Oz" Auditions
DESCRIPTION:Junior Falcon Productions is proud to present “The Wizard of Oz: Youth Edition” this summer\, directed by Hannah Nance\, Jillian Miller\, and Katie Harbison.\n\n\n\nThis show is open to any student in Southern Illinois who are K-8.\n\nAuditions and sign-ups are Monday\, May 1st and Tuesday\, May 2nd from 4–7 p.m.\n\n\n\nWe are so looking forward to spending another summer bringing theater opportunities to youth in Southern Illinois! We hope to see you all at auditions!\n\nPerformance dates are July 7-9\nRegistration Fee: $60 due at auditions \nPlease contact Hannah Drake with any questions: jr.falcon.sic@gmail.com \nFind us on social media!\nInstagram – @jr.falcon.productions\nFacebook – Jr. Falcon Productions
URL:https://sic.edu/event/junior-falcon-productions-willy-wonka-jr-auditions-2-2/
LOCATION:Harrisburg High School Band Room – use Door 21\, 333 West College St\, Harrisburg\, IL\, 62946
CATEGORIES:Children's Activities,Community Events,Jr. Falcon Productions Webpage,Visual and Performing Arts
ATTACH;FMTTYPE=image/jpeg:https://sic.edu/wp-content/uploads/2023/04/auditions-info-flyer.jpg
ORGANIZER;CN="Hannah Drake":MAILTO:hhs.il.drama@gmail.com
END:VEVENT
BEGIN:VEVENT
DTSTART;TZID=America/Chicago:20230501T173000
DTEND;TZID=America/Chicago:20230501T200000
DTSTAMP:20260424T014605
CREATED:20230425T140501Z
LAST-MODIFIED:20230426T142559Z
UID:10002923-1682962200-1682971200@sic.edu
SUMMARY:Junior Falcon Productions: "Spongebob" Auditions for Grades 9th-SIC
DESCRIPTION:Jr. Falcon Auditions for The Spongebob Musical are for high school students and SIC students. Auditions will be located in the HHS Band Room (use door 21) \nAuditions will be held in HHS Band Room (use door 21) and times are:\nMonday\, May 1\, 5:30-8 p.m.\nTuesday\, May 2\, 5:30-8 p.m. \nRegistration Fee: $60 due at auditions \nThe show\, co-directed by Hannah Drake and Brandyn McGhee with choreography by Joshua Kimball\, runs June 22-25. \nQuestions? Email: jr.falcon.sic@gmail.com \nSchedule your audition here: \nFind us on social media!\nInstagram – @jr.falcon.productions\nFacebook – Jr. Falcon Productions \nAudition Packet:
URL:https://sic.edu/event/junior-falcon-productions-chicago-auditions-2-2/
LOCATION:Harrisburg High School Band Room – use Door 21\, 333 West College St\, Harrisburg\, IL\, 62946
CATEGORIES:Community Events,High School and Middle School,Jr. Falcon Productions Webpage,Theatre Webpage,Visual and Performing Arts
ATTACH;FMTTYPE=image/jpeg:https://sic.edu/wp-content/uploads/2023/04/Spongebob-image.jpg
ORGANIZER;CN="Junior Falcon Productions":MAILTO:jr.falcon.productions@gmail.com
END:VEVENT
BEGIN:VEVENT
DTSTART;TZID=America/Chicago:20230502T140000
DTEND;TZID=America/Chicago:20230502T140000
DTSTAMP:20260424T014605
CREATED:20230117T162332Z
LAST-MODIFIED:20230901T134438Z
UID:10002811-1683036000-1683036000@sic.edu
SUMMARY:Women's Softball vs. Olney College (DH)
DESCRIPTION:
URL:https://sic.edu/event/womens-softball-vs-olney-college-2/
LOCATION:Falcon Field\, 3575 College Rd.\, Harrisburg\, IL\, 62946
CATEGORIES:Women's Softball
END:VEVENT
BEGIN:VEVENT
DTSTART;TZID=America/Chicago:20230502T160000
DTEND;TZID=America/Chicago:20230502T190000
DTSTAMP:20260424T014605
CREATED:20230403T141101Z
LAST-MODIFIED:20230426T142636Z
UID:10002700-1683043200-1683054000@sic.edu
SUMMARY:Junior Falcon Productions K-8: "Wizard of Oz" Auditions
DESCRIPTION:Junior Falcon Productions is proud to present “The Wizard of Oz: Youth Edition” this summer\, directed by Hannah Nance\, Jillian Miller\, and Katie Harbison.\n\n\n\nThis show is open to any student in Southern Illinois who are in K-8.\n\nAuditions and sign-ups are Monday\, May 1st and Tuesday\, May 2nd from 4–7 p.m.\n\n\n\nWe are so looking forward to spending another summer bringing theater opportunities to youth in Southern Illinois! We hope to see you all at auditions!\n\nPerformance dates are July 7-9\nRegistration Fee: $60 due at auditions \nPlease contact Hannah Drake with any questions: jr.falcon.sic@gmail.com \nFind us on social media!\nInstagram – @jr.falcon.productions\nFacebook – Jr. Falcon Productions
URL:https://sic.edu/event/junior-falcon-productions-willy-wonka-jr-auditions-2-2-2/
LOCATION:Harrisburg High School Band Room – use Door 21\, 333 West College St\, Harrisburg\, IL\, 62946
CATEGORIES:Children's Activities,Community Events,Jr. Falcon Productions Webpage,Visual and Performing Arts
ATTACH;FMTTYPE=image/jpeg:https://sic.edu/wp-content/uploads/2023/04/auditions-info-flyer.jpg
ORGANIZER;CN="Hannah Drake":MAILTO:hhs.il.drama@gmail.com
END:VEVENT
BEGIN:VEVENT
DTSTART;TZID=America/Chicago:20230502T173000
DTEND;TZID=America/Chicago:20230502T200000
DTSTAMP:20260424T014605
CREATED:20230425T141755Z
LAST-MODIFIED:20230426T142707Z
UID:10002924-1683048600-1683057600@sic.edu
SUMMARY:Junior Falcon Productions: "Spongebob" Auditions for Grades 9th-SIC
DESCRIPTION:Jr. Falcon Auditions for The Spongebob Musical are for high school students and SIC students. Auditions will be located in the HHS Band Room (use door 21) \nAuditions will be held in HHS Band Room (use door 21) and times are:\nMonday\, May 1\, 5:30-8 p.m.\nTuesday\, May 2\, 5:30-8 p.m. \nRegistration Fee: $60 due at auditions \nThe show\, co-directed by Hannah Drake and Brandyn McGhee with choreography by Joshua Kimball\, runs June 22-25. \nQuestions? Email: jr.falcon.sic@gmail.com \nSchedule your audition here: \nFind us on social media!\nInstagram – @jr.falcon.productions\nFacebook – Jr. Falcon Productions \nAudition Packet:
URL:https://sic.edu/event/junior-falcon-productions-chicago-auditions-2-2-2/
LOCATION:Harrisburg High School Band Room – use Door 21\, 333 West College St\, Harrisburg\, IL\, 62946
CATEGORIES:Community Events,High School and Middle School,Jr. Falcon Productions Webpage,Theatre,Theatre Webpage,Visual and Performing Arts
ATTACH;FMTTYPE=image/jpeg:https://sic.edu/wp-content/uploads/2023/04/Spongebob-image.jpg
ORGANIZER;CN="Junior Falcon Productions":MAILTO:jr.falcon.productions@gmail.com
END:VEVENT
BEGIN:VEVENT
DTSTART;TZID=America/Chicago:20230502T190000
DTEND;TZID=America/Chicago:20230502T190000
DTSTAMP:20260424T014605
CREATED:20230324T203406Z
LAST-MODIFIED:20230324T204009Z
UID:10002695-1683054000-1683054000@sic.edu
SUMMARY:SIC Community Chorus presents "Meteorological Melodies"
DESCRIPTION:
URL:https://sic.edu/event/sic-community-chorus-presents-meteorological-melodies/
LOCATION:F – George T. Dennis Visual & Performing Arts Center Lower Lobby\, 3575 College Rd.\, Harrisburg\, IL\, 62946
CATEGORIES:Choirs,Community,Community Choir
ATTACH;FMTTYPE=image/jpeg:https://sic.edu/wp-content/uploads/2023/03/Zone-1-SM-Spring-Concert-2023-scaled.jpg
ORGANIZER;CN="Tim Green":MAILTO:tim.green@sic.edu
END:VEVENT
BEGIN:VEVENT
DTSTART;TZID=America/Chicago:20230503T120000
DTEND;TZID=America/Chicago:20230503T120000
DTSTAMP:20260424T014605
CREATED:20230324T152918Z
LAST-MODIFIED:20230419T130735Z
UID:10002904-1683115200-1683115200@sic.edu
SUMMARY:GED Testing
DESCRIPTION:Find information on available GED test prep classes at sic.edu/ged
URL:https://sic.edu/event/ged-testing-14/
LOCATION:A-146 Testing
CATEGORIES:Testing
ORGANIZER;CN="Testing Center":MAILTO:testing@sic.edu
END:VEVENT
END:VCALENDAR