BEGIN:VCALENDAR
VERSION:2.0
PRODID:-//Southeastern Illinois College - ECPv6.15.20//NONSGML v1.0//EN
CALSCALE:GREGORIAN
METHOD:PUBLISH
X-ORIGINAL-URL:https://sic.edu
X-WR-CALDESC:Events for Southeastern Illinois College
REFRESH-INTERVAL;VALUE=DURATION:PT1H
X-Robots-Tag:noindex
X-PUBLISHED-TTL:PT1H
BEGIN:VTIMEZONE
TZID:America/Chicago
BEGIN:DAYLIGHT
TZOFFSETFROM:-0600
TZOFFSETTO:-0500
TZNAME:CDT
DTSTART:20220313T080000
END:DAYLIGHT
BEGIN:STANDARD
TZOFFSETFROM:-0500
TZOFFSETTO:-0600
TZNAME:CST
DTSTART:20221106T070000
END:STANDARD
BEGIN:DAYLIGHT
TZOFFSETFROM:-0600
TZOFFSETTO:-0500
TZNAME:CDT
DTSTART:20230312T080000
END:DAYLIGHT
BEGIN:STANDARD
TZOFFSETFROM:-0500
TZOFFSETTO:-0600
TZNAME:CST
DTSTART:20231105T070000
END:STANDARD
BEGIN:DAYLIGHT
TZOFFSETFROM:-0600
TZOFFSETTO:-0500
TZNAME:CDT
DTSTART:20240310T080000
END:DAYLIGHT
BEGIN:STANDARD
TZOFFSETFROM:-0500
TZOFFSETTO:-0600
TZNAME:CST
DTSTART:20241103T070000
END:STANDARD
END:VTIMEZONE
BEGIN:VEVENT
DTSTART;TZID=America/Chicago:20230319T140000
DTEND;TZID=America/Chicago:20230319T140000
DTSTAMP:20260425T072719
CREATED:20230201T142431Z
LAST-MODIFIED:20230201T151127Z
UID:10002855-1679234400-1679234400@sic.edu
SUMMARY:HHS presents Mary Poppins
DESCRIPTION:Harrisburg High School presents Mary Poppins. \nShow dates are March 17-19\, 2023 \n7:00 p.m. on Friday and Saturday \n2:00 p.m. on Saturday and Sunday \nTickets are $10 for adults\, $5 for students \nContact HHS for ticket information or sales: hhs.il.drama@gmail.com or 618-253-7637X2169
URL:https://sic.edu/event/hhs-presents-mary-poppins-2-2-2/
LOCATION:F-127 – Theatre\, 3575 College Rd.\, Harrisburg\, IL\, 62946-4925\, United States
CATEGORIES:High School and Middle School,High School Productions Webpage,Visual and Performing Arts
ORGANIZER;CN="Hannah Drake":MAILTO:hhs.il.drama@gmail.com
END:VEVENT
BEGIN:VEVENT
DTSTART;TZID=America/Chicago:20230321T000000
DTEND;TZID=America/Chicago:20230321T000000
DTSTAMP:20260425T072719
CREATED:20230324T152407Z
LAST-MODIFIED:20230324T152407Z
UID:10002897-1679356800-1679356800@sic.edu
SUMMARY:GED Testing
DESCRIPTION:For more information\, please visit www.sic.edu/ged.
URL:https://sic.edu/event/ged-testing-8/
LOCATION:IL
CATEGORIES:Testing
END:VEVENT
BEGIN:VEVENT
DTSTART;TZID=America/Chicago:20230321T180000
DTEND;TZID=America/Chicago:20230321T180000
DTSTAMP:20260425T072719
CREATED:20221205T163929Z
LAST-MODIFIED:20221205T164131Z
UID:10002773-1679421600-1679421600@sic.edu
SUMMARY:Board of Trustees Meeting
DESCRIPTION:
URL:https://sic.edu/event/board-of-trustees-meeting-20-2-2-2/
LOCATION:E-224 Rodney J Brenner Board Room
CATEGORIES:Board Meetings
ORGANIZER;CN="Kathy Volkening%2C Executive Assistant to President and Board":MAILTO:kathy.volkening@sic.edu
END:VEVENT
BEGIN:VEVENT
DTSTART;TZID=America/Chicago:20230323T133000
DTEND;TZID=America/Chicago:20230323T153000
DTSTAMP:20260425T072719
CREATED:20221025T143019Z
LAST-MODIFIED:20221212T220914Z
UID:10002557-1679578200-1679585400@sic.edu
SUMMARY:PN/ADN Advisement Meetings
DESCRIPTION:Attention future students of Practical Nursing and Associate Degree Nursing programs at SIC:\nThe deadline for being accepted into one of our nursing programs is March 31\, 2023. You must attend an advisement meeting to apply for the program prior to March 31. You do not need to make an appointment to attend. Show up at a date and time that works best for you. Advisement meetings are held in room T20. Advisement meetings will last approximately 1 hour and students must be present for the entire meeting. Do not arrive late and do not plan to leave before the orientation is over. Remote access to an advisement meeting may be arranged in advance by contacting nursing@sic.edu. \nNote: ADN advisement meetings are for applicants currently enrolled in an approved PN program or have an unencumbered PN license. \nPN meeting at 1:30 p.m.\nADN meeting at 2:30 p.m.
URL:https://sic.edu/event/pn-adn-advisement-meeting-12-2-3-2-2/
LOCATION:T-220/T-221 Classroom
CATEGORIES:Academic Calendar
ORGANIZER;CN="Dr. Emily York - Director of Nursing":MAILTO:nursing@sic.edu
END:VEVENT
BEGIN:VEVENT
DTSTART;TZID=America/Chicago:20230324T123000
DTEND;TZID=America/Chicago:20230324T144500
DTSTAMP:20260425T072719
CREATED:20230314T133400Z
LAST-MODIFIED:20230314T133400Z
UID:10002874-1679661000-1679669100@sic.edu
SUMMARY:Pre-K Screenings
DESCRIPTION:
URL:https://sic.edu/event/pre-k-screenings-2/
LOCATION:A-112 Melba Patton Library
ATTACH;FMTTYPE=image/jpeg:https://sic.edu/wp-content/uploads/2023/03/Pre-K-Only-Zone-1-SM-scaled.jpg
ORGANIZER;CN="Steffanie Ferrell":MAILTO:steffanie.ferrell@sic.edu
END:VEVENT
BEGIN:VEVENT
DTSTART;TZID=America/Chicago:20230324T190000
DTEND;TZID=America/Chicago:20230324T190000
DTSTAMP:20260425T072719
CREATED:20230120T173045Z
LAST-MODIFIED:20230201T145130Z
UID:10002838-1679684400-1679684400@sic.edu
SUMMARY:Carrier Mills-Stonefort Schools present The Velveteen Rabbit
DESCRIPTION:Tickets can be picked up at the Carrier Mills-Stonefort Elementary School.
URL:https://sic.edu/event/carrier-mills-stonefort-schools-present-snow-white-and-the-seven-dwarfs-2-2/
LOCATION:F-127 – Theatre\, 3575 College Rd.\, Harrisburg\, IL\, 62946-4925\, United States
CATEGORIES:High School and Middle School,High School Productions Webpage,Visual and Performing Arts
ATTACH;FMTTYPE=image/jpeg:https://sic.edu/wp-content/uploads/2023/01/The-Velveteen-Rabbit-Flyer-CM-2023-scaled.jpg
ORGANIZER;CN="Caleb Long":MAILTO:clong@cmsfcats.org
END:VEVENT
BEGIN:VEVENT
DTSTART;TZID=America/Chicago:20230325T190000
DTEND;TZID=America/Chicago:20230325T190000
DTSTAMP:20260425T072719
CREATED:20230120T174444Z
LAST-MODIFIED:20230201T144932Z
UID:10002840-1679770800-1679770800@sic.edu
SUMMARY:Carrier Mills-Stonefort Schools present The Velveteen Rabbit
DESCRIPTION:Tickets can be picked up at the Carrier Mills-Stonefort Elementary School.
URL:https://sic.edu/event/carrier-mills-stonefort-schools-present-snow-white-and-the-seven-dwarfs-2-2-2/
LOCATION:F-127 – Theatre\, 3575 College Rd.\, Harrisburg\, IL\, 62946-4925\, United States
CATEGORIES:High School and Middle School,High School Productions Webpage,Visual and Performing Arts
ATTACH;FMTTYPE=image/jpeg:https://sic.edu/wp-content/uploads/2023/01/The-Velveteen-Rabbit-Flyer-CM-2023-scaled.jpg
ORGANIZER;CN="Caleb Long":MAILTO:clong@cmsfcats.org
END:VEVENT
BEGIN:VEVENT
DTSTART;TZID=America/Chicago:20230326T120000
DTEND;TZID=America/Chicago:20230326T120000
DTSTAMP:20260425T072719
CREATED:20230117T160847Z
LAST-MODIFIED:20230901T134653Z
UID:10002805-1679832000-1679832000@sic.edu
SUMMARY:Women's Softball at Southwestern IL College (DH)
DESCRIPTION:
URL:https://sic.edu/event/womens-softball-vs-southwestern-illinois-college/
LOCATION:IL
CATEGORIES:Women's Softball
END:VEVENT
BEGIN:VEVENT
DTSTART;VALUE=DATE:20230327
DTEND;VALUE=DATE:20230328
DTSTAMP:20260425T072719
CREATED:20230119T170510Z
LAST-MODIFIED:20230119T173934Z
UID:10002836-1679875200-1679961599@sic.edu
SUMMARY:Summer and Fall Registration Begins
DESCRIPTION:Register online for summer and fall classes at MySIC starting March 27! \nWe recommend you schedule a visit with your advisor to make sure you’re on track to graduate on time!  Popular classes fill up fast\, so don’t delay!  Check out the classes that will be offered at www.sic.edu/course-schedule \n(Summer and Fall Classes will be added close to March 27)
URL:https://sic.edu/event/summer-and-fall-registration-begins-2/
LOCATION:IL
CATEGORIES:Academic Calendar
ORGANIZER;CN="Advising":MAILTO:advising@sic.edu
END:VEVENT
BEGIN:VEVENT
DTSTART;TZID=America/Chicago:20230328T090000
DTEND;TZID=America/Chicago:20230328T110000
DTSTAMP:20260425T072719
CREATED:20221025T143209Z
LAST-MODIFIED:20221212T220931Z
UID:10002559-1679994000-1680001200@sic.edu
SUMMARY:PN/ADN Advisement Meetings
DESCRIPTION:Attention future students of Practical Nursing and Associate Degree Nursing programs at SIC:\nThe deadline for being accepted into one of our nursing programs is March 31\, 2023. You must attend an advisement meeting to apply for the program prior to March 31. You do not need to make an appointment to attend. Show up at a date and time that works best for you. Advisement meetings are held in room T20. Advisement meetings will last approximately 1 hour and students must be present for the entire meeting. Do not arrive late and do not plan to leave before the orientation is over. Remote access to an advisement meeting may be arranged in advance by contacting nursing@sic.edu. \nNote: ADN advisement meetings are for applicants currently enrolled in an approved PN program or have an unencumbered PN license. \nPN meeting at 9 a.m.\nADN meeting at 10 a.m.
URL:https://sic.edu/event/pn-adn-advisement-meeting-12-2-2-2-2/
LOCATION:T-220/T-221 Classroom
CATEGORIES:Academic Calendar
ORGANIZER;CN="Dr. Emily York - Director of Nursing":MAILTO:nursing@sic.edu
END:VEVENT
BEGIN:VEVENT
DTSTART;TZID=America/Chicago:20230328T140000
DTEND;TZID=America/Chicago:20230328T140000
DTSTAMP:20260425T072719
CREATED:20230117T155100Z
LAST-MODIFIED:20230901T134645Z
UID:10002803-1680012000-1680012000@sic.edu
SUMMARY:Women's Softball vs. Lake Land College (DH)
DESCRIPTION:
URL:https://sic.edu/event/womens-softball-vs-lake-land-college/
LOCATION:Falcon Field\, 3575 College Rd.\, Harrisburg\, IL\, 62946
CATEGORIES:Women's Softball
END:VEVENT
BEGIN:VEVENT
DTSTART;TZID=America/Chicago:20230329T000000
DTEND;TZID=America/Chicago:20230329T000000
DTSTAMP:20260425T072719
CREATED:20230324T152506Z
LAST-MODIFIED:20230324T152506Z
UID:10002899-1680048000-1680048000@sic.edu
SUMMARY:GED Testing
DESCRIPTION:For more information\, please visit www.sic.edu/ged.
URL:https://sic.edu/event/ged-testing-9/
LOCATION:IL
CATEGORIES:Testing
END:VEVENT
BEGIN:VEVENT
DTSTART;TZID=America/Chicago:20230329T100000
DTEND;TZID=America/Chicago:20230329T150000
DTSTAMP:20260425T072719
CREATED:20230216T220055Z
LAST-MODIFIED:20230216T220055Z
UID:10002861-1680084000-1680102000@sic.edu
SUMMARY:Red Cross Blood Drive sponsored by SIC Student Government
DESCRIPTION:You can make an appointment on the American Red Cross Blood Donor App!
URL:https://sic.edu/event/red-cross-blood-drive-sponsored-by-phi-theta-kappa-2/
LOCATION:F – George T. Dennis Visual & Performing Arts Center Lower Lobby\, 3575 College Rd.\, Harrisburg\, IL\, 62946
CATEGORIES:Community,Employee,Student Activities
ORGANIZER;CN="Kellye Whitler%2C Events Director":MAILTO:boxoffice@sic.edu
END:VEVENT
BEGIN:VEVENT
DTSTART;TZID=America/Chicago:20230330T140000
DTEND;TZID=America/Chicago:20230330T140000
DTSTAMP:20260425T072719
CREATED:20230117T161037Z
LAST-MODIFIED:20230901T134641Z
UID:10002806-1680184800-1680184800@sic.edu
SUMMARY:Women's Softball vs. Shawnee College (DH)
DESCRIPTION:
URL:https://sic.edu/event/womens-softball-vs-shawnee-college/
LOCATION:Falcon Field\, 3575 College Rd.\, Harrisburg\, IL\, 62946
CATEGORIES:Women's Softball
END:VEVENT
BEGIN:VEVENT
DTSTART;TZID=America/Chicago:20230331T133000
DTEND;TZID=America/Chicago:20230331T153000
DTSTAMP:20260425T072719
CREATED:20221025T143325Z
LAST-MODIFIED:20230331T183638Z
UID:10002561-1680269400-1680276600@sic.edu
SUMMARY:PN/ADN Advisement Meetings - CANCELED
DESCRIPTION:Attention future students of Practical Nursing and Associate Degree Nursing programs at SIC:\nThe deadline for being accepted into one of our nursing programs is March 31\, 2023. You must attend an advisement meeting to apply for the program prior to March 31. You do not need to make an appointment to attend. Show up at a date and time that works best for you. Advisement meetings are held in room T20. Advisement meetings will last approximately 1 hour and students must be present for the entire meeting. Do not arrive late and do not plan to leave before the orientation is over. Remote access to an advisement meeting may be arranged in advance by contacting nursing@sic.edu. \nNote: ADN advisement meetings are for applicants currently enrolled in an approved PN program or have an unencumbered PN license. \nPN meeting at 1:30 p.m.\nADN meeting at 2:30 p.m.
URL:https://sic.edu/event/pn-adn-advisement-meeting-12-2-3-2-2-2/
LOCATION:T-220/T-221 Classroom
CATEGORIES:Academic Calendar
ORGANIZER;CN="Dr. Emily York - Director of Nursing":MAILTO:nursing@sic.edu
END:VEVENT
BEGIN:VEVENT
DTSTART;TZID=America/Chicago:20230331T140000
DTEND;TZID=America/Chicago:20230331T140000
DTSTAMP:20260425T072719
CREATED:20230331T183518Z
LAST-MODIFIED:20230331T183542Z
UID:10002697-1680271200-1680271200@sic.edu
SUMMARY:College Closing at 2 p.m. - all activities canceled
DESCRIPTION:SIC will close at 2:00pm today due to severe weather. All events tonight are canceled.
URL:https://sic.edu/event/college-closing-at-2-p-m-all-activities-cancelled/
LOCATION:IL
CATEGORIES:Academic Calendar
END:VEVENT
BEGIN:VEVENT
DTSTART;TZID=America/Chicago:20230402T120000
DTEND;TZID=America/Chicago:20230402T120000
DTSTAMP:20260425T072719
CREATED:20230117T161215Z
LAST-MODIFIED:20230901T135012Z
UID:10002808-1680436800-1680436800@sic.edu
SUMMARY:Women's Softball at Oakland City University (DH)
DESCRIPTION:
URL:https://sic.edu/event/womens-softball-at-oakland-city/
LOCATION:IL
CATEGORIES:Women's Softball
END:VEVENT
BEGIN:VEVENT
DTSTART;TZID=America/Chicago:20230403T120000
DTEND;TZID=America/Chicago:20230403T120000
DTSTAMP:20260425T072719
CREATED:20230117T161129Z
LAST-MODIFIED:20230901T134630Z
UID:10002807-1680523200-1680523200@sic.edu
SUMMARY:Women's Softball at Olney College (DH)
DESCRIPTION:
URL:https://sic.edu/event/womens-softball-vs-olney-college/
LOCATION:IL
CATEGORIES:Women's Softball
END:VEVENT
BEGIN:VEVENT
DTSTART;TZID=America/Chicago:20230404T120000
DTEND;TZID=America/Chicago:20230404T120000
DTSTAMP:20260425T072719
CREATED:20230117T155154Z
LAST-MODIFIED:20230901T134625Z
UID:10002830-1680609600-1680609600@sic.edu
SUMMARY:Women's Softball at John A. Logan College (DH)
DESCRIPTION:
URL:https://sic.edu/event/womens-softball-vs-john-a-logan-college/
LOCATION:IL
CATEGORIES:Women's Softball
END:VEVENT
BEGIN:VEVENT
DTSTART;TZID=America/Chicago:20230405T000000
DTEND;TZID=America/Chicago:20230405T000000
DTSTAMP:20260425T072719
CREATED:20230324T152545Z
LAST-MODIFIED:20230324T152545Z
UID:10002900-1680652800-1680652800@sic.edu
SUMMARY:GED Testing
DESCRIPTION:For more information\, please visit www.sic.edu/ged.
URL:https://sic.edu/event/ged-testing-10/
LOCATION:IL
CATEGORIES:Testing
END:VEVENT
BEGIN:VEVENT
DTSTART;TZID=America/Chicago:20230405T100000
DTEND;TZID=America/Chicago:20230405T113000
DTSTAMP:20260425T072719
CREATED:20230321T201855Z
LAST-MODIFIED:20230321T202157Z
UID:10002876-1680688800-1680694200@sic.edu
SUMMARY:SIC Student Focus Groups
DESCRIPTION:Attention SIC students! Want free food\, giveaways\, and a chance to win a $50 Bistro/coffee shop gift card and a gas card? \nSign up for a 90-minute SIC Focus Group on April 5! https://forms.gle/4JnWLz71Eyima8T7A \nFirst come — max 8 students per session. You must be able to attend a full session. \n\n 
URL:https://sic.edu/event/sic-student-focus-groups/
LOCATION:B-137 Private Dining Room/Heritage Room
CATEGORIES:Student Activities
ATTACH;FMTTYPE=image/jpeg:https://sic.edu/wp-content/uploads/2023/03/focus-group-image-from-web.jpg
END:VEVENT
BEGIN:VEVENT
DTSTART;TZID=America/Chicago:20230405T130000
DTEND;TZID=America/Chicago:20230405T143000
DTSTAMP:20260425T072719
CREATED:20230321T202102Z
LAST-MODIFIED:20230321T202102Z
UID:10002877-1680699600-1680705000@sic.edu
SUMMARY:SIC Student Focus Groups
DESCRIPTION:Attention SIC students! Want free food\, giveaways\, and a chance to win a $50 Bistro/coffee shop gift card and a gas card? \nSign up for a 90-minute SIC Focus Group on April 5! https://forms.gle/4JnWLz71Eyima8T7A \nFirst come — max 8 students per session. You must be able to attend a full session.
URL:https://sic.edu/event/sic-student-focus-groups-2/
LOCATION:B-137 Private Dining Room/Heritage Room
CATEGORIES:Student Activities
ATTACH;FMTTYPE=image/jpeg:https://sic.edu/wp-content/uploads/2023/03/focus-group-image-from-web.jpg
END:VEVENT
BEGIN:VEVENT
DTSTART;TZID=America/Chicago:20230406T090000
DTEND;TZID=America/Chicago:20230406T130000
DTSTAMP:20260425T072719
CREATED:20230110T213544Z
LAST-MODIFIED:20230214T145800Z
UID:10002793-1680771600-1680786000@sic.edu
SUMMARY:SIU-C Representative on Campus
DESCRIPTION:An SIU-C representative will be on campus in A/B lobby from 9 a.m. – 1 p.m. on the following dates: \nThursday\, April 6th \nTuesday\, April 25th \nContact: Jason Nugent\, SIUC Admissions Coordinator for SIC transfer students\njason.nugent@siu.edu\n618-453-1008
URL:https://sic.edu/event/siu-c-representative-on-campus-3-2-2-2/
LOCATION:A/B Lobby
CATEGORIES:Student Activities,University Representative
ORGANIZER;CN="Rachel Parish%2C Advising":MAILTO:rachel.parish@sic.edu
END:VEVENT
BEGIN:VEVENT
DTSTART;TZID=America/Chicago:20230406T140000
DTEND;TZID=America/Chicago:20230406T160000
DTSTAMP:20260425T072719
CREATED:20230117T161327Z
LAST-MODIFIED:20230901T134620Z
UID:10002809-1680789600-1680796800@sic.edu
SUMMARY:Women's Softball at Lake Land College (DH)
DESCRIPTION:
URL:https://sic.edu/event/womens-softball-at-lake-land-college/
LOCATION:IL
CATEGORIES:Women's Softball
END:VEVENT
BEGIN:VEVENT
DTSTART;VALUE=DATE:20230407
DTEND;VALUE=DATE:20230408
DTSTAMP:20260425T072719
CREATED:20220727T170704Z
LAST-MODIFIED:20230111T153932Z
UID:10002609-1680825600-1680911999@sic.edu
SUMMARY:College Holiday
DESCRIPTION:Enjoy your long weekend!
URL:https://sic.edu/event/college-holiday-3/
LOCATION:IL
CATEGORIES:Academic Calendar
END:VEVENT
BEGIN:VEVENT
DTSTART;TZID=America/Chicago:20230407T120000
DTEND;TZID=America/Chicago:20230407T120000
DTSTAMP:20260425T072719
CREATED:20230117T161431Z
LAST-MODIFIED:20230901T134526Z
UID:10002810-1680868800-1680868800@sic.edu
SUMMARY:Women's Softball vs. Frontier College (DH)
DESCRIPTION:
URL:https://sic.edu/event/womens-softball-vs-frontier-college-2/
LOCATION:Falcon Field\, 3575 College Rd.\, Harrisburg\, IL\, 62946
CATEGORIES:Women's Softball
END:VEVENT
BEGIN:VEVENT
DTSTART;TZID=America/Chicago:20230411T140000
DTEND;TZID=America/Chicago:20230411T140000
DTSTAMP:20260425T072719
CREATED:20230117T161610Z
LAST-MODIFIED:20230901T134521Z
UID:10002818-1681221600-1681221600@sic.edu
SUMMARY:Women's Softball vs. John A. Logan College
DESCRIPTION:
URL:https://sic.edu/event/womens-softball-vs-john-a-logan-college-2/
LOCATION:Harry Crisp Sports Complex – Marion
CATEGORIES:Women's Softball
ORGANIZER;CN="Maggie Calcaterra":MAILTO:m.calcaterra@sic.edu
END:VEVENT
BEGIN:VEVENT
DTSTART;TZID=America/Chicago:20230412T000000
DTEND;TZID=America/Chicago:20230412T000000
DTSTAMP:20260425T072719
CREATED:20230324T152625Z
LAST-MODIFIED:20230324T152625Z
UID:10002901-1681257600-1681257600@sic.edu
SUMMARY:GED Testing
DESCRIPTION:For more information\, please visit www.sic.edu/ged.
URL:https://sic.edu/event/ged-testing-11/
LOCATION:IL
CATEGORIES:Testing
END:VEVENT
BEGIN:VEVENT
DTSTART;TZID=America/Chicago:20230413T140000
DTEND;TZID=America/Chicago:20230413T140000
DTSTAMP:20260425T072719
CREATED:20230117T161655Z
LAST-MODIFIED:20230901T134516Z
UID:10002817-1681394400-1681394400@sic.edu
SUMMARY:Women's Softball at Wabash Valley College (DH)
DESCRIPTION:
URL:https://sic.edu/event/womens-softball-vs-mineral-area-college-2/
LOCATION:IL
CATEGORIES:Women's Softball
END:VEVENT
BEGIN:VEVENT
DTSTART;TZID=America/Chicago:20230415T120000
DTEND;TZID=America/Chicago:20230415T120000
DTSTAMP:20260425T072719
CREATED:20230117T161800Z
LAST-MODIFIED:20230901T134511Z
UID:10002816-1681560000-1681560000@sic.edu
SUMMARY:Women's Softball vs. Kaskaskia College
DESCRIPTION:
URL:https://sic.edu/event/womens-softball-vs-kaskaskia-college-2/
LOCATION:Falcon Field\, 3575 College Rd.\, Harrisburg\, IL\, 62946
CATEGORIES:Women's Softball
END:VEVENT
END:VCALENDAR