BEGIN:VCALENDAR
VERSION:2.0
PRODID:-//Southeastern Illinois College - ECPv6.15.20//NONSGML v1.0//EN
CALSCALE:GREGORIAN
METHOD:PUBLISH
X-ORIGINAL-URL:https://sic.edu
X-WR-CALDESC:Events for Southeastern Illinois College
REFRESH-INTERVAL;VALUE=DURATION:PT1H
X-Robots-Tag:noindex
X-PUBLISHED-TTL:PT1H
BEGIN:VTIMEZONE
TZID:America/Chicago
BEGIN:DAYLIGHT
TZOFFSETFROM:-0600
TZOFFSETTO:-0500
TZNAME:CDT
DTSTART:20220313T080000
END:DAYLIGHT
BEGIN:STANDARD
TZOFFSETFROM:-0500
TZOFFSETTO:-0600
TZNAME:CST
DTSTART:20221106T070000
END:STANDARD
BEGIN:DAYLIGHT
TZOFFSETFROM:-0600
TZOFFSETTO:-0500
TZNAME:CDT
DTSTART:20230312T080000
END:DAYLIGHT
BEGIN:STANDARD
TZOFFSETFROM:-0500
TZOFFSETTO:-0600
TZNAME:CST
DTSTART:20231105T070000
END:STANDARD
BEGIN:DAYLIGHT
TZOFFSETFROM:-0600
TZOFFSETTO:-0500
TZNAME:CDT
DTSTART:20240310T080000
END:DAYLIGHT
BEGIN:STANDARD
TZOFFSETFROM:-0500
TZOFFSETTO:-0600
TZNAME:CST
DTSTART:20241103T070000
END:STANDARD
END:VTIMEZONE
BEGIN:VEVENT
DTSTART;TZID=America/Chicago:20230102T080000
DTEND;TZID=America/Chicago:20230102T160000
DTSTAMP:20260423T154658
CREATED:20221207T214011Z
LAST-MODIFIED:20230102T152415Z
UID:10002585-1672646400-1672675200@sic.edu
SUMMARY:Scholarship Applications Open! Deadline: Feb. 28
DESCRIPTION:Scholarship Applications are now available for all students attending SIC in the fall — new and current students. \n\nFor assistance or more information\, email fao@sic.edu or call (618) 252-5400\, ext. 4110. \nThe application can be found at sic.edu/scholarships
URL:https://sic.edu/event/scholarship-applications-due-2-2/
LOCATION:IL
CATEGORIES:Academic Calendar,High School and Middle School
ATTACH;FMTTYPE=image/jpeg:https://sic.edu/wp-content/uploads/2022/12/Scholarships-Facebook-event.jpg
ORGANIZER;CN="Financial Aid":MAILTO:fao@sic.edu
END:VEVENT
BEGIN:VEVENT
DTSTART;TZID=America/Chicago:20230103T000000
DTEND;TZID=America/Chicago:20230103T000000
DTSTAMP:20260423T154658
CREATED:20230324T143106Z
LAST-MODIFIED:20230324T143107Z
UID:10002878-1672704000-1672704000@sic.edu
SUMMARY:GED Testing
DESCRIPTION:For more information\, please visit www.sic.edu/ged. \n 
URL:https://sic.edu/event/ged-testing-1-3-2023/
LOCATION:IL
CATEGORIES:Testing
END:VEVENT
BEGIN:VEVENT
DTSTART;TZID=America/Chicago:20230106T080000
DTEND;TZID=America/Chicago:20230106T163000
DTSTAMP:20260423T154658
CREATED:20220727T170727Z
LAST-MODIFIED:20221212T220601Z
UID:10002604-1672992000-1673022600@sic.edu
SUMMARY:Faculty/Staff Development Day
DESCRIPTION:Faculty and Staff Development Day is January 6
URL:https://sic.edu/event/faculty-staff-development-day-5/
LOCATION:IL
CATEGORIES:Employee
ORGANIZER;CN="Kathy Volkening%2C Executive Assistant to President and Board":MAILTO:kathy.volkening@sic.edu
END:VEVENT
BEGIN:VEVENT
DTSTART;TZID=America/Chicago:20230107T090000
DTEND;TZID=America/Chicago:20230107T144500
DTSTAMP:20260423T154658
CREATED:20221031T185250Z
LAST-MODIFIED:20221212T214232Z
UID:10002753-1673082000-1673102700@sic.edu
SUMMARY:SIC Softball Defense Camp
DESCRIPTION:AGES 5-11 FROM 9-10:45AM \nAGES 12-18 FROM 1 PM-2:45PM \nPRICE: $50.00 (INCLUDES CAMP T-SHIRT) \n  \nNAME: ______________________________________ AGE: __________________ \nADDRESS: __________________________________________________________ \nCITY: _______________ ST: ___________ ZIP: ___________ PHONE: __________ \nEMAIL ____________________________________________________________ \nYEAR IN SCHOOL (1-12): ______________ T-SHIRT SIZE: ____________________ \n***Return payment and registration to: SIC\, c/o Maggie Calcaterra\, 3575 College Rd\, Harrisburg\, IL 62946 or pay on the day of camp \n***Please check email for release form\, as camp draws closer
URL:https://sic.edu/event/sic-softball-hitting-camp-2/
LOCATION:C-106 Joseph C. Deaton Gym\, SIC 3575 College R\, HARRISBURG\, IL\, 62946
CATEGORIES:Athletics & Competitive Teams,Children's Activities,Community Events,High School and Middle School,Women's Softball
ORGANIZER;CN="Maggie Calcaterra":MAILTO:m.calcaterra@sic.edu
END:VEVENT
BEGIN:VEVENT
DTSTART;TZID=America/Chicago:20230107T110000
DTEND;TZID=America/Chicago:20230107T163000
DTSTAMP:20260423T154658
CREATED:20221031T185250Z
LAST-MODIFIED:20221212T214354Z
UID:10002755-1673089200-1673109000@sic.edu
SUMMARY:SIC Softball Pitching and Catching Camp
DESCRIPTION:AGES 5-11 FROM 11AM-12:30PM \nAGES 12-18 FROM 3PM-4:30PM \nPRICE: $35.00 (t-shirt NOT included) \n  \nNAME: ______________________________________ AGE: __________________ \nADDRESS: __________________________________________________________ \nCITY: _______________ ST: ___________ ZIP: ___________ PHONE: __________ \nEMAIL (if under 13\, need parent’s address): __________________________________ \nYEAR IN SCHOOL (1-12): ______________ T-SHIRT SIZE: ____________________ \n***Return payment and registration to: SIC\, c/o Maggie Calcaterra\, 3575 College Rd\, Harrisburg\, IL 62946 or pay on the day of camp \n***Please check email for release form\, as camp draws closer
URL:https://sic.edu/event/sic-softball-hitting-camp-2-2/
LOCATION:C-106 Joseph C. Deaton Gym\, SIC 3575 College R\, HARRISBURG\, IL\, 62946
CATEGORIES:Athletics & Competitive Teams,Children's Activities,Community Events,High School and Middle School,Women's Softball
ORGANIZER;CN="Maggie Calcaterra":MAILTO:m.calcaterra@sic.edu
END:VEVENT
BEGIN:VEVENT
DTSTART;TZID=America/Chicago:20230109T080000
DTEND;TZID=America/Chicago:20230109T163000
DTSTAMP:20260423T154658
CREATED:20220727T170727Z
LAST-MODIFIED:20221212T220506Z
UID:10002605-1673251200-1673281800@sic.edu
SUMMARY:Spring Semester Begins
DESCRIPTION:Welcome Back! \nIf you forgot to register or meant to sign up for a class\, but forgot\, you can still register for many classes this week! Visit our advisors on the first floor of E building or email advising@sic.edu.
URL:https://sic.edu/event/spring-semester-begins-3/
LOCATION:IL
CATEGORIES:Academic Calendar
END:VEVENT
BEGIN:VEVENT
DTSTART;TZID=America/Chicago:20230110T000000
DTEND;TZID=America/Chicago:20230110T000000
DTSTAMP:20260423T154658
CREATED:20230324T151138Z
LAST-MODIFIED:20230324T151138Z
UID:10002881-1673308800-1673308800@sic.edu
SUMMARY:GED Testing
DESCRIPTION:For more information\, please visit www.sic.edu/ged. \n 
URL:https://sic.edu/event/ged-testing-1-10-2023/
LOCATION:IL
CATEGORIES:Testing
END:VEVENT
BEGIN:VEVENT
DTSTART;TZID=America/Chicago:20230114T150000
DTEND;TZID=America/Chicago:20230114T150000
DTSTAMP:20260423T154658
CREATED:20221026T195031Z
LAST-MODIFIED:20230927T131524Z
UID:10002737-1673708400-1673708400@sic.edu
SUMMARY:Men's Basketball vs. Lake Land College
DESCRIPTION:
URL:https://sic.edu/event/mens-basketball-vs-lakeland-community-college/
LOCATION:C-106 Joseph C. Deaton Gym\, SIC 3575 College R\, HARRISBURG\, IL\, 62946
CATEGORIES:Mens Basketball
ATTACH;FMTTYPE=image/png:https://sic.edu/wp-content/uploads/2022/10/vs-Lakeland.png
END:VEVENT
BEGIN:VEVENT
DTSTART;TZID=America/Chicago:20230115T130000
DTEND;TZID=America/Chicago:20230115T130000
DTSTAMP:20260423T154658
CREATED:20221026T195127Z
LAST-MODIFIED:20230927T131537Z
UID:10002738-1673787600-1673787600@sic.edu
SUMMARY:Men's Basketball vs. Oakland City University
DESCRIPTION:
URL:https://sic.edu/event/mens-basketball-vs-oakland-city-university-2-2/
LOCATION:C-106 Joseph C. Deaton Gym\, SIC 3575 College R\, HARRISBURG\, IL\, 62946
CATEGORIES:Mens Basketball
ATTACH;FMTTYPE=image/png:https://sic.edu/wp-content/uploads/2022/10/vs.-OCU.png
END:VEVENT
BEGIN:VEVENT
DTSTART;TZID=America/Chicago:20230115T140000
DTEND;TZID=America/Chicago:20230115T140000
DTSTAMP:20260423T154658
CREATED:20221031T182501Z
LAST-MODIFIED:20221215T165621Z
UID:10002750-1673791200-1673791200@sic.edu
SUMMARY:Landon Gates & the Bulldog Blues
DESCRIPTION:$10 for adults\, $5 for students
URL:https://sic.edu/event/landon-gates-concert-2/
LOCATION:F – George T. Dennis Visual & Performing Arts Center Lower Lobby\, 3575 College Rd.\, Harrisburg\, IL\, 62946
CATEGORIES:Community Events,Cultural Arts Series,Visual & Performing Arts
ATTACH;FMTTYPE=image/jpeg:https://sic.edu/wp-content/uploads/2022/10/zone-1-Landon.jpg
ORGANIZER;CN="Kellye Whitler%2C Events Director":MAILTO:boxoffice@sic.edu
END:VEVENT
BEGIN:VEVENT
DTSTART;VALUE=DATE:20230116
DTEND;VALUE=DATE:20230117
DTSTAMP:20260423T154658
CREATED:20220727T170727Z
LAST-MODIFIED:20221212T220702Z
UID:10002606-1673827200-1673913599@sic.edu
SUMMARY:Martin Luther King\, Jr. Day - College Closed
DESCRIPTION:The Meaning of The King Holiday\n\n\n\n\nBY CORETTA SCOTT KING\n\n\n\n\n\nThe Martin Luther King\, Jr. Holiday celebrates the life and legacy of a man who brought hope and healing to America. We commemorate as well the timeless values he taught us through his example — the values of courage\, truth\, justice\, compassion\, dignity\, humility and service that so radiantly defined Dr. King’s character and empowered his leadership. On this holiday\, we commemorate the universal\, unconditional love\, forgiveness and nonviolence that empowered his revolutionary spirit. …  Taken from www.thekingcenter.org.  Read more.  
URL:https://sic.edu/event/martin-luther-king-jr-day-college-closed-3/
LOCATION:IL
CATEGORIES:Academic Calendar
END:VEVENT
BEGIN:VEVENT
DTSTART;TZID=America/Chicago:20230117T073000
DTEND;TZID=America/Chicago:20230117T093000
DTSTAMP:20260423T154658
CREATED:20230112T151540Z
LAST-MODIFIED:20230112T151625Z
UID:10002797-1673940600-1673947800@sic.edu
SUMMARY:Welcome Back Pancake Breakfast Fundraiser by SIC Softball
DESCRIPTION:Back by popular demand. The softball team will be holding their Welcome Back Pancake Breakfast! Only $4 for a stack of pancakes and a small OJ or milk.
URL:https://sic.edu/event/welcome-back-pancake-breakfast-fundraiser-by-sic-softball/
LOCATION:F – George T. Dennis Visual & Performing Arts Center Lower Lobby\, 3575 College Rd.\, Harrisburg\, IL\, 62946
CATEGORIES:Athletics & Competitive Teams,Community Events,Women's Softball
ATTACH;FMTTYPE=image/jpeg:https://sic.edu/wp-content/uploads/2023/01/Pancake-Breakfast-Zone-1-SM.jpg
ORGANIZER;CN="Maggie Calcaterra":MAILTO:m.calcaterra@sic.edu
END:VEVENT
BEGIN:VEVENT
DTSTART;TZID=America/Chicago:20230117T130000
DTEND;TZID=America/Chicago:20230117T150000
DTSTAMP:20260423T154658
CREATED:20221025T141740Z
LAST-MODIFIED:20221212T220816Z
UID:10002552-1673960400-1673967600@sic.edu
SUMMARY:PN/ADN Advisement Meetings
DESCRIPTION:Attention future students of Practical Nursing and Associate Degree Nursing programs at SIC:\nThe deadline for being accepted into one of our nursing programs is March 31\, 2023. You must attend an advisement meeting to apply for the program prior to March 31. You do not need to make an appointment to attend. Show up at a date and time that works best for you. Advisement meetings are held in room T20. Advisement meetings will last approximately 1 hour and students must be present for the entire meeting. Do not arrive late and do not plan to leave before the orientation is over. Remote access to an advisement meeting may be arranged in advance by contacting nursing@sic.edu. \nNote: ADN advisement meetings are for applicants currently enrolled in an approved PN program or have an unencumbered PN license. \nPN meeting at 1 p.m.\nADN meeting at 2 p.m.
URL:https://sic.edu/event/pn-adn-advisement-meeting-12-2-3/
LOCATION:T-220/T-221 Classroom
CATEGORIES:Academic Calendar
ORGANIZER;CN="Dr. Emily York - Director of Nursing":MAILTO:nursing@sic.edu
END:VEVENT
BEGIN:VEVENT
DTSTART;TZID=America/Chicago:20230117T180000
DTEND;TZID=America/Chicago:20230117T180000
DTSTAMP:20260423T154658
CREATED:20221205T163744Z
LAST-MODIFIED:20221205T163744Z
UID:10002771-1673978400-1673978400@sic.edu
SUMMARY:Board of Trustees Meeting
DESCRIPTION:
URL:https://sic.edu/event/board-of-trustees-meeting-20-2/
LOCATION:E-224 Rodney J Brenner Board Room
CATEGORIES:Board Meetings
ORGANIZER;CN="Kathy Volkening%2C Executive Assistant to President and Board":MAILTO:kathy.volkening@sic.edu
END:VEVENT
BEGIN:VEVENT
DTSTART;TZID=America/Chicago:20230118T000000
DTEND;TZID=America/Chicago:20230118T000000
DTSTAMP:20260423T154658
CREATED:20230324T151457Z
LAST-MODIFIED:20230324T151539Z
UID:10002879-1674000000-1674000000@sic.edu
SUMMARY:GED Testing
DESCRIPTION:For more information\, please visit www.sic.edu/ged.
URL:https://sic.edu/event/ged-testing-1-3-2023-2/
LOCATION:IL
CATEGORIES:Testing
END:VEVENT
BEGIN:VEVENT
DTSTART;TZID=America/Chicago:20230118T193000
DTEND;TZID=America/Chicago:20230118T193000
DTSTAMP:20260423T154658
CREATED:20221026T195334Z
LAST-MODIFIED:20230927T131543Z
UID:10002739-1674070200-1674070200@sic.edu
SUMMARY:Men's Basketball vs. Lincoln Land Community College
DESCRIPTION:
URL:https://sic.edu/event/mens-basketball-vs-lincoln-land-community-college/
LOCATION:C-106 Joseph C. Deaton Gym\, SIC 3575 College R\, HARRISBURG\, IL\, 62946
CATEGORIES:Mens Basketball
ATTACH;FMTTYPE=image/png:https://sic.edu/wp-content/uploads/2022/10/Loggers-1.png
END:VEVENT
BEGIN:VEVENT
DTSTART;TZID=America/Chicago:20230122T090000
DTEND;TZID=America/Chicago:20230122T170000
DTSTAMP:20260423T154658
CREATED:20221110T220015Z
LAST-MODIFIED:20230119T163636Z
UID:10002767-1674378000-1674406800@sic.edu
SUMMARY:CANCELED - Softball Coaches Clinic
DESCRIPTION:UPDATE: This event has been canceled. \n\nJoin SIC Head Softball Coach Maggie Calcaterra for the 2023 Coaches Clinic!\n\nThe annual event will be hosted on January 22nd on the campus of Southeastern Illinois College in a lecture hall and is open to high school and travel softball coaches. This camp designed to provide softball coaches tips and instruction to excel as a softball coach. Learn youth softball tips and drills\, offense\, defense\, pitching\, hitting\, coaching strategies\, and much more.
URL:https://sic.edu/event/sic-softball-hitting-camp-3/
LOCATION:B-126 W – Lecture Hall West
CATEGORIES:Athletics & Competitive Teams,Community Events,High School and Middle School,Women's Softball
ORGANIZER;CN="Maggie Calcaterra":MAILTO:m.calcaterra@sic.edu
END:VEVENT
BEGIN:VEVENT
DTSTART;VALUE=DATE:20230123
DTEND;VALUE=DATE:20230124
DTSTAMP:20260423T154658
CREATED:20230123T142105Z
LAST-MODIFIED:20230123T142123Z
UID:10002844-1674432000-1674518399@sic.edu
SUMMARY:Last Day to Drop with a Full Refund
DESCRIPTION:The last day to drop semester-long (16-week) spring courses with a full refund is TODAY (Monday\, January 23) by 11:59 PM.  We do not offer partial refunds.  After January 23\, students have until April 24 to withdraw (no refund\, W grade on transcript) from spring semester courses.  After April 24\, students cannot withdraw from any courses and will receive a final grade. \nTo drop a course\, students may: \n\nStop by Enrollment Services (first floor\, E Building).\nEmail admissions@sic.edu from the student’s Falconmail account.  We do not accept requests from personal email accounts (i.e. Google\, Yahoo\, etc.).\nCall Admissions at 618-252-5400\, ext. 4120.  Be sure to know your SIC ID number.\n\nRegistration for late start/ mini-semester (8-week courses) is going on now. Those classes begin March 13. \nRegistration for summer and fall classes opens on Monday\, March 27.
URL:https://sic.edu/event/last-day-to-drop-with-a-full-refund-2/
LOCATION:IL
CATEGORIES:Academic Calendar
ORGANIZER;CN="Tiffany Brannock%2C Registrar":MAILTO:t.brannock@sic.edu
END:VEVENT
BEGIN:VEVENT
DTSTART;TZID=America/Chicago:20230123T180000
DTEND;TZID=America/Chicago:20230123T180000
DTSTAMP:20260423T154658
CREATED:20221027T161206Z
LAST-MODIFIED:20221104T190413Z
UID:10002741-1674496800-1674496800@sic.edu
SUMMARY:Children's Choir Enrollment/Parents Meeting
DESCRIPTION:
URL:https://sic.edu/event/childrens-choir-enrollment-parents-meeting/
LOCATION:B-129 – Harry L. Crisp Student Center
CATEGORIES:Children's Activities,Community Events,Visual & Performing Arts
ATTACH;FMTTYPE=image/jpeg:https://sic.edu/wp-content/uploads/2022/10/Zone-1-Intro-Childrens-Choir.jpg
ORGANIZER;CN="Cory Garmane%2C Music Director":MAILTO:music@sic.edu
END:VEVENT
BEGIN:VEVENT
DTSTART;TZID=America/Chicago:20230123T183000
DTEND;TZID=America/Chicago:20230123T183000
DTSTAMP:20260423T154658
CREATED:20221212T213222Z
LAST-MODIFIED:20221212T213223Z
UID:10002589-1674498600-1674498600@sic.edu
SUMMARY:GEC High School Basketball Tournament Week
DESCRIPTION:Monday\, Tuesday and Thursday starting at 6:30 p.m. \nFriday and Saturday starting at 5:30 p.m. \nNo games on Wednesday
URL:https://sic.edu/event/gec-high-school-basketball-tournament-2/
LOCATION:C-106 Joseph C. Deaton Gym\, SIC 3575 College R\, HARRISBURG\, IL\, 62946
CATEGORIES:High School and Middle School
ORGANIZER;CN="Jeremy Irlbeck%2C SIC Baseball Coach/Athletic Director":MAILTO:athletics@sic.edu
END:VEVENT
BEGIN:VEVENT
DTSTART;TZID=America/Chicago:20230124T183000
DTEND;TZID=America/Chicago:20230124T183000
DTSTAMP:20260423T154658
CREATED:20221212T213512Z
LAST-MODIFIED:20221212T213512Z
UID:10002590-1674585000-1674585000@sic.edu
SUMMARY:GEC High School Basketball Tournament Week
DESCRIPTION:Monday\, Tuesday and Thursday starting at 6:30 p.m. \nFriday and Saturday starting at 5:30 p.m. \nNo games on Wednesday
URL:https://sic.edu/event/gec-high-school-basketball-tournament-2-2/
LOCATION:C-106 Joseph C. Deaton Gym\, SIC 3575 College R\, HARRISBURG\, IL\, 62946
CATEGORIES:High School and Middle School
ORGANIZER;CN="Jeremy Irlbeck%2C SIC Baseball Coach/Athletic Director":MAILTO:athletics@sic.edu
END:VEVENT
BEGIN:VEVENT
DTSTART;TZID=America/Chicago:20230125T080000
DTEND;TZID=America/Chicago:20230125T160000
DTSTAMP:20260423T154658
CREATED:20230125T114953Z
LAST-MODIFIED:20230125T115615Z
UID:10002851-1674633600-1674662400@sic.edu
SUMMARY:Snow Day! SIC Closed
DESCRIPTION:SIC will be closed Wednesday\, Jan. 25\, due to inclement weather.
URL:https://sic.edu/event/snow-day-sic-closed/
LOCATION:IL
END:VEVENT
BEGIN:VEVENT
DTSTART;TZID=America/Chicago:20230126T000000
DTEND;TZID=America/Chicago:20230126T000000
DTSTAMP:20260423T154658
CREATED:20230324T151705Z
LAST-MODIFIED:20230324T151705Z
UID:10002883-1674691200-1674691200@sic.edu
SUMMARY:GED Testing
DESCRIPTION:For more information\, please visit www.sic.edu/ged.
URL:https://sic.edu/event/ged-testing/
LOCATION:IL
CATEGORIES:Testing
END:VEVENT
BEGIN:VEVENT
DTSTART;TZID=America/Chicago:20230126T183000
DTEND;TZID=America/Chicago:20230126T183000
DTSTAMP:20260423T154658
CREATED:20221212T213639Z
LAST-MODIFIED:20221212T213639Z
UID:10002592-1674757800-1674757800@sic.edu
SUMMARY:GEC High School Basketball Tournament Week
DESCRIPTION:Monday\, Tuesday and Thursday starting at 6:30 p.m. \nFriday and Saturday starting at 5:30 p.m. \nNo games on Wednesday
URL:https://sic.edu/event/gec-high-school-basketball-tournament-2-2-2/
LOCATION:C-106 Joseph C. Deaton Gym\, SIC 3575 College R\, HARRISBURG\, IL\, 62946
CATEGORIES:High School and Middle School
ORGANIZER;CN="Jeremy Irlbeck%2C SIC Baseball Coach/Athletic Director":MAILTO:athletics@sic.edu
END:VEVENT
BEGIN:VEVENT
DTSTART;TZID=America/Chicago:20230127T173000
DTEND;TZID=America/Chicago:20230127T173000
DTSTAMP:20260423T154658
CREATED:20221212T213806Z
LAST-MODIFIED:20221212T213833Z
UID:10002594-1674840600-1674840600@sic.edu
SUMMARY:GEC High School Basketball Tournament Week
DESCRIPTION:Monday\, Tuesday and Thursday starting at 6:30 p.m. \nFriday and Saturday starting at 5:30 p.m. \nNo games on Wednesday
URL:https://sic.edu/event/gec-high-school-basketball-tournament-2-2-2-2/
LOCATION:C-106 Joseph C. Deaton Gym\, SIC 3575 College R\, HARRISBURG\, IL\, 62946
CATEGORIES:High School and Middle School
ORGANIZER;CN="Jeremy Irlbeck%2C SIC Baseball Coach/Athletic Director":MAILTO:athletics@sic.edu
END:VEVENT
BEGIN:VEVENT
DTSTART;TZID=America/Chicago:20230128T104500
DTEND;TZID=America/Chicago:20230128T124500
DTSTAMP:20260423T154658
CREATED:20221031T185250Z
LAST-MODIFIED:20221212T214120Z
UID:10002752-1674902700-1674909900@sic.edu
SUMMARY:SIC Softball Hitting Camp
DESCRIPTION:AGES 5-11 FROM 9-10:45AM \nAGES 12-18 FROM 11AM-12:45PM \nPRICE: $50.00 (INCLUDES CAMP T-SHIRT) \n  \nNAME: ______________________________________ AGE: __________________ \nADDRESS: __________________________________________________________ \nCITY: _______________ ST: ___________ ZIP: ___________ PHONE: __________ \nEMAIL ____________________________________________________________ \nYEAR IN SCHOOL (1-12): ______________ T-SHIRT SIZE: ____________________ \n***Return payment and registration to: SIC\, c/o Maggie Calcaterra\, 3575 College Rd\, Harrisburg\, IL 62946 or pay on the day of camp \n***Please check email for release form\, as camp draws closer
URL:https://sic.edu/event/sic-softball-hitting-camp/
LOCATION:SI Elite (behind Target)\, 3006 Civic Circle Blvd\, Marion\, IL
CATEGORIES:Athletics & Competitive Teams,Children's Activities,Community Events,High School and Middle School,Women's Softball
ORGANIZER;CN="Maggie Calcaterra":MAILTO:m.calcaterra@sic.edu
END:VEVENT
BEGIN:VEVENT
DTSTART;TZID=America/Chicago:20230128T173000
DTEND;TZID=America/Chicago:20230128T173000
DTSTAMP:20260423T154658
CREATED:20221212T213933Z
LAST-MODIFIED:20221212T213933Z
UID:10002782-1674927000-1674927000@sic.edu
SUMMARY:GEC High School Basketball Tournament Week
DESCRIPTION:Monday\, Tuesday and Thursday starting at 6:30 p.m. \nFriday and Saturday starting at 5:30 p.m. \nNo games on Wednesday
URL:https://sic.edu/event/gec-high-school-basketball-tournament-2-2-2-2-2/
LOCATION:C-106 Joseph C. Deaton Gym\, SIC 3575 College R\, HARRISBURG\, IL\, 62946
CATEGORIES:High School and Middle School
ORGANIZER;CN="Jeremy Irlbeck%2C SIC Baseball Coach/Athletic Director":MAILTO:athletics@sic.edu
END:VEVENT
BEGIN:VEVENT
DTSTART;TZID=America/Chicago:20230130T100000
DTEND;TZID=America/Chicago:20230130T110000
DTSTAMP:20260423T154658
CREATED:20230127T135254Z
LAST-MODIFIED:20230127T135254Z
UID:10002852-1675072800-1675076400@sic.edu
SUMMARY:Freddie's Food Pantry Reopens for Spring Semester
DESCRIPTION:SIC’s Student Government is fighting hunger on campus! Students can visit Freddie’s Pantry once per week for a snack bag. \nSpring semester hours are: \nMonday- 10-11\nTuesday – 12-1\nWednesday – 1-2\nThursday – 11-12\nFriday – 9-10 \nOr by appointment (618-841-4649)
URL:https://sic.edu/event/freddies-food-pantry-reopens-2/
LOCATION:B-119
CATEGORIES:Student Activities
ORGANIZER;CN="Kellye Whitler%2C Events Director":MAILTO:boxoffice@sic.edu
END:VEVENT
BEGIN:VEVENT
DTSTART;TZID=America/Chicago:20230130T180000
DTEND;TZID=America/Chicago:20230130T193000
DTSTAMP:20260423T154658
CREATED:20230130T171422Z
LAST-MODIFIED:20230130T185134Z
UID:10002643-1675101600-1675107000@sic.edu
SUMMARY:CANCELED - Children's Choir Late Sign-ups
DESCRIPTION:THIS EVENT HAS BEEN CANCELED DUE TO POTENTIALLY HAZARDOUS WEATHER CONDITIONS. LATE SIGNUPS WILL BE HELD FEB. 6 AT 6 P.M. \nIf you missed the January 23 meeting\, make it up Jan. 30 and enroll your young singer!
URL:https://sic.edu/event/childrens-choir-enrollment-parents-meeting-2-2/
LOCATION:B-129 – Harry L. Crisp Student Center
CATEGORIES:Children's Activities,Children's Choir Webpage,Community Events,Visual & Performing Arts
ATTACH;FMTTYPE=image/jpeg:https://sic.edu/wp-content/uploads/2023/01/SM-Late-Sign-Ups.jpg
ORGANIZER;CN="Cory Garmane%2C Music Director":MAILTO:music@sic.edu
END:VEVENT
BEGIN:VEVENT
DTSTART;VALUE=DATE:20230131
DTEND;VALUE=DATE:20230201
DTSTAMP:20260423T154658
CREATED:20230131T012040Z
LAST-MODIFIED:20230131T012040Z
UID:10002648-1675123200-1675209599@sic.edu
SUMMARY:Snow Day! SIC Closed
DESCRIPTION:SIC will be closed Tuesday\, Jan. 31\, due to inclement weather. All events and activities are canceled.
URL:https://sic.edu/event/snow-day-sic-closed-2/
LOCATION:IL
END:VEVENT
END:VCALENDAR