BEGIN:VCALENDAR
VERSION:2.0
PRODID:-//Southeastern Illinois College - ECPv6.15.20//NONSGML v1.0//EN
CALSCALE:GREGORIAN
METHOD:PUBLISH
X-ORIGINAL-URL:https://sic.edu
X-WR-CALDESC:Events for Southeastern Illinois College
REFRESH-INTERVAL;VALUE=DURATION:PT1H
X-Robots-Tag:noindex
X-PUBLISHED-TTL:PT1H
BEGIN:VTIMEZONE
TZID:America/Chicago
BEGIN:DAYLIGHT
TZOFFSETFROM:-0600
TZOFFSETTO:-0500
TZNAME:CDT
DTSTART:20230312T080000
END:DAYLIGHT
BEGIN:STANDARD
TZOFFSETFROM:-0500
TZOFFSETTO:-0600
TZNAME:CST
DTSTART:20231105T070000
END:STANDARD
BEGIN:DAYLIGHT
TZOFFSETFROM:-0600
TZOFFSETTO:-0500
TZNAME:CDT
DTSTART:20240310T080000
END:DAYLIGHT
BEGIN:STANDARD
TZOFFSETFROM:-0500
TZOFFSETTO:-0600
TZNAME:CST
DTSTART:20241103T070000
END:STANDARD
BEGIN:DAYLIGHT
TZOFFSETFROM:-0600
TZOFFSETTO:-0500
TZNAME:CDT
DTSTART:20250309T080000
END:DAYLIGHT
BEGIN:STANDARD
TZOFFSETFROM:-0500
TZOFFSETTO:-0600
TZNAME:CST
DTSTART:20251102T070000
END:STANDARD
END:VTIMEZONE
BEGIN:VEVENT
DTSTART;TZID=America/Chicago:20240815T080000
DTEND;TZID=America/Chicago:20240815T163000
DTSTAMP:20260424T151412
CREATED:20240423T190152Z
LAST-MODIFIED:20240423T190152Z
UID:10003316-1723708800-1723739400@sic.edu
SUMMARY:Faculty/ Staff Development Day
DESCRIPTION:
URL:https://sic.edu/event/faculty-staff-development-day-6/
LOCATION:IL
CATEGORIES:Employee
END:VEVENT
BEGIN:VEVENT
DTSTART;TZID=America/Chicago:20240816T080000
DTEND;TZID=America/Chicago:20240816T163000
DTSTAMP:20260424T151412
CREATED:20240423T191533Z
LAST-MODIFIED:20240423T191533Z
UID:10003317-1723795200-1723825800@sic.edu
SUMMARY:Faculty/ Staff Development Day
DESCRIPTION:
URL:https://sic.edu/event/faculty-staff-development-day-7/
LOCATION:IL
CATEGORIES:Employee
END:VEVENT
BEGIN:VEVENT
DTSTART;TZID=America/Chicago:20240817T080000
DTEND;TZID=America/Chicago:20240817T173000
DTSTAMP:20260424T151412
CREATED:20240805T164929Z
LAST-MODIFIED:20240805T170009Z
UID:10003490-1723881600-1723915800@sic.edu
SUMMARY:ServSafe Food Manager Course
DESCRIPTION:Get certified or recertified with the ServSafe Food Manager Course this fall! Secure your spot at one of SIC’s upcoming classes and ensure you’re up to standard with food safety. \nFall 2024 Schedule – Complete the course in only a day! \nAugust 17\nSeptember 7\nOctober 12\nNovember 16\nDecember 7 \nAll classes are 8 AM – 5:30 PM at SIC’s Harrisburg campus\, Room G116. \nIn-district Cost is $121 and includes the exam given during the class. To register\, call (618) 252-5400 ext. 4120
URL:https://sic.edu/event/servsafe-food-manager-course/
LOCATION:IL
CATEGORIES:Business & Industry/Trainings
ATTACH;FMTTYPE=image/jpeg:https://sic.edu/wp-content/uploads/2024/08/Zone-1-Food-Service-Sanitation-Course.jpg
ORGANIZER;CN="Lori Cox":MAILTO:lori.cox@sic.edu
END:VEVENT
BEGIN:VEVENT
DTSTART;VALUE=DATE:20240819
DTEND;VALUE=DATE:20240820
DTSTAMP:20260424T151412
CREATED:20240405T135511Z
LAST-MODIFIED:20240405T135511Z
UID:10003304-1724025600-1724111999@sic.edu
SUMMARY:Fall Semester Begins
DESCRIPTION:
URL:https://sic.edu/event/fall-semester-begins-3/
LOCATION:IL
CATEGORIES:Academic Calendar
ORGANIZER;CN="Advising":MAILTO:advising@sic.edu
END:VEVENT
BEGIN:VEVENT
DTSTART;TZID=America/Chicago:20240819T090000
DTEND;TZID=America/Chicago:20240819T100000
DTSTAMP:20260424T151412
CREATED:20240405T134543Z
LAST-MODIFIED:20240725T180013Z
UID:10003301-1724058000-1724061600@sic.edu
SUMMARY:Fall Online Classes Orientation
DESCRIPTION:SIC is offering orientation sessions to help students prepare for completing their online assignments by learning how to use Canvas. \nOrientations will be conducted in person or live online via Zoom. Visit www.sic.edu/oso for links and details. \nMonday\, August 19\, 9 – 10 am and 4 – 5 pm\nTuesday\, August 20\, noon – 1 pm \nCan’t make these times? The Online Student Orientation (OSO) course in your Dashboard in Canvas has videos and tutorials to help answer your questions. \nFor more information\, email online@sic.edu or call 618-252-5400 ext. 2265.
URL:https://sic.edu/event/fall-online-classes-orientation/
LOCATION:A-114 Distance Learning Classroom
ATTACH;FMTTYPE=image/jpeg:https://sic.edu/wp-content/uploads/2024/04/FB-Event-Banner-Online-Orientation-scaled.jpg
ORGANIZER;CN="Dr. Angie Mayfield%2C Distance Learning Specialist":MAILTO:online@sic.edu
END:VEVENT
BEGIN:VEVENT
DTSTART;TZID=America/Chicago:20240819T160000
DTEND;TZID=America/Chicago:20240819T170000
DTSTAMP:20260424T151412
CREATED:20240405T134846Z
LAST-MODIFIED:20240725T175912Z
UID:10003302-1724083200-1724086800@sic.edu
SUMMARY:Fall Online Classes Orientation
DESCRIPTION:SIC is offering orientation sessions to help students prepare for completing their online assignments by learning how to use Canvas. \nOrientations will be conducted in person or live online via Zoom. Visit www.sic.edu/oso for links and details. \nMonday\, August 19\, 9 – 10 am and 4 – 5 pm\nTuesday\, August 20\, noon – 1 pm \nCan’t make these times? The Online Student Orientation (OSO) course in your Dashboard in Canvas has videos and tutorials to help answer your questions. \nFor more information\, email online@sic.edu or call 618-252-5400 ext. 2265.
URL:https://sic.edu/event/fall-online-classes-orientation-2/
LOCATION:A-114 Distance Learning Classroom
ATTACH;FMTTYPE=image/jpeg:https://sic.edu/wp-content/uploads/2024/04/FB-Event-Banner-Online-Orientation-scaled.jpg
ORGANIZER;CN="Dr. Angie Mayfield%2C Distance Learning Specialist":MAILTO:online@sic.edu
END:VEVENT
BEGIN:VEVENT
DTSTART;TZID=America/Chicago:20240820T100000
DTEND;TZID=America/Chicago:20240820T140000
DTSTAMP:20260424T151412
CREATED:20240809T170442Z
LAST-MODIFIED:20240809T195628Z
UID:10003496-1724148000-1724162400@sic.edu
SUMMARY:FAFSA Workshop and FREE lunch!
DESCRIPTION:SIC Financial Aid Office will host two days of FAFSA Completion Workshop on the Harrisburg campus for any students who have not yet completed a 24-25 FAFSA. Computers will be set up in the Heritage Room (at the back of the cafeteria) for students to use to complete the FAFSA with one-on-one help! \nWHO: Any student who has not yet completed the 2024-25 FAFSA \nWHERE: Heritage Room (at the back of the cafeteria) \nDATES: Tuesday\, August 20 and Wednesday\, August 21 \nTIME: 10 a.m. – 2 p.m. \nWHAT TO BRING:\n– student’s social security number\n If the student is a dependent:\n– parent email address\n– parent social security number\n– parent date of birth \nThose who complete their FAFSA with us will receive a free lunch! The menu includes pizza\, sandwiches\, chips\, sodas\, water\, and desserts.
URL:https://sic.edu/event/fafsa-workshop-and-free-lunch/2024-08-20/
LOCATION:B-137 Private Dining Room/Heritage Room
CATEGORIES:Academic Calendar
ATTACH;FMTTYPE=image/jpeg:https://sic.edu/wp-content/uploads/2024/08/FB-Event-Banner-FAFSA-Workshop-2024-scaled.jpg
ORGANIZER;CN="Michelle Stanley%2C Senior Director of Financial Aid":MAILTO:fao@sic.edu
END:VEVENT
BEGIN:VEVENT
DTSTART;TZID=America/Chicago:20240820T120000
DTEND;TZID=America/Chicago:20240820T130000
DTSTAMP:20260424T151412
CREATED:20240405T134919Z
LAST-MODIFIED:20240725T175748Z
UID:10003303-1724155200-1724158800@sic.edu
SUMMARY:Fall Online Classes Orientation
DESCRIPTION:SIC is offering orientation sessions to help students prepare for completing their online assignments by learning how to use Canvas. \nOrientations will be conducted in person or live online via Zoom. Visit www.sic.edu/oso for links and details. \nMonday\, August 19\, 9 – 10 am and 4 – 5 pm\nTuesday\, August 20\, noon – 1 pm \nCan’t make these times? The Online Student Orientation (OSO) course in your Dashboard in Canvas has videos and tutorials to help answer your questions. \nFor more information\, email online@sic.edu or call 618-252-5400 ext. 2265.
URL:https://sic.edu/event/fall-online-classes-orientation-3/
LOCATION:A-114 Distance Learning Classroom
ATTACH;FMTTYPE=image/jpeg:https://sic.edu/wp-content/uploads/2024/04/FB-Event-Banner-Online-Orientation-scaled.jpg
ORGANIZER;CN="Dr. Angie Mayfield%2C Distance Learning Specialist":MAILTO:online@sic.edu
END:VEVENT
BEGIN:VEVENT
DTSTART;TZID=America/Chicago:20240820T180000
DTEND;TZID=America/Chicago:20240820T180000
DTSTAMP:20260424T151412
CREATED:20240105T203928Z
LAST-MODIFIED:20240105T203929Z
UID:10003171-1724176800-1724176800@sic.edu
SUMMARY:Board of Trustees Meeting
DESCRIPTION:
URL:https://sic.edu/event/board-of-trustees-meeting-24/
LOCATION:E-224 Rodney J Brenner Board Room
CATEGORIES:Board Meetings
ORGANIZER;CN="Kathy Volkening%2C Executive Assistant to President and Board":MAILTO:kathy.volkening@sic.edu
END:VEVENT
BEGIN:VEVENT
DTSTART;TZID=America/Chicago:20240821T100000
DTEND;TZID=America/Chicago:20240821T140000
DTSTAMP:20260424T151412
CREATED:20240809T170442Z
LAST-MODIFIED:20240809T195628Z
UID:10003497-1724234400-1724248800@sic.edu
SUMMARY:FAFSA Workshop and FREE lunch!
DESCRIPTION:SIC Financial Aid Office will host two days of FAFSA Completion Workshop on the Harrisburg campus for any students who have not yet completed a 24-25 FAFSA. Computers will be set up in the Heritage Room (at the back of the cafeteria) for students to use to complete the FAFSA with one-on-one help! \nWHO: Any student who has not yet completed the 2024-25 FAFSA \nWHERE: Heritage Room (at the back of the cafeteria) \nDATES: Tuesday\, August 20 and Wednesday\, August 21 \nTIME: 10 a.m. – 2 p.m. \nWHAT TO BRING:\n– student’s social security number\n If the student is a dependent:\n– parent email address\n– parent social security number\n– parent date of birth \nThose who complete their FAFSA with us will receive a free lunch! The menu includes pizza\, sandwiches\, chips\, sodas\, water\, and desserts.
URL:https://sic.edu/event/fafsa-workshop-and-free-lunch/2024-08-21/
LOCATION:B-137 Private Dining Room/Heritage Room
CATEGORIES:Academic Calendar
ATTACH;FMTTYPE=image/jpeg:https://sic.edu/wp-content/uploads/2024/08/FB-Event-Banner-FAFSA-Workshop-2024-scaled.jpg
ORGANIZER;CN="Michelle Stanley%2C Senior Director of Financial Aid":MAILTO:fao@sic.edu
END:VEVENT
BEGIN:VEVENT
DTSTART;TZID=America/Chicago:20240827T160000
DTEND;TZID=America/Chicago:20240827T180000
DTSTAMP:20260424T151412
CREATED:20240826T131917Z
LAST-MODIFIED:20240826T131917Z
UID:10003540-1724774400-1724781600@sic.edu
SUMMARY:Auditions: James and the Giant Peach
DESCRIPTION:SIC Theatre is hosting auditions for James and the Giant Peach for SIC students only. Come prepared with a one-minute monologue and be prepared to do a reading from the script. The show will go up the end of September.
URL:https://sic.edu/event/auditions-james-and-the-giant-peach/
LOCATION:F-127 – Theatre\, 3575 College Rd.\, Harrisburg\, IL\, 62946-4925\, United States
CATEGORIES:Theatre,Theatre Webpage
ATTACH;FMTTYPE=image/jpeg:https://sic.edu/wp-content/uploads/2024/08/FB-Event-Banner-James-Peach-Auditions-scaled.jpg
ORGANIZER;CN="Joshua Kimball%2C Dance Instructor/ Choreographer":MAILTO:joshua.kimball@sic.edu
END:VEVENT
BEGIN:VEVENT
DTSTART;VALUE=DATE:20240830
DTEND;VALUE=DATE:20240831
DTSTAMP:20260424T151412
CREATED:20240826T194234Z
LAST-MODIFIED:20240826T194234Z
UID:10003541-1724976000-1725062399@sic.edu
SUMMARY:Last Day to Drop with a Full Refund
DESCRIPTION:The last day to drop semester-long (16-week) Fall 2024 courses with a full refund is Friday\, August 30 by 11:59 PM.  We do not offer partial refunds.  (See the attached refund and withdrawal schedule for additional information.) \nAfter August 30\, students have until November 25 to withdraw (no refund\, W grade on transcript) from fall semester courses.  After November 25\, students cannot withdraw from any courses and will receive a final grade. \nTo drop a course\, students may: \n\nStop by Enrollment Services (first floor\, E Building).\nEmail admissions@sic.edu from the student’s Falconmail account.  We do not accept requests from personal email accounts (i.e. Google\, Yahoo\, etc.).\nCall Admissions at 618-252-5400\, ext. 4120.  Be sure to know your SIC ID number.
URL:https://sic.edu/event/last-day-to-drop-with-a-full-refund-3/
LOCATION:IL
CATEGORIES:Academic Calendar
ORGANIZER;CN="Tiffany Brannock%2C Registrar":MAILTO:t.brannock@sic.edu
END:VEVENT
END:VCALENDAR