BEGIN:VCALENDAR
VERSION:2.0
PRODID:-//Southeastern Illinois College - ECPv6.15.20//NONSGML v1.0//EN
CALSCALE:GREGORIAN
METHOD:PUBLISH
X-WR-CALNAME:Southeastern Illinois College
X-ORIGINAL-URL:https://sic.edu
X-WR-CALDESC:Events for Southeastern Illinois College
REFRESH-INTERVAL;VALUE=DURATION:PT1H
X-Robots-Tag:noindex
X-PUBLISHED-TTL:PT1H
BEGIN:VTIMEZONE
TZID:America/Chicago
BEGIN:DAYLIGHT
TZOFFSETFROM:-0600
TZOFFSETTO:-0500
TZNAME:CDT
DTSTART:20220313T080000
END:DAYLIGHT
BEGIN:STANDARD
TZOFFSETFROM:-0500
TZOFFSETTO:-0600
TZNAME:CST
DTSTART:20221106T070000
END:STANDARD
BEGIN:DAYLIGHT
TZOFFSETFROM:-0600
TZOFFSETTO:-0500
TZNAME:CDT
DTSTART:20230312T080000
END:DAYLIGHT
BEGIN:STANDARD
TZOFFSETFROM:-0500
TZOFFSETTO:-0600
TZNAME:CST
DTSTART:20231105T070000
END:STANDARD
BEGIN:DAYLIGHT
TZOFFSETFROM:-0600
TZOFFSETTO:-0500
TZNAME:CDT
DTSTART:20240310T080000
END:DAYLIGHT
BEGIN:STANDARD
TZOFFSETFROM:-0500
TZOFFSETTO:-0600
TZNAME:CST
DTSTART:20241103T070000
END:STANDARD
BEGIN:DAYLIGHT
TZOFFSETFROM:-0600
TZOFFSETTO:-0500
TZNAME:CDT
DTSTART:20250309T080000
END:DAYLIGHT
BEGIN:STANDARD
TZOFFSETFROM:-0500
TZOFFSETTO:-0600
TZNAME:CST
DTSTART:20251102T070000
END:STANDARD
BEGIN:DAYLIGHT
TZOFFSETFROM:-0600
TZOFFSETTO:-0500
TZNAME:CDT
DTSTART:20260308T080000
END:DAYLIGHT
BEGIN:STANDARD
TZOFFSETFROM:-0500
TZOFFSETTO:-0600
TZNAME:CST
DTSTART:20261101T070000
END:STANDARD
END:VTIMEZONE
BEGIN:VEVENT
DTSTART;TZID=America/Chicago:20250206T083000
DTEND;TZID=America/Chicago:20250206T133000
DTSTAMP:20260422T145106
CREATED:20240430T194939Z
LAST-MODIFIED:20240430T195044Z
UID:10003319-1738830600-1738848600@sic.edu
SUMMARY:Academic Challenge Regional Competition
DESCRIPTION:SIC‘s Division of Mathematics\, Science\, and Technology will host the Academic Challenge Regional Competition in B-building. Participating area high school Academic Challenge teams will compete in subjects associated with science and engineering. Winners will advance to the sectional competition and potentially the state-level competition. For more information\, please email kim.martin@sic.edu. \nIn case of inclement weather\, the snow date is Feb. 13.
URL:https://sic.edu/event/academic-challenge-regional-competition-2/
LOCATION:Main Campus
CATEGORIES:Academic Calendar,High School and Middle School
ORGANIZER;CN="Kim Martin":MAILTO:kim.martin@sic.edu
END:VEVENT
BEGIN:VEVENT
DTSTART;TZID=America/Chicago:20240208T083000
DTEND;TZID=America/Chicago:20240208T133000
DTSTAMP:20260422T145106
CREATED:20240117T152733Z
LAST-MODIFIED:20240117T152733Z
UID:10003181-1707381000-1707399000@sic.edu
SUMMARY:Academic Challenge Regional Competition
DESCRIPTION:SIC‘s Division of Mathematics\, Science\, and Technology will host the Academic Challenge Regional Competition in B-building. Participating area high school Academic Challenge teams will compete in subjects associated with science and engineering. Winners will advance to the sectional competition and potentially the state-level competition. For more information\, please email kim.martin@sic.edu.
URL:https://sic.edu/event/academic-challenge-regional-competition/
LOCATION:Main Campus
CATEGORIES:Academic Calendar,High School and Middle School
ORGANIZER;CN="Kim Martin":MAILTO:kim.martin@sic.edu
END:VEVENT
BEGIN:VEVENT
DTSTART;TZID=America/Chicago:20230209T080000
DTEND;TZID=America/Chicago:20230209T133000
DTSTAMP:20260422T145106
CREATED:20230106T185319Z
LAST-MODIFIED:20230209T143507Z
UID:10002788-1675929600-1675949400@sic.edu
SUMMARY:Academic Challenge
DESCRIPTION:Southeastern’s Division of Mathematics\, Science\, and Technology hosts the Academic Challenge Regional Competition. Participating area high school Academic Challenge Teams will compete in subjects associated with science and engineering\, with winners advancing to the sectional competition\, and potentially the state level competition.
URL:https://sic.edu/event/academic-challenge/
LOCATION:B-126 W – Lecture Hall West
CATEGORIES:High School and Middle School
ORGANIZER;CN="Kim Martin":MAILTO:kim.martin@sic.edu
END:VEVENT
END:VCALENDAR