BEGIN:VCALENDAR
VERSION:2.0
PRODID:-//Southeastern Illinois College - ECPv6.15.20//NONSGML v1.0//EN
CALSCALE:GREGORIAN
METHOD:PUBLISH
X-WR-CALNAME:Southeastern Illinois College
X-ORIGINAL-URL:https://sic.edu
X-WR-CALDESC:Events for Southeastern Illinois College
REFRESH-INTERVAL;VALUE=DURATION:PT1H
X-Robots-Tag:noindex
X-PUBLISHED-TTL:PT1H
BEGIN:VTIMEZONE
TZID:America/Chicago
BEGIN:DAYLIGHT
TZOFFSETFROM:-0600
TZOFFSETTO:-0500
TZNAME:CDT
DTSTART:20200308T080000
END:DAYLIGHT
BEGIN:STANDARD
TZOFFSETFROM:-0500
TZOFFSETTO:-0600
TZNAME:CST
DTSTART:20201101T070000
END:STANDARD
BEGIN:DAYLIGHT
TZOFFSETFROM:-0600
TZOFFSETTO:-0500
TZNAME:CDT
DTSTART:20210314T080000
END:DAYLIGHT
BEGIN:STANDARD
TZOFFSETFROM:-0500
TZOFFSETTO:-0600
TZNAME:CST
DTSTART:20211107T070000
END:STANDARD
BEGIN:DAYLIGHT
TZOFFSETFROM:-0600
TZOFFSETTO:-0500
TZNAME:CDT
DTSTART:20220313T080000
END:DAYLIGHT
BEGIN:STANDARD
TZOFFSETFROM:-0500
TZOFFSETTO:-0600
TZNAME:CST
DTSTART:20221106T070000
END:STANDARD
BEGIN:DAYLIGHT
TZOFFSETFROM:-0600
TZOFFSETTO:-0500
TZNAME:CDT
DTSTART:20230312T080000
END:DAYLIGHT
BEGIN:STANDARD
TZOFFSETFROM:-0500
TZOFFSETTO:-0600
TZNAME:CST
DTSTART:20231105T070000
END:STANDARD
BEGIN:DAYLIGHT
TZOFFSETFROM:-0600
TZOFFSETTO:-0500
TZNAME:CDT
DTSTART:20240310T080000
END:DAYLIGHT
BEGIN:STANDARD
TZOFFSETFROM:-0500
TZOFFSETTO:-0600
TZNAME:CST
DTSTART:20241103T070000
END:STANDARD
BEGIN:DAYLIGHT
TZOFFSETFROM:-0600
TZOFFSETTO:-0500
TZNAME:CDT
DTSTART:20250309T080000
END:DAYLIGHT
BEGIN:STANDARD
TZOFFSETFROM:-0500
TZOFFSETTO:-0600
TZNAME:CST
DTSTART:20251102T070000
END:STANDARD
BEGIN:DAYLIGHT
TZOFFSETFROM:-0600
TZOFFSETTO:-0500
TZNAME:CDT
DTSTART:20260308T080000
END:DAYLIGHT
BEGIN:STANDARD
TZOFFSETFROM:-0500
TZOFFSETTO:-0600
TZNAME:CST
DTSTART:20261101T070000
END:STANDARD
BEGIN:DAYLIGHT
TZOFFSETFROM:-0600
TZOFFSETTO:-0500
TZNAME:CDT
DTSTART:20270314T080000
END:DAYLIGHT
BEGIN:STANDARD
TZOFFSETFROM:-0500
TZOFFSETTO:-0600
TZNAME:CST
DTSTART:20271107T070000
END:STANDARD
END:VTIMEZONE
BEGIN:VEVENT
DTSTART;TZID=America/Chicago:20260408T180000
DTEND;TZID=America/Chicago:20260408T200000
DTSTAMP:20260423T052651
CREATED:20260401T203149Z
LAST-MODIFIED:20260401T203229Z
UID:10004765-1775671200-1775678400@sic.edu
SUMMARY:Basketball Banquet
DESCRIPTION:Private banquet for SIC Basketball players and their families.
URL:https://sic.edu/event/basketball-banquet/
LOCATION:B-137 Private Dining Room/Heritage Room
ORGANIZER;CN="Sam Swinford":MAILTO:sam.swinford@sic.edu
END:VEVENT
BEGIN:VEVENT
DTSTART;TZID=America/Chicago:20260319T110000
DTEND;TZID=America/Chicago:20260319T130000
DTSTAMP:20260423T052651
CREATED:20260204T161256Z
LAST-MODIFIED:20260204T161256Z
UID:10004716-1773918000-1773925200@sic.edu
SUMMARY:Spring Fling
DESCRIPTION:
URL:https://sic.edu/event/spring-fling/
LOCATION:B-137 Private Dining Room/Heritage Room
CATEGORIES:Employee
ORGANIZER;CN="Maddison Maloney%2C Student Services Liaison":MAILTO:maddison.maloney@sic.edu
END:VEVENT
BEGIN:VEVENT
DTSTART;TZID=America/Chicago:20251108T080000
DTEND;TZID=America/Chicago:20251108T140000
DTSTAMP:20260423T052651
CREATED:20251028T160710Z
LAST-MODIFIED:20251028T160711Z
UID:10004484-1762588800-1762610400@sic.edu
SUMMARY:Upward Bound Career Development Workshop
DESCRIPTION:Career Development class for high school students in the Upward Bound Program — “Welcome to the Jungle”
URL:https://sic.edu/event/upward-bound-career-development-workshop/
LOCATION:B-137 Private Dining Room/Heritage Room
ORGANIZER;CN="Mariah Holder%2C Upward Bound Project Director":MAILTO:upwardbound@sic.edu
END:VEVENT
BEGIN:VEVENT
DTSTART;VALUE=DATE:20250416
DTEND;VALUE=DATE:20250417
DTSTAMP:20260423T052651
CREATED:20250115T153644Z
LAST-MODIFIED:20250115T153657Z
UID:10003741-1744761600-1744847999@sic.edu
SUMMARY:TRIO Honors Celebration Day
DESCRIPTION:
URL:https://sic.edu/event/trio-honors-celebration-day/
LOCATION:B-137 Private Dining Room/Heritage Room
ORGANIZER;CN="Lolita Mack":MAILTO:trio@sic.edu
END:VEVENT
BEGIN:VEVENT
DTSTART;TZID=America/Chicago:20250324T090000
DTEND;TZID=America/Chicago:20250324T170000
DTSTAMP:20260423T052651
CREATED:20250307T180106Z
LAST-MODIFIED:20250307T181622Z
UID:10003763-1742806800-1742835600@sic.edu
SUMMARY:Adult Mental Health First Aid
DESCRIPTION:
URL:https://sic.edu/event/mental-health-first-aid/
LOCATION:B-137 Private Dining Room/Heritage Room
CATEGORIES:Community,Community Events
ORGANIZER;CN="Lori Cox":MAILTO:lori.cox@sic.edu
END:VEVENT
BEGIN:VEVENT
DTSTART;TZID=America/Chicago:20250306T080000
DTEND;TZID=America/Chicago:20250306T140000
DTSTAMP:20260423T052651
CREATED:20240923T202645Z
LAST-MODIFIED:20241002T161846Z
UID:10003559-1741248000-1741269600@sic.edu
SUMMARY:Allied Health Spotlight Day
DESCRIPTION:High schools can contact Susie Moore at 618-252-5400 ext. 2331 for more information.
URL:https://sic.edu/event/allied-health-spotlight-day-3/
LOCATION:B-137 Private Dining Room/Heritage Room
CATEGORIES:High School and Middle School
ATTACH;FMTTYPE=image/jpeg:https://sic.edu/wp-content/uploads/2024/09/CTE-AH-Spotlight-Day-2025-scaled.jpg
ORGANIZER;CN="Susie Moore%2C Adm Assistant to Nursing &amp%3B Allied Health":MAILTO:susie.moore@sic.edu
END:VEVENT
BEGIN:VEVENT
DTSTART;TZID=America/Chicago:20241115T170000
DTEND;TZID=America/Chicago:20241115T210000
DTSTAMP:20260423T052651
CREATED:20241001T163329Z
LAST-MODIFIED:20241024T164836Z
UID:10003577-1731690000-1731704400@sic.edu
SUMMARY:Student Game Night
DESCRIPTION:SIC Student Government and the Math & Science Club present Game Night – open to all SIC students! Includes Video games (Jack Box Party and Super Smash Brothers)\, board games\, card games\, karaoke\, VR\, and free food and drinks!
URL:https://sic.edu/event/student-game-night/
LOCATION:B-137 Private Dining Room/Heritage Room
CATEGORIES:Student Activities
ATTACH;FMTTYPE=image/jpeg:https://sic.edu/wp-content/uploads/2024/10/game.jpeg
ORGANIZER;CN="Matt Lees":MAILTO:matt.lees@sic.edu
END:VEVENT
BEGIN:VEVENT
DTSTART;TZID=America/Chicago:20240821T100000
DTEND;TZID=America/Chicago:20240821T140000
DTSTAMP:20260423T052651
CREATED:20240809T170442Z
LAST-MODIFIED:20240809T195628Z
UID:10003497-1724234400-1724248800@sic.edu
SUMMARY:FAFSA Workshop and FREE lunch!
DESCRIPTION:SIC Financial Aid Office will host two days of FAFSA Completion Workshop on the Harrisburg campus for any students who have not yet completed a 24-25 FAFSA. Computers will be set up in the Heritage Room (at the back of the cafeteria) for students to use to complete the FAFSA with one-on-one help! \nWHO: Any student who has not yet completed the 2024-25 FAFSA \nWHERE: Heritage Room (at the back of the cafeteria) \nDATES: Tuesday\, August 20 and Wednesday\, August 21 \nTIME: 10 a.m. – 2 p.m. \nWHAT TO BRING:\n– student’s social security number\n If the student is a dependent:\n– parent email address\n– parent social security number\n– parent date of birth \nThose who complete their FAFSA with us will receive a free lunch! The menu includes pizza\, sandwiches\, chips\, sodas\, water\, and desserts.
URL:https://sic.edu/event/fafsa-workshop-and-free-lunch/2024-08-21/
LOCATION:B-137 Private Dining Room/Heritage Room
CATEGORIES:Academic Calendar
ATTACH;FMTTYPE=image/jpeg:https://sic.edu/wp-content/uploads/2024/08/FB-Event-Banner-FAFSA-Workshop-2024-scaled.jpg
ORGANIZER;CN="Michelle Stanley%2C Senior Director of Financial Aid":MAILTO:fao@sic.edu
END:VEVENT
BEGIN:VEVENT
DTSTART;TZID=America/Chicago:20240820T100000
DTEND;TZID=America/Chicago:20240820T140000
DTSTAMP:20260423T052652
CREATED:20240809T170442Z
LAST-MODIFIED:20240809T195628Z
UID:10003496-1724148000-1724162400@sic.edu
SUMMARY:FAFSA Workshop and FREE lunch!
DESCRIPTION:SIC Financial Aid Office will host two days of FAFSA Completion Workshop on the Harrisburg campus for any students who have not yet completed a 24-25 FAFSA. Computers will be set up in the Heritage Room (at the back of the cafeteria) for students to use to complete the FAFSA with one-on-one help! \nWHO: Any student who has not yet completed the 2024-25 FAFSA \nWHERE: Heritage Room (at the back of the cafeteria) \nDATES: Tuesday\, August 20 and Wednesday\, August 21 \nTIME: 10 a.m. – 2 p.m. \nWHAT TO BRING:\n– student’s social security number\n If the student is a dependent:\n– parent email address\n– parent social security number\n– parent date of birth \nThose who complete their FAFSA with us will receive a free lunch! The menu includes pizza\, sandwiches\, chips\, sodas\, water\, and desserts.
URL:https://sic.edu/event/fafsa-workshop-and-free-lunch/2024-08-20/
LOCATION:B-137 Private Dining Room/Heritage Room
CATEGORIES:Academic Calendar
ATTACH;FMTTYPE=image/jpeg:https://sic.edu/wp-content/uploads/2024/08/FB-Event-Banner-FAFSA-Workshop-2024-scaled.jpg
ORGANIZER;CN="Michelle Stanley%2C Senior Director of Financial Aid":MAILTO:fao@sic.edu
END:VEVENT
BEGIN:VEVENT
DTSTART;TZID=America/Chicago:20240618T083000
DTEND;TZID=America/Chicago:20240618T153500
DTSTAMP:20260423T052652
CREATED:20240430T200215Z
LAST-MODIFIED:20240430T201629Z
UID:10003320-1718699400-1718724900@sic.edu
SUMMARY:Navigating Abilities: Southern IL Symposium
DESCRIPTION:Calling all K-12 educators in Southern Illinois:\n\n\nJoin us for a day of learning and networking at the Southern Symposium on June 18th\, hosted at SIC. Our featured speaker for this event is none other than the incredible Dr. Maryanne Wolf!\n\n\nCome and engage with Dr. Wolf as she shares her expertise and sheds light on the latest literacy research. Build your knowledge of best practices in regard to reading\, writing\, and math. Illinois State Board of Education professional development hours are available to attendees.\n\nLunch will be catered by SIC’s Chef Michael Intravaia.\n\n\n\nSecure your spot today! – https://reg.learningstream.com/reg/event_page.aspx…
URL:https://sic.edu/event/navigating-abilities-southern-il-symposium/
LOCATION:B-126 W – Lecture Hall West
CATEGORIES:Business & Industry/Trainings
ATTACH;FMTTYPE=image/jpeg:https://sic.edu/wp-content/uploads/2024/04/image0.jpeg
ORGANIZER;CN="Kellyn Sirach%2C SLDSP Reading Content Specialist":MAILTO:ksirach@sldsupports.org
END:VEVENT
BEGIN:VEVENT
DTSTART;TZID=America/Chicago:20240403T120000
DTEND;TZID=America/Chicago:20240403T140000
DTSTAMP:20260423T052652
CREATED:20240202T181528Z
LAST-MODIFIED:20240202T181528Z
UID:10003197-1712145600-1712152800@sic.edu
SUMMARY:Team/Club Recognition
DESCRIPTION:
URL:https://sic.edu/event/team-club-recognition/
LOCATION:B-137 Private Dining Room/Heritage Room
CATEGORIES:Athletics & Competitive Teams,Student Activities
ORGANIZER;CN="Kellye Whitler%2C Events Director":MAILTO:boxoffice@sic.edu
END:VEVENT
BEGIN:VEVENT
DTSTART;TZID=America/Chicago:20240315T173000
DTEND;TZID=America/Chicago:20240315T210000
DTSTAMP:20260423T052652
CREATED:20240202T181127Z
LAST-MODIFIED:20240202T181127Z
UID:10003195-1710523800-1710536400@sic.edu
SUMMARY:Game Night
DESCRIPTION:SIC Student Government and the Math & Science Club present Game Night – open to all SIC students! Includes Video games (Jack Box Party and Super Smash Brothers)\, board games\, card games\, karaoke\, VR\, and free food and drinks!
URL:https://sic.edu/event/game-night-2/
LOCATION:B-137 Private Dining Room/Heritage Room
CATEGORIES:Student Activities
ORGANIZER;CN="Matt Lees":MAILTO:matt.lees@sic.edu
END:VEVENT
BEGIN:VEVENT
DTSTART;TZID=America/Chicago:20240227T080000
DTEND;TZID=America/Chicago:20240227T140000
DTSTAMP:20260423T052652
CREATED:20240202T180636Z
LAST-MODIFIED:20240202T180636Z
UID:10003194-1709020800-1709042400@sic.edu
SUMMARY:Allied Health Spotlight Day
DESCRIPTION:For high school students \n 
URL:https://sic.edu/event/allied-health-spotlight-day-2-2/
LOCATION:B-137 Private Dining Room/Heritage Room
CATEGORIES:High School and Middle School
ORGANIZER;CN="Susie Moore%2C Adm Assistant to Nursing &amp%3B Allied Health":MAILTO:susie.moore@sic.edu
END:VEVENT
BEGIN:VEVENT
DTSTART;TZID=America/Chicago:20240119T080000
DTEND;TZID=America/Chicago:20240119T170000
DTSTAMP:20260423T052652
CREATED:20231030T184904Z
LAST-MODIFIED:20231030T184904Z
UID:10003147-1705651200-1705683600@sic.edu
SUMMARY:Campus Threat Assessment and Management Program - Day 2
DESCRIPTION:
URL:https://sic.edu/event/campus-threat-assessment-and-management-program-2/
LOCATION:B-137 Private Dining Room/Heritage Room
CATEGORIES:Employee
ORGANIZER;CN="Illinois Emergency Management Agency":MAILTO:schoolsafety@iletsbei.com
END:VEVENT
BEGIN:VEVENT
DTSTART;TZID=America/Chicago:20240118T080000
DTEND;TZID=America/Chicago:20240118T170000
DTSTAMP:20260423T052652
CREATED:20231030T184718Z
LAST-MODIFIED:20231030T184718Z
UID:10003146-1705564800-1705597200@sic.edu
SUMMARY:Campus Threat Assessment and Management Program
DESCRIPTION:
URL:https://sic.edu/event/campus-threat-assessment-and-management-program/
LOCATION:B-137 Private Dining Room/Heritage Room
CATEGORIES:Employee
ORGANIZER;CN="Illinois Emergency Management Agency":MAILTO:schoolsafety@iletsbei.com
END:VEVENT
BEGIN:VEVENT
DTSTART;TZID=America/Chicago:20231025T163000
DTEND;TZID=America/Chicago:20231025T173000
DTSTAMP:20260423T052652
CREATED:20231024T183939Z
LAST-MODIFIED:20231024T190012Z
UID:10003123-1698251400-1698255000@sic.edu
SUMMARY:1962 and 1963 Falcon Basketball and Cheerleading Reunion
DESCRIPTION:private event
URL:https://sic.edu/event/1962-and-1963-falcon-basketball-cheerleading-reunion/
LOCATION:B-137 Private Dining Room/Heritage Room
CATEGORIES:Athletics & Competitive Teams,Foundation and Alumni,Mens Basketball
ORGANIZER;CN="Sam Swinford":MAILTO:sam.swinford@sic.edu
END:VEVENT
BEGIN:VEVENT
DTSTART;TZID=America/Chicago:20231025T073000
DTEND;TZID=America/Chicago:20231025T073000
DTSTAMP:20260423T052652
CREATED:20231024T183741Z
LAST-MODIFIED:20231024T185945Z
UID:10003122-1698219000-1698219000@sic.edu
SUMMARY:Nursing Advisory Meeting
DESCRIPTION:private event
URL:https://sic.edu/event/nursing-advisory-meeting/
LOCATION:B-137 Private Dining Room/Heritage Room
ORGANIZER;CN="Dr. Emily York - Director of Nursing":MAILTO:nursing@sic.edu
END:VEVENT
BEGIN:VEVENT
DTSTART;TZID=America/Chicago:20230405T130000
DTEND;TZID=America/Chicago:20230405T143000
DTSTAMP:20260423T052652
CREATED:20230321T202102Z
LAST-MODIFIED:20230321T202102Z
UID:10002877-1680699600-1680705000@sic.edu
SUMMARY:SIC Student Focus Groups
DESCRIPTION:Attention SIC students! Want free food\, giveaways\, and a chance to win a $50 Bistro/coffee shop gift card and a gas card? \nSign up for a 90-minute SIC Focus Group on April 5! https://forms.gle/4JnWLz71Eyima8T7A \nFirst come — max 8 students per session. You must be able to attend a full session.
URL:https://sic.edu/event/sic-student-focus-groups-2/
LOCATION:B-137 Private Dining Room/Heritage Room
CATEGORIES:Student Activities
ATTACH;FMTTYPE=image/jpeg:https://sic.edu/wp-content/uploads/2023/03/focus-group-image-from-web.jpg
END:VEVENT
BEGIN:VEVENT
DTSTART;TZID=America/Chicago:20230405T100000
DTEND;TZID=America/Chicago:20230405T113000
DTSTAMP:20260423T052652
CREATED:20230321T201855Z
LAST-MODIFIED:20230321T202157Z
UID:10002876-1680688800-1680694200@sic.edu
SUMMARY:SIC Student Focus Groups
DESCRIPTION:Attention SIC students! Want free food\, giveaways\, and a chance to win a $50 Bistro/coffee shop gift card and a gas card? \nSign up for a 90-minute SIC Focus Group on April 5! https://forms.gle/4JnWLz71Eyima8T7A \nFirst come — max 8 students per session. You must be able to attend a full session. \n\n 
URL:https://sic.edu/event/sic-student-focus-groups/
LOCATION:B-137 Private Dining Room/Heritage Room
CATEGORIES:Student Activities
ATTACH;FMTTYPE=image/jpeg:https://sic.edu/wp-content/uploads/2023/03/focus-group-image-from-web.jpg
END:VEVENT
BEGIN:VEVENT
DTSTART;TZID=America/Chicago:20221202T170000
DTEND;TZID=America/Chicago:20221202T170000
DTSTAMP:20260423T052652
CREATED:20221118T163419Z
LAST-MODIFIED:20221118T163512Z
UID:10002769-1670000400-1670000400@sic.edu
SUMMARY:Game Night
DESCRIPTION:SIC Student Government and the Math & Science Club present Game Night! Includes Video games (Jack Box Party and Super Smash Brothers)\, board games\, card games\, karaoke\, VR\, and free food and drinks for all SIC students! \nNOTE: Bring an item from home if you’d like to participate in a White Elephant Party.
URL:https://sic.edu/event/game-night/
LOCATION:B-137 Private Dining Room/Heritage Room
CATEGORIES:Student Activities
ORGANIZER;CN="Kellye Whitler%2C Events Director":MAILTO:boxoffice@sic.edu
END:VEVENT
BEGIN:VEVENT
DTSTART;TZID=America/Chicago:20220208T183000
DTEND;TZID=America/Chicago:20220208T203000
DTSTAMP:20260423T052652
CREATED:20220203T214228Z
LAST-MODIFIED:20220203T214244Z
UID:10002386-1644345000-1644352200@sic.edu
SUMMARY:Child Care Resource and Referral: Introduction to ERS
DESCRIPTION:For more information contact CCR&R at 1-800-548-5563. \nYou can register online through CCR&R at www.ccrrjalc.com.
URL:https://sic.edu/event/child-care-resource-and-referral-introduction-to-ers-2/
LOCATION:B-137 Private Dining Room/Heritage Room
END:VEVENT
BEGIN:VEVENT
DTSTART;TZID=America/Chicago:20220207T182900
DTEND;TZID=America/Chicago:20220207T203000
DTSTAMP:20260423T052652
CREATED:20220203T214228Z
LAST-MODIFIED:20220203T214244Z
UID:10002385-1644258540-1644265800@sic.edu
SUMMARY:Child Care Resource and Referral: Introduction to ERS
DESCRIPTION:For more information contact CCR&R at 1-800-48-5563 \nYou can register online through CCR&R at www.ccrrjalc.com.
URL:https://sic.edu/event/child-care-resource-and-referral-introduction-to-ers/
LOCATION:B-137 Private Dining Room/Heritage Room
END:VEVENT
BEGIN:VEVENT
DTSTART;TZID=America/Chicago:20220203T183000
DTEND;TZID=America/Chicago:20220203T203000
DTSTAMP:20260423T052652
CREATED:20220203T214228Z
LAST-MODIFIED:20220203T214244Z
UID:10002384-1643913000-1643920200@sic.edu
SUMMARY:Canceled - Child Care Resource and Referral: Warning! I Bite!
DESCRIPTION:For more information contact CCR&R at 1-800-548-5563 \nYou can register online through CCR&R at www.ccrrjalc.com.
URL:https://sic.edu/event/canceled-child-care-resource-and-referral-warning-i-bite/
LOCATION:B-137 Private Dining Room/Heritage Room
END:VEVENT
BEGIN:VEVENT
DTSTART;TZID=America/Chicago:20211207T180000
DTEND;TZID=America/Chicago:20211207T200000
DTSTAMP:20260423T052652
CREATED:20220629T155359Z
LAST-MODIFIED:20220629T155401Z
UID:10002120-1638900000-1638907200@sic.edu
SUMMARY:Board of Trustees Meeting
DESCRIPTION:
URL:https://sic.edu/event/board-of-trustees-meeting-9/
LOCATION:B-137 Private Dining Room/Heritage Room
CATEGORIES:Board Meetings
END:VEVENT
BEGIN:VEVENT
DTSTART;TZID=America/Chicago:20210921T180000
DTEND;TZID=America/Chicago:20210921T200000
DTSTAMP:20260423T052652
CREATED:20220629T155359Z
LAST-MODIFIED:20220629T155401Z
UID:10002118-1632247200-1632254400@sic.edu
SUMMARY:Board of Trustees Meeting
DESCRIPTION:
URL:https://sic.edu/event/board-of-trustees-meeting-8/
LOCATION:B-137 Private Dining Room/Heritage Room
CATEGORIES:Board Meetings
END:VEVENT
BEGIN:VEVENT
DTSTART;TZID=America/Chicago:20210826T073000
DTEND;TZID=America/Chicago:20210826T093000
DTSTAMP:20260423T052652
CREATED:20220629T155359Z
LAST-MODIFIED:20220629T155402Z
UID:10002145-1629963000-1629970200@sic.edu
SUMMARY:SIC Foundation Board of Directors Meeting
DESCRIPTION:Private Event
URL:https://sic.edu/event/sic-foundation-board-of-directors-meeting-3/
LOCATION:B-137 Private Dining Room/Heritage Room
CATEGORIES:Foundation and Alumni
END:VEVENT
BEGIN:VEVENT
DTSTART;TZID=America/Chicago:20210817T180000
DTEND;TZID=America/Chicago:20210817T200000
DTSTAMP:20260423T052652
CREATED:20220629T155359Z
LAST-MODIFIED:20220629T155400Z
UID:10002117-1629223200-1629230400@sic.edu
SUMMARY:Board of Trustees Meeting
DESCRIPTION:
URL:https://sic.edu/event/board-of-trustees-meeting-7/
LOCATION:B-137 Private Dining Room/Heritage Room
CATEGORIES:Board Meetings
END:VEVENT
BEGIN:VEVENT
DTSTART;TZID=America/Chicago:20210817T090000
DTEND;TZID=America/Chicago:20210817T130000
DTSTAMP:20260423T052652
CREATED:20220629T155359Z
LAST-MODIFIED:20220629T155403Z
UID:10002157-1629190800-1629205200@sic.edu
SUMMARY:COVID-19 Vaccination Clinic
DESCRIPTION:SIC will host a Moderna COVID-19 vaccine clinic with Egyptian Health Department on the Harrisburg campus in the Heritage Room in the back of the cafeteria during the first two days of the semester — Aug. 16 and 17\, 9 a.m.-1 p.m. Appointments can be made in advance beginning July 23 by visiting tinyurl.com/EHDVaccine. Appointments are preferred\, but walk-ins will be accepted on both dates. Second dose vaccine appointments will be scheduled during registration. Any SIC student or employee who receives both doses at this clinic only will receive at $50 gift card to the Falcon Bistro/ Coffee Shop.
URL:https://sic.edu/event/covid-19-vaccination-clinic-2/
LOCATION:B-137 Private Dining Room/Heritage Room
CATEGORIES:Community Events
END:VEVENT
BEGIN:VEVENT
DTSTART;TZID=America/Chicago:20210816T090000
DTEND;TZID=America/Chicago:20210816T130000
DTSTAMP:20260423T052652
CREATED:20220629T155359Z
LAST-MODIFIED:20220629T155402Z
UID:10002252-1629104400-1629118800@sic.edu
SUMMARY:COVID-19 Vaccination Clinic
DESCRIPTION:SIC will host a Moderna COVID-19 vaccine clinic with Egyptian Health Department on the Harrisburg campus in the Heritage Room in the back of the cafeteria during the first two days of the semester — Aug. 16 and 17\, 9 a.m.-1 p.m. Appointments can be made in advance beginning July 23 by visiting tinyurl.com/EHDVaccine. Appointments are preferred\, but walk-ins will be accepted on both dates. Second dose vaccine appointments will be scheduled during registration. Any SIC student or employee who receives both doses at this clinic only will receive at $50 gift card to the Falcon Bistro/ Coffee Shop.
URL:https://sic.edu/event/covid-19-vaccination-clinic/
LOCATION:B-137 Private Dining Room/Heritage Room
CATEGORIES:Community Events
END:VEVENT
BEGIN:VEVENT
DTSTART;TZID=America/Chicago:20210603T073000
DTEND;TZID=America/Chicago:20210603T093000
DTSTAMP:20260423T052652
CREATED:20220629T155352Z
LAST-MODIFIED:20220629T155358Z
UID:10002044-1622705400-1622712600@sic.edu
SUMMARY:SIC Foundation Board of Directors Meeting
DESCRIPTION:Private Event
URL:https://sic.edu/event/sic-foundation-board-of-directors-meeting-2/
LOCATION:B-137 Private Dining Room/Heritage Room
CATEGORIES:Foundation and Alumni
END:VEVENT
END:VCALENDAR