BEGIN:VCALENDAR
VERSION:2.0
PRODID:-//Southeastern Illinois College - ECPv6.15.20//NONSGML v1.0//EN
CALSCALE:GREGORIAN
METHOD:PUBLISH
X-ORIGINAL-URL:https://sic.edu
X-WR-CALDESC:Events for Southeastern Illinois College
REFRESH-INTERVAL;VALUE=DURATION:PT1H
X-Robots-Tag:noindex
X-PUBLISHED-TTL:PT1H
BEGIN:VTIMEZONE
TZID:America/Chicago
BEGIN:DAYLIGHT
TZOFFSETFROM:-0600
TZOFFSETTO:-0500
TZNAME:CDT
DTSTART:20200308T080000
END:DAYLIGHT
BEGIN:STANDARD
TZOFFSETFROM:-0500
TZOFFSETTO:-0600
TZNAME:CST
DTSTART:20201101T070000
END:STANDARD
BEGIN:DAYLIGHT
TZOFFSETFROM:-0600
TZOFFSETTO:-0500
TZNAME:CDT
DTSTART:20210314T080000
END:DAYLIGHT
BEGIN:STANDARD
TZOFFSETFROM:-0500
TZOFFSETTO:-0600
TZNAME:CST
DTSTART:20211107T070000
END:STANDARD
BEGIN:DAYLIGHT
TZOFFSETFROM:-0600
TZOFFSETTO:-0500
TZNAME:CDT
DTSTART:20220313T080000
END:DAYLIGHT
BEGIN:STANDARD
TZOFFSETFROM:-0500
TZOFFSETTO:-0600
TZNAME:CST
DTSTART:20221106T070000
END:STANDARD
BEGIN:DAYLIGHT
TZOFFSETFROM:-0600
TZOFFSETTO:-0500
TZNAME:CDT
DTSTART:20230312T080000
END:DAYLIGHT
BEGIN:STANDARD
TZOFFSETFROM:-0500
TZOFFSETTO:-0600
TZNAME:CST
DTSTART:20231105T070000
END:STANDARD
BEGIN:DAYLIGHT
TZOFFSETFROM:-0600
TZOFFSETTO:-0500
TZNAME:CDT
DTSTART:20240310T080000
END:DAYLIGHT
BEGIN:STANDARD
TZOFFSETFROM:-0500
TZOFFSETTO:-0600
TZNAME:CST
DTSTART:20241103T070000
END:STANDARD
BEGIN:DAYLIGHT
TZOFFSETFROM:-0600
TZOFFSETTO:-0500
TZNAME:CDT
DTSTART:20250309T080000
END:DAYLIGHT
BEGIN:STANDARD
TZOFFSETFROM:-0500
TZOFFSETTO:-0600
TZNAME:CST
DTSTART:20251102T070000
END:STANDARD
BEGIN:DAYLIGHT
TZOFFSETFROM:-0600
TZOFFSETTO:-0500
TZNAME:CDT
DTSTART:20260308T080000
END:DAYLIGHT
BEGIN:STANDARD
TZOFFSETFROM:-0500
TZOFFSETTO:-0600
TZNAME:CST
DTSTART:20261101T070000
END:STANDARD
BEGIN:DAYLIGHT
TZOFFSETFROM:-0600
TZOFFSETTO:-0500
TZNAME:CDT
DTSTART:20270314T080000
END:DAYLIGHT
BEGIN:STANDARD
TZOFFSETFROM:-0500
TZOFFSETTO:-0600
TZNAME:CST
DTSTART:20271107T070000
END:STANDARD
END:VTIMEZONE
BEGIN:VEVENT
DTSTART;TZID=America/Chicago:20260303T130000
DTEND;TZID=America/Chicago:20260303T130000
DTSTAMP:20260425T204339
CREATED:20260120T201421Z
LAST-MODIFIED:20260219T213453Z
UID:10004623-1772542800-1772542800@sic.edu
SUMMARY:SIC Softball vs. St. Charles
DESCRIPTION:SIC remains home at Falcon Field for a nonconference matchup against St. Charles Community College.
URL:https://sic.edu/event/sic-softball-vs-st-charles/
LOCATION:Falcon Field\, 3575 College Rd.\, Harrisburg\, IL\, 62946
CATEGORIES:Athletics & Competitive Teams,Women's Softball
ORGANIZER;CN="Tabithia Williams%2C Softball Coach":MAILTO:tabithia.williams@sic.edu
END:VEVENT
BEGIN:VEVENT
DTSTART;TZID=America/Chicago:20251018T140000
DTEND;TZID=America/Chicago:20251018T140000
DTSTAMP:20260425T204339
CREATED:20250728T144751Z
LAST-MODIFIED:20250728T144956Z
UID:10003960-1760796000-1760796000@sic.edu
SUMMARY:SIC Softball vs. Brescia University (DH)
DESCRIPTION:SIC wraps up the fall season at home with a doubleheader against Brescia University at Falcon Field. First pitch is scheduled for 2 PM.
URL:https://sic.edu/event/sic-softball-vs-brescia-university-dh/
LOCATION:Falcon Field\, 3575 College Rd.\, Harrisburg\, IL\, 62946
CATEGORIES:Women's Softball
END:VEVENT
BEGIN:VEVENT
DTSTART;TZID=America/Chicago:20240625T090000
DTEND;TZID=America/Chicago:20240625T143000
DTSTAMP:20260425T204339
CREATED:20240530T142856Z
LAST-MODIFIED:20240605T194151Z
UID:10003457-1719306000-1719325800@sic.edu
SUMMARY:SIC Softball All-Skills Camp - Ages 5-18
DESCRIPTION:Softball All Skills Summer Camp with the SIC Falcon Softball Team!\n\nWHEN: June 25th-26th\, 2024\n\nWHERE: Falcon Field at SIC\n\nCOST: $50 — includes camp T-shirt\n\nWHO:• Ages 5-9 from 9-10:30 a.m. on both days• Ages 10-13 from 11 a.m.-12:30 p.m. on both days• Ages 14-18 from 1-2:30 p.m. on both days\n\nWHAT TO BRING:• Fielding Glove• Bat• Helmet• Water• Batting gloves (optional but suggested)• Fielding Facemask (optional but suggested)\n\nCONTACT: Head Coach Maggie Calcaterra – (618) 322-6012 or m.calcaterra@sic.edu\n\nREGISTRATION FORM: https://sic.edu/wp-content/uploads/2022/06/SIC-SOFTBALL-ALL-SKILLS-CAMP-2024_Fillable2.pdf
URL:https://sic.edu/event/sic-softball-all-skills-camp/2024-06-25/
LOCATION:Falcon Field\, 3575 College Rd.\, Harrisburg\, IL\, 62946
CATEGORIES:Athletics & Competitive Teams
ATTACH;FMTTYPE=image/png:https://sic.edu/wp-content/uploads/2024/05/Default-Camp-4653937.png
ORGANIZER;CN="Maggie Calcaterra":MAILTO:m.calcaterra@sic.edu
END:VEVENT
BEGIN:VEVENT
DTSTART;TZID=America/Chicago:20230916T120000
DTEND;TZID=America/Chicago:20230916T120000
DTSTAMP:20260425T204339
CREATED:20230830T132730Z
LAST-MODIFIED:20231128T142443Z
UID:10003067-1694865600-1694865600@sic.edu
SUMMARY:Women's Softball vs. Brescia University (DH)
DESCRIPTION:
URL:https://sic.edu/event/womens-softball-vs-brescia-university-dh/
LOCATION:Falcon Field\, 3575 College Rd.\, Harrisburg\, IL\, 62946
CATEGORIES:Women's Softball
ATTACH;FMTTYPE=image/png:https://sic.edu/wp-content/uploads/2023/08/vs.-Brescia.png
END:VEVENT
BEGIN:VEVENT
DTSTART;TZID=America/Chicago:20230908T150000
DTEND;TZID=America/Chicago:20230908T150000
DTSTAMP:20260425T204339
CREATED:20230830T132525Z
LAST-MODIFIED:20231128T142449Z
UID:10003066-1694185200-1694185200@sic.edu
SUMMARY:Women's Softball vs. Oakland City University (DH)
DESCRIPTION:SIC Softball welcomes Oakland City University to Falcon Field for the home opener of the 2023 Fall Season. Two games will be played in double-header format with an approximate 3 p.m. and 5 p.m. start time.
URL:https://sic.edu/event/womens-softball-vs-oakland-city-university-dh/
LOCATION:Falcon Field\, 3575 College Rd.\, Harrisburg\, IL\, 62946
CATEGORIES:Women's Softball
ATTACH;FMTTYPE=image/png:https://sic.edu/wp-content/uploads/2023/08/vs.-OCU.png
END:VEVENT
BEGIN:VEVENT
DTSTART;TZID=America/Chicago:20230627T090000
DTEND;TZID=America/Chicago:20230627T143000
DTSTAMP:20260425T204339
CREATED:20220727T170808Z
LAST-MODIFIED:20230504T182204Z
UID:10002401-1687856400-1687876200@sic.edu
SUMMARY:Softball All Skills Summer Camp Begins (Ages 5-18)
DESCRIPTION:Softball All Skills Summer Camp with the SIC Falcon Softball Team! \nCOST: $50 — includes camp T-shirt \nWHAT TO BRING: \n\nFielding Glove\nBat\nHelmet\nWater\nBatting gloves (optional but suggested)\nFielding Facemask (optional but suggested)\n\nClick here for the Registration Form
URL:https://sic.edu/event/softball-all-skills-summer-camp-begins-ages-5-18/
LOCATION:Falcon Field\, 3575 College Rd.\, Harrisburg\, IL\, 62946
CATEGORIES:Athletics & Competitive Teams,Camps,Children's Activities,High School and Middle School
ATTACH;FMTTYPE=image/png:https://sic.edu/wp-content/uploads/2022/07/2023-All-Skills-Camp-FB-Header.png
ORGANIZER;CN="Maggie Calcaterra":MAILTO:m.calcaterra@sic.edu
END:VEVENT
BEGIN:VEVENT
DTSTART;TZID=America/Chicago:20230502T140000
DTEND;TZID=America/Chicago:20230502T140000
DTSTAMP:20260425T204339
CREATED:20230117T162332Z
LAST-MODIFIED:20230901T134438Z
UID:10002811-1683036000-1683036000@sic.edu
SUMMARY:Women's Softball vs. Olney College (DH)
DESCRIPTION:
URL:https://sic.edu/event/womens-softball-vs-olney-college-2/
LOCATION:Falcon Field\, 3575 College Rd.\, Harrisburg\, IL\, 62946
CATEGORIES:Women's Softball
END:VEVENT
BEGIN:VEVENT
DTSTART;TZID=America/Chicago:20230429T100000
DTEND;TZID=America/Chicago:20230429T100000
DTSTAMP:20260425T204339
CREATED:20230117T162233Z
LAST-MODIFIED:20230901T134443Z
UID:10002812-1682762400-1682762400@sic.edu
SUMMARY:Women's Softball vs. Southwestern Illinois College (DH)
DESCRIPTION:
URL:https://sic.edu/event/womens-softball-vs-southwestern-illinois/
LOCATION:Falcon Field\, 3575 College Rd.\, Harrisburg\, IL\, 62946
CATEGORIES:Women's Softball
ORGANIZER;CN="Maggie Calcaterra":MAILTO:m.calcaterra@sic.edu
END:VEVENT
BEGIN:VEVENT
DTSTART;TZID=America/Chicago:20230422T120000
DTEND;TZID=America/Chicago:20230422T120000
DTSTAMP:20260425T204339
CREATED:20230117T162015Z
LAST-MODIFIED:20230901T134457Z
UID:10002814-1682164800-1682164800@sic.edu
SUMMARY:Women's Softball vs. Lincoln Trail College (DH) and Sophomore Day!
DESCRIPTION:
URL:https://sic.edu/event/womens-softball-vs-lincoln-trail-college/
LOCATION:Falcon Field\, 3575 College Rd.\, Harrisburg\, IL\, 62946
CATEGORIES:Women's Softball
ATTACH;FMTTYPE=image/jpeg:https://sic.edu/wp-content/uploads/2023/01/sophomore-night-2023.jpg
END:VEVENT
BEGIN:VEVENT
DTSTART;TZID=America/Chicago:20230415T120000
DTEND;TZID=America/Chicago:20230415T120000
DTSTAMP:20260425T204339
CREATED:20230117T161800Z
LAST-MODIFIED:20230901T134511Z
UID:10002816-1681560000-1681560000@sic.edu
SUMMARY:Women's Softball vs. Kaskaskia College
DESCRIPTION:
URL:https://sic.edu/event/womens-softball-vs-kaskaskia-college-2/
LOCATION:Falcon Field\, 3575 College Rd.\, Harrisburg\, IL\, 62946
CATEGORIES:Women's Softball
END:VEVENT
BEGIN:VEVENT
DTSTART;TZID=America/Chicago:20230407T120000
DTEND;TZID=America/Chicago:20230407T120000
DTSTAMP:20260425T204339
CREATED:20230117T161431Z
LAST-MODIFIED:20230901T134526Z
UID:10002810-1680868800-1680868800@sic.edu
SUMMARY:Women's Softball vs. Frontier College (DH)
DESCRIPTION:
URL:https://sic.edu/event/womens-softball-vs-frontier-college-2/
LOCATION:Falcon Field\, 3575 College Rd.\, Harrisburg\, IL\, 62946
CATEGORIES:Women's Softball
END:VEVENT
BEGIN:VEVENT
DTSTART;TZID=America/Chicago:20230330T140000
DTEND;TZID=America/Chicago:20230330T140000
DTSTAMP:20260425T204339
CREATED:20230117T161037Z
LAST-MODIFIED:20230901T134641Z
UID:10002806-1680184800-1680184800@sic.edu
SUMMARY:Women's Softball vs. Shawnee College (DH)
DESCRIPTION:
URL:https://sic.edu/event/womens-softball-vs-shawnee-college/
LOCATION:Falcon Field\, 3575 College Rd.\, Harrisburg\, IL\, 62946
CATEGORIES:Women's Softball
END:VEVENT
BEGIN:VEVENT
DTSTART;TZID=America/Chicago:20230328T140000
DTEND;TZID=America/Chicago:20230328T140000
DTSTAMP:20260425T204339
CREATED:20230117T155100Z
LAST-MODIFIED:20230901T134645Z
UID:10002803-1680012000-1680012000@sic.edu
SUMMARY:Women's Softball vs. Lake Land College (DH)
DESCRIPTION:
URL:https://sic.edu/event/womens-softball-vs-lake-land-college/
LOCATION:Falcon Field\, 3575 College Rd.\, Harrisburg\, IL\, 62946
CATEGORIES:Women's Softball
END:VEVENT
BEGIN:VEVENT
DTSTART;TZID=America/Chicago:20230315T140000
DTEND;TZID=America/Chicago:20230315T140000
DTSTAMP:20260425T204339
CREATED:20230117T160405Z
LAST-MODIFIED:20230901T134659Z
UID:10002819-1678888800-1678888800@sic.edu
SUMMARY:Women's Softball vs. Rend Lake College (DH)
DESCRIPTION:
URL:https://sic.edu/event/womens-softball-vs-rend-lake-college/
LOCATION:Falcon Field\, 3575 College Rd.\, Harrisburg\, IL\, 62946
CATEGORIES:Women's Softball
END:VEVENT
BEGIN:VEVENT
DTSTART;TZID=America/Chicago:20230314T140000
DTEND;TZID=America/Chicago:20230314T160000
DTSTAMP:20260425T204339
CREATED:20230117T160057Z
LAST-MODIFIED:20230901T134703Z
UID:10002820-1678802400-1678809600@sic.edu
SUMMARY:Women's Softball vs. Wabash Valley College (DH)
DESCRIPTION:
URL:https://sic.edu/event/womens-softball-vs-wabash-valley-college/
LOCATION:Falcon Field\, 3575 College Rd.\, Harrisburg\, IL\, 62946
CATEGORIES:Women's Softball
END:VEVENT
BEGIN:VEVENT
DTSTART;TZID=America/Chicago:20220428T140000
DTEND;TZID=America/Chicago:20220428T180000
DTSTAMP:20260425T204339
CREATED:20220203T214221Z
LAST-MODIFIED:20220203T214223Z
UID:10002368-1651154400-1651168800@sic.edu
SUMMARY:Falcon Softball Home Game vs. Kaskaskia College
DESCRIPTION:Home game double-header! Good luck Falcons! \nSee the Full Schedule
URL:https://sic.edu/event/falcon-softball-home-game-vs-kaskaskia-college/
LOCATION:Falcon Field\, 3575 College Rd.\, Harrisburg\, IL\, 62946
CATEGORIES:Athletics & Competitive Teams
END:VEVENT
BEGIN:VEVENT
DTSTART;TZID=America/Chicago:20220426T140000
DTEND;TZID=America/Chicago:20220426T180000
DTSTAMP:20260425T204339
CREATED:20220203T214221Z
LAST-MODIFIED:20220203T214222Z
UID:10002367-1650981600-1650996000@sic.edu
SUMMARY:Falcon Softball Home Game vs. Danville
DESCRIPTION:Home game double-header! Good luck Falcons! \nSee the Full Schedule
URL:https://sic.edu/event/falcon-softball-home-game-vs-danville/
LOCATION:Falcon Field\, 3575 College Rd.\, Harrisburg\, IL\, 62946
CATEGORIES:Athletics & Competitive Teams
END:VEVENT
BEGIN:VEVENT
DTSTART;TZID=America/Chicago:20220421T140000
DTEND;TZID=America/Chicago:20220421T180000
DTSTAMP:20260425T204339
CREATED:20220203T214221Z
LAST-MODIFIED:20220203T214222Z
UID:10002365-1650549600-1650564000@sic.edu
SUMMARY:Falcon Softball Home Game vs. Frontier
DESCRIPTION:Home game double-header! Good luck Falcons! \nSee the Full Schedule
URL:https://sic.edu/event/falcon-softball-home-game-vs-frontier/
LOCATION:Falcon Field\, 3575 College Rd.\, Harrisburg\, IL\, 62946
CATEGORIES:Athletics & Competitive Teams
END:VEVENT
BEGIN:VEVENT
DTSTART;TZID=America/Chicago:20220415T120000
DTEND;TZID=America/Chicago:20220415T160000
DTSTAMP:20260425T204339
CREATED:20220203T214221Z
LAST-MODIFIED:20220203T214222Z
UID:10002363-1650024000-1650038400@sic.edu
SUMMARY:Falcon Softball Home Game vs. John A Logan
DESCRIPTION:Home game double-header! Good luck Falcons! \nSee the Full Schedule
URL:https://sic.edu/event/falcon-softball-home-game-vs-john-a-logan/
LOCATION:Falcon Field\, 3575 College Rd.\, Harrisburg\, IL\, 62946
CATEGORIES:Athletics & Competitive Teams
END:VEVENT
BEGIN:VEVENT
DTSTART;TZID=America/Chicago:20220409T120000
DTEND;TZID=America/Chicago:20220409T160000
DTSTAMP:20260425T204339
CREATED:20220203T214221Z
LAST-MODIFIED:20220203T214222Z
UID:10002362-1649505600-1649520000@sic.edu
SUMMARY:Falcon Softball Home Game vs. Shawnee
DESCRIPTION:Home game double-header! Good luck Falcons! \nSee the Full Schedule
URL:https://sic.edu/event/falcon-softball-home-game-vs-shawnee/
LOCATION:Falcon Field\, 3575 College Rd.\, Harrisburg\, IL\, 62946
CATEGORIES:Athletics & Competitive Teams
END:VEVENT
BEGIN:VEVENT
DTSTART;TZID=America/Chicago:20220407T140000
DTEND;TZID=America/Chicago:20220407T180000
DTSTAMP:20260425T204339
CREATED:20220203T214221Z
LAST-MODIFIED:20220203T214221Z
UID:10002361-1649340000-1649354400@sic.edu
SUMMARY:Falcon Softball Home Game vs. Lincoln Trail
DESCRIPTION:Home game double-header! Good luck Falcons! \nSee the Full Schedule
URL:https://sic.edu/event/falcon-softball-home-game-vs-lincoln-trail/
LOCATION:Falcon Field\, 3575 College Rd.\, Harrisburg\, IL\, 62946
CATEGORIES:Athletics & Competitive Teams
END:VEVENT
BEGIN:VEVENT
DTSTART;TZID=America/Chicago:20220403T130000
DTEND;TZID=America/Chicago:20220403T170000
DTSTAMP:20260425T204339
CREATED:20220203T214221Z
LAST-MODIFIED:20220203T214221Z
UID:10002359-1648990800-1649005200@sic.edu
SUMMARY:Falcon Softball Home Game vs. Arkansas State
DESCRIPTION:Home game double-header! Good luck Falcons! \nSee the Full Schedule
URL:https://sic.edu/event/falcon-softball-home-game-vs-arkansas-state/
LOCATION:Falcon Field\, 3575 College Rd.\, Harrisburg\, IL\, 62946
CATEGORIES:Athletics & Competitive Teams
END:VEVENT
BEGIN:VEVENT
DTSTART;TZID=America/Chicago:20220402T120000
DTEND;TZID=America/Chicago:20220402T160000
DTSTAMP:20260425T204339
CREATED:20220203T214221Z
LAST-MODIFIED:20220203T214221Z
UID:10002358-1648900800-1648915200@sic.edu
SUMMARY:Falcon Softball Home Game vs. Lake Land
DESCRIPTION:Home game double-header! Good luck Falcons! \nSee the Full Schedule
URL:https://sic.edu/event/falcon-softball-home-game-vs-lake-land/
LOCATION:Falcon Field\, 3575 College Rd.\, Harrisburg\, IL\, 62946
CATEGORIES:Athletics & Competitive Teams
END:VEVENT
BEGIN:VEVENT
DTSTART;TZID=America/Chicago:20220331T140000
DTEND;TZID=America/Chicago:20220331T180000
DTSTAMP:20260425T204339
CREATED:20220203T214209Z
LAST-MODIFIED:20220203T214217Z
UID:10002357-1648735200-1648749600@sic.edu
SUMMARY:Falcon Softball Home Game vs. Rend Lake
DESCRIPTION:Home game double-header! Good luck Falcons! \nSee the Full Schedule
URL:https://sic.edu/event/falcon-softball-home-game-vs-rend-lake/
LOCATION:Falcon Field\, 3575 College Rd.\, Harrisburg\, IL\, 62946
CATEGORIES:Athletics & Competitive Teams
END:VEVENT
BEGIN:VEVENT
DTSTART;TZID=America/Chicago:20220329T140000
DTEND;TZID=America/Chicago:20220329T180000
DTSTAMP:20260425T204339
CREATED:20220203T214209Z
LAST-MODIFIED:20220203T214216Z
UID:10002355-1648562400-1648576800@sic.edu
SUMMARY:Falcon Softball Home Game vs. Three Rivers
DESCRIPTION:Home game double-header! Good luck Falcons! \nSee the Full Schedule
URL:https://sic.edu/event/falcon-softball-home-game-vs-three-rivers/
LOCATION:Falcon Field\, 3575 College Rd.\, Harrisburg\, IL\, 62946
CATEGORIES:Athletics & Competitive Teams
END:VEVENT
BEGIN:VEVENT
DTSTART;TZID=America/Chicago:20220326T120000
DTEND;TZID=America/Chicago:20220326T160000
DTSTAMP:20260425T204339
CREATED:20220203T214209Z
LAST-MODIFIED:20220203T214216Z
UID:10002353-1648296000-1648310400@sic.edu
SUMMARY:Falcon Softball @ Kaskaskia
DESCRIPTION:Double-header in Centralia. Good luck Falcons! \nSee the Full Schedule
URL:https://sic.edu/event/falcon-softball-kaskaskia/
LOCATION:Falcon Field\, 3575 College Rd.\, Harrisburg\, IL\, 62946
CATEGORIES:Athletics & Competitive Teams
END:VEVENT
BEGIN:VEVENT
DTSTART;TZID=America/Chicago:20220324T140000
DTEND;TZID=America/Chicago:20220324T180000
DTSTAMP:20260425T204339
CREATED:20220203T214209Z
LAST-MODIFIED:20220203T214216Z
UID:10002351-1648130400-1648144800@sic.edu
SUMMARY:Falcon Softball Home Game vs. Wabash Valley
DESCRIPTION:Home game double-header! Good luck Falcons! \nSee the Full Schedule
URL:https://sic.edu/event/falcon-softball-home-game-vs-wabash-valley/
LOCATION:Falcon Field\, 3575 College Rd.\, Harrisburg\, IL\, 62946
CATEGORIES:Athletics & Competitive Teams
END:VEVENT
BEGIN:VEVENT
DTSTART;TZID=America/Chicago:20211017T100000
DTEND;TZID=America/Chicago:20211017T130000
DTSTAMP:20260425T204339
CREATED:20220629T155451Z
LAST-MODIFIED:20220629T155453Z
UID:10002297-1634464800-1634475600@sic.edu
SUMMARY:High School Baseball Fall Showcase
DESCRIPTION: This event was rescheduled to Oct. 17 from Oct. 2 due to weather. \nAttention High School Baseball Players who want to play in college! Attend the High School Fall Showcase Oct. 2 at Falcon Field and be seen by SIC coaches. Cost: $75 pitcher or position\, $100 pitcher and position. Includes pro-style workout and T-shirt. Register: https://www.sic.edu/student-activities/athletics/recruitment-form-baseball-and-softball
URL:https://sic.edu/event/high-school-baseball-fall-showcase/
LOCATION:Falcon Field\, 3575 College Rd.\, Harrisburg\, IL\, 62946
CATEGORIES:Athletics & Competitive Teams,Camps,High School and Middle School
END:VEVENT
BEGIN:VEVENT
DTSTART;TZID=America/Chicago:20210614T000000
DTEND;TZID=America/Chicago:20210615T000000
DTSTAMP:20260425T204339
CREATED:20220629T155451Z
LAST-MODIFIED:20220629T155452Z
UID:10002182-1623628800-1623715200@sic.edu
SUMMARY:Softball All Skills Summer Camp (Ages 5-18)
DESCRIPTION:Softball All Skills Summer Camp with the SIC Falcon Softball Team! \nWHEN: June 14-15 (1st day defense\, 2nd day offense) \nWHERE: Falcon Field at SIC (Deaton Gym\, if inclement weather) \nCOST: $40 \nWHO: \n\nAges 5-10 from 9-11 am on both days\nAges 11-18 from 12-2 pm on both days\n\nWHAT TO BRING: \n\nFielding Glove\nBat\nHelmet\nWater\nBatting gloves (optional but suggested)\nFielding Facemask (optional but suggested)\n\nCONTACT: Head Coach Maggie Calcaterra – (618)322-6012 or m.calcaterra@sic.edu
URL:https://sic.edu/event/softball-all-skills-summer-camp-ages-5-18/
LOCATION:Falcon Field\, 3575 College Rd.\, Harrisburg\, IL\, 62946
CATEGORIES:Athletics & Competitive Teams,Children's Activities
END:VEVENT
END:VCALENDAR